Workbook

Sheet Beer Tankers
A1: NAME | B1: DATE | C1: 501 DARTS THROWN | D1: 501 POINTS | E1: WIN? | F1: LOSS? | G1: 301 DARTS THROWN | H1: 301 POINTS | I1: WIN? | J1: LOSS? | K1: TOTAL DARTS THROWN | L1: TOTAL POINTS | M1: 501 AVERAGE | N1: 301 AVERAGE | O1: MATCH AVERAGE | P1: WEEKLY AVERAGE | Q1: RAW HANDICAP
A2: Mike Loyd
B3: Beginning Avg | C3: =SUM(D3/11.31) -> 44.297082 | D3: 501 | K3: =C3 -> 44.297082 | L3: =SUM(D3+H3) -> 501 | M3: =SUM(D3/C3) -> 11.31 | N3: =SUM(H3/G3) -> #DIV/0! | O3: =SUM(L3/K3) -> 11.31 | P3: =SUM((D3+H3)/(C3+G3)) -> 11.31 | Q3: =SUM(L3/K3) -> 11.31
B4: 46282 | K4: =SUM(C4+G4) -> 0 | L4: =SUM(D4+H4) -> 0 | M4: =SUM(D4/C4) -> #DIV/0! | N4: =SUM(H4/G4) -> #DIV/0! | O4: =SUM(L4/K4) -> #DIV/0! | P4: =SUM((D4+H4)/(C4+G4)) -> #DIV/0! | Q4: =SUM((L3+L4)/(K3+K4)) -> 11.31
B5: =SUM(B4+7) -> 46289 | C5: 42 | D5: 521 | E5: X | G5: 27 | H5: 12 | J5: X | K5: =SUM(C5+G5) -> 69 | L5: =SUM(D5+H5) -> 533 | M5: =SUM(D5/C5) -> 12.404762 | N5: =SUM(H5/G5) -> 0.44444444 | O5: =SUM(L5/K5) -> 7.7246377 | P5: =SUM((D4+D5+H4+H5)/(C4+C5+G4+G5)) -> 7.7246377 | Q5: =SUM((L3+L4+L5)/(K3+K4+K5)) -> 9.1264486
B6: =SUM(B5+7) -> 46296 | C6: 40 | D6: 501 | E6: X | G6: 29 | H6: 337 | I6: X | K6: =SUM(C6+G6) -> 69 | L6: =SUM(D6+H6) -> 838 | M6: =SUM(D6/C6) -> 12.525 | N6: =SUM(H6/G6) -> 11.62069 | O6: =SUM(L6/K6) -> 12.144928 | P6: =SUM((D4+D5+D6+H4+H5+H6)/(C4+C5+C6+G4+G5+G6)) -> 9.9347826 | Q6: =SUM((L3+L4+L5+L6)/(K3+K4+K5+K6)) -> 10.268952
B7: =SUM(B6+7) -> 46303 | C7: 27 | D7: 279 | F7: X | G7: 29 | H7: 349 | I7: X | K7: =SUM(C7+G7) -> 56 | L7: =SUM(D7+H7) -> 628 | M7: =SUM(D7/C7) -> 10.333333 | N7: =SUM(H7/G7) -> 12.034483 | O7: =SUM(L7/K7) -> 11.214286 | P7: =SUM((D4+D5+D6+D7+H4+H5+H6+H7)/(C4+C5+C6+C7+G4+G5+G6+G7)) -> 10.304124 | Q7: =SUM((L3+L4+L5+L6+L7)/(K3+K4+K5+K6+K7)) -> 10.491106
B8: =SUM(B7+7) -> 46310 | C8: 53 | D8: 501 | E8: X | G8: 31 | H8: 301 | I8: X | K8: =SUM(C8+G8) -> 84 | L8: =SUM(D8+H8) -> 802 | M8: =SUM(D8/C8) -> 9.4528302 | N8: =SUM(H8/G8) -> 9.7096774 | O8: =SUM(L8/K8) -> 9.547619 | P8: =SUM((D4+D5+D6+D7+D8+H4+H5+H6+H7+H8)/(C4+C5+C6+C7+C8+G4+G5+G6+G7+G8)) -> 10.07554 | Q8: =SUM((L3+L4+L5+L6+L7+L8)/(K3+K4+K5+K6+K7+K8)) -> 10.245206
B9: =SUM(B8+7) -> 46317 | C9: 24 | D9: 386 | F9: X | G9: 38 | H9: 301 | I9: X | K9: =SUM(C9+G9) -> 62 | L9: =SUM(D9+H9) -> 687 | M9: =SUM(D9/C9) -> 16.083333 | N9: =SUM(H9/G9) -> 7.9210526 | O9: =SUM(L9/K9) -> 11.080645 | P9: =SUM((D4+D5+D6+D7+D8+D9+H4+H5+H6+H7+H8+H9)/(C4+C5+C6+C7+C8+C9+G4+G5+G6+G7+G8+G9)) -> 10.258824 | Q9: =SUM((L3+L4+L5+L6+L7+L8+L9)/(K3+K4+K5+K6+K7+K8+K9)) -> 10.37999
B10: =SUM(B9+7) -> 46324 | K10: =SUM(C10+G10) -> 0 | L10: =SUM(D10+H10) -> 0 | M10: =SUM(D10/C10) -> #DIV/0! | N10: =SUM(H10/G10) -> #DIV/0! | O10: =SUM(L10/K10) -> #DIV/0! | P10: =SUM((D4+D5+D6+D7+D8+D9+D10+H4+H5+H6+H7+H8+H9+H10)/(C4+C5+C6+C7+C8+C9+C10+G4+G5+G6+G7+G8+G9+G10)) -> 10.258824 | Q10: =SUM((L3+L4+L5+L6+L7+L8+L9+L10)/(K3+K4+K5+K6+K7+K8+K9+K10)) -> 10.37999
B11: =SUM(B10+7) -> 46331 | K11: =SUM(C11+G11) -> 0 | L11: =SUM(D11+H11) -> 0 | M11: =SUM(D11/C11) -> #DIV/0! | N11: =SUM(H11/G11) -> #DIV/0! | O11: =SUM(L11/K11) -> #DIV/0! | P11: =SUM((D4+D5+D6+D7+D8+D9+D10+D11+H4+H5+H6+H7+H8+H9+H10+H11)/(C4+C5+C6+C7+C8+C9+C10+C11+G4+G5+G6+G7+G8+G9+G10+G11)) -> 10.258824 | Q11: =SUM((L3+L4+L5+L6+L7+L8+L9+L10+L11)/(K3+K4+K5+K6+K7+K8+K9+K10+K11)) -> 10.37999
B12: =SUM(B11+7) -> 46338 | K12: =SUM(C12+G12) -> 0 | L12: =SUM(D12+H12) -> 0 | M12: =SUM(D12/C12) -> #DIV/0! | N12: =SUM(H12/G12) -> #DIV/0! | O12: =SUM(L12/K12) -> #DIV/0! | P12: =SUM((D4+D5+D6+D7+D8+D9+D10+D11+D12+H4+H5+H6+H7+H8+H9+H10+H11+H12)/(C4+C5+C6+C7+C8+C9+C10+C11+C12+G4+G5+G6+G7+G8+G9+G10+G11+G12)) -> 10.258824 | Q12: =SUM((L3+L4+L5+L6+L7+L8+L9+L10+L11+L12)/(K3+K4+K5+K6+K7+K8+K9+K10+K11+K12)) -> 10.37999
B13: =SUM(B12+7) -> 46345 | K13: =SUM(C13+G13) -> 0 | L13: =SUM(D13+H13) -> 0 | M13: =SUM(D13/C13) -> #DIV/0! | N13: =SUM(H13/G13) -> #DIV/0! | O13: =SUM(L13/K13) -> #DIV/0! | P13: =SUM((D4+D5+D6+D7+D8+D9+D10+D11+D12+D13+H4+H5+H6+H7+H8+H9+H10+H11+H12+H13)/(C4+C5+C6+C7+C8+C9+C10+C11+C12+C13+G4+G5+G6+G7+G8+G9+G10+G11+G12+G13)) -> 10.258824 | Q13: =SUM((L3+L4+L5+L6+L7+L8+L9+L10+L11+L12+L13)/(K3+K4+K5+K6+K7+K8+K9+K10+K11+K12+K13)) -> 10.37999
B14: =SUM(B13+7) -> 46352 | K14: =SUM(C14+G14) -> 0 | L14: =SUM(D14+H14) -> 0 | M14: =SUM(D14/C14) -> #DIV/0! | N14: =SUM(H14/G14) -> #DIV/0! | O14: =SUM(L14/K14) -> #DIV/0! | P14: =SUM((D4+D5+D6+D7+D8+D9+D10+D11+D12+D13+D14+H4+H5+H6+H7+H8+H9+H10+H11+H12+H13+H14)/(C4+C5+C6+C7+C8+C9+C10+C11+C12+C13+C14+G4+G5+G6+G7+G8+G9+G10+G11+G12+G13+G14)) -> 10.258824 | Q14: =SUM((L3+L4+L5+L6+L7+L8+L9+L10+L11+L12+L13+L14)/(K3+K4+K5+K6+K7+K8+K9+K10+K11+K12+K13+K14)) -> 10.37999
B15: =SUM(B14+7) -> 46359 | K15: =SUM(C15+G15) -> 0 | L15: =SUM(D15+H15) -> 0 | M15: =SUM(D15/C15) -> #DIV/0! | N15: =SUM(H15/G15) -> #DIV/0! | O15: =SUM(L15/K15) -> #DIV/0! | P15: =SUM((D4+D5+D6+D7+D8+D9+D10+D11+D12+D13+D14+D15+H4+H5+H6+H7+H8+H9+H10+H11+H12+H13+H14+H15)/(C4+C5+C6+C7+C8+C9+C10+C11+C12+C13+C14+C15+G4+G5+G6+G7+G8+G9+G10+G11+G12+G13+G14+G15)) -> 10.258824 | Q15: =SUM((L3+L4+L5+L6+L7+L8+L9+L10+L11+L12+L13+L14+L15)/(K3+K4+K5+K6+K7+K8+K9+K10+K11+K12+K13+K14+K15)) -> 10.37999
B16: =SUM(B15+7) -> 46366 | K16: =SUM(C16+G16) -> 0 | L16: =SUM(D16+H16) -> 0 | M16: =SUM(D16/C16) -> #DIV/0! | N16: =SUM(H16/G16) -> #DIV/0! | O16: =SUM(L16/K16) -> #DIV/0! | P16: =SUM((D4+D5+D6+D7+D8+D9+D10+D11+D12+D13+D14+D15+D16+H4+H5+H6+H7+H8+H9+H10+H11+H12+H13+H14+H15+H16)/(C4+C5+C6+C7+C8+C9+C10+C11+C12+C13+C14+C15+C16+G4+G5+G6+G7+G8+G9+G10+G11+G12+G13+G14+G15+G16)) -> 10.258824 | Q16: =SUM((L3+L4+L5+L6+L7+L8+L9+L10+L11+L12+L13+L14+L15+L16)/(K3+K4+K5+K6+K7+K8+K9+K10+K11+K12+K13+K14+K15+K16)) -> 10.37999
B17: =SUM(B16+7) -> 46373 | K17: =SUM(C17+G17) -> 0 | L17: =SUM(D17+H17) -> 0 | M17: =SUM(D17/C17) -> #DIV/0! | N17: =SUM(H17/G17) -> #DIV/0! | O17: =SUM(L17/K17) -> #DIV/0! | P17: =SUM((D4+D5+D6+D7+D8+D9+D10+D11+D12+D13+D14+D15+D16+D17+H4+H5+H6+H7+H8+H9+H10+H11+H12+H13+H14+H15+H16+H17)/(C4+C5+C6+C7+C8+C9+C10+C11+C12+C13+C14+C15+C16+C17+G4+G5+G6+G7+G8+G9+G10+G11+G12+G13+G14+G15+G16+G17)) -> 10.258824 | Q17: =SUM((L3+L4+L5+L6+L7+L8+L9+L10+L11+L12+L13+L14+L15+L16+L17)/(K3+K4+K5+K6+K7+K8+K9+K10+K11+K12+K13+K14+K15+K16+K17)) -> 10.37999
B18: =SUM(B17+7) -> 46380 | K18: =SUM(C18+G18) -> 0 | L18: =SUM(D18+H18) -> 0 | M18: =SUM(D18/C18) -> #DIV/0! | N18: =SUM(H18/G18) -> #DIV/0! | O18: =SUM(L18/K18) -> #DIV/0! | P18: =SUM((D4+D5+D6+D7+D8+D9+D10+D11+D12+D13+D14+D15+D16+D17+D18+H4+H5+H6+H7+H8+H9+H10+H11+H12+H13+H14+H15+H16+H17+H18)/(C4+C5+C6+C7+C8+C9+C10+C11+C12+C13+C14+C15+C16+C17+C18+G4+G5+G6+G7+G8+G9+G10+G11+G12+G13+G14+G15+G16+G17+G18)) -> 10.258824 | Q18: =SUM((L3+L4+L5+L6+L7+L8+L9+L10+L11+L12+L13+L14+L15+L16+L17+L18)/(K3+K4+K5+K6+K7+K8+K9+K10+K11+K12+K13+K14+K15+K16+K17+K18)) -> 10.37999
B19: =SUM(B18+7) -> 46387 | K19: =SUM(C19+G19) -> 0 | L19: =SUM(D19+H19) -> 0 | M19: =SUM(D19/C19) -> #DIV/0! | N19: =SUM(H19/G19) -> #DIV/0! | O19: =SUM(L19/K19) -> #DIV/0! | P19: =SUM((D4+D5+D6+D7+D8+D9+D10+D11+D12+D13+D14+D15+D16+D17+D18+D19+H4+H5+H6+H7+H8+H9+H10+H11+H12+H13+H14+H15+H16+H17+H18+H19)/(C4+C5+C6+C7+C8+C9+C10+C11+C12+C13+C14+C15+C16+C17+C18+C19+G4+G5+G6+G7+G8+G9+G10+G11+G12+G13+G14+G15+G16+G17+G18+G19)) -> 10.258824 | Q19: =SUM((L3+L4+L5+L6+L7+L8+L9+L10+L11+L12+L13+L14+L15+L16+L17+L18+L19)/(K3+K4+K5+K6+K7+K8+K9+K10+K11+K12+K13+K14+K15+K16+K17+K18+K19)) -> 10.37999
B20: =SUM(B19+7) -> 46394 | K20: =SUM(C20+G20) -> 0 | L20: =SUM(D20+H20) -> 0 | M20: =SUM(D20/C20) -> #DIV/0! | N20: =SUM(H20/G20) -> #DIV/0! | O20: =SUM(L20/K20) -> #DIV/0! | P20: =SUM((D4+D5+D6+D7+D8+D9+D10+D11+D12+D13+D14+D15+D16+D17+D18+D19+D20+H4+H5+H6+H7+H8+H9+H10+H11+H12+H13+H14+H15+H16+H17+H18+H19+H20)/(C4+C5+C6+C7+C8+C9+C10+C11+C12+C13+C14+C15+C16+C17+C18+C19+C20+G4+G5+G6+G7+G8+G9+G10+G11+G12+G13+G14+G15+G16+G17+G18+G19+G20)) -> 10.258824 | Q20: =SUM((L3+L4+L5+L6+L7+L8+L9+L10+L11+L12+L13+L14+L15+L16+L17+L18+L19+L20)/(K3+K4+K5+K6+K7+K8+K9+K10+K11+K12+K13+K14+K15+K16+K17+K18+K19+K20)) -> 10.37999
B21: =SUM(B20+7) -> 46401 | K21: =SUM(C21+G21) -> 0 | L21: =SUM(D21+H21) -> 0 | M21: =SUM(D21/C21) -> #DIV/0! | N21: =SUM(H21/G21) -> #DIV/0! | O21: =SUM(L21/K21) -> #DIV/0! | P21: =SUM((D4+D5+D6+D7+D8+D9+D10+D11+D12+D13+D14+D15+D16+D17+D18+D19+D20+D21+H4+H5+H6+H7+H8+H9+H10+H11+H12+H13+H14+H15+H16+H17+H18+H19+H20+H21)/(C4+C5+C6+C7+C8+C9+C10+C11+C12+C13+C14+C15+C16+C17+C18+C19+C20+C21+G4+G5+G6+G7+G8+G9+G10+G11+G12+G13+G14+G15+G16+G17+G18+G19+G20+G21)) -> 10.258824 | Q21: =SUM((L3+L4+L5+L6+L7+L8+L9+L10+L11+L12+L13+L14+L15+L16+L17+L18+L19+L20+L21)/(K3+K4+K5+K6+K7+K8+K9+K10+K11+K12+K13+K14+K15+K16+K17+K18+K19+K20+K21)) -> 10.37999
B22: =SUM(B21+7) -> 46408 | K22: =SUM(C22+G22) -> 0 | L22: =SUM(D22+H22) -> 0 | M22: =SUM(D22/C22) -> #DIV/0! | N22: =SUM(H22/G22) -> #DIV/0! | O22: =SUM(L22/K22) -> #DIV/0! | P22: =SUM((D4+D5+D6+D7+D8+D9+D10+D11+D12+D13+D14+D15+D16+D17+D18+D19+D20+D21+D22+H4+H5+H6+H7+H8+H9+H10+H11+H12+H13+H14+H15+H16+H17+H18+H19+H20+H21+H22)/(C4+C5+C6+C7+C8+C9+C10+C11+C12+C13+C14+C15+C16+C17+C18+C19+C20+C21+C22+G4+G5+G6+G7+G8+G9+G10+G11+G12+G13+G14+G15+G16+G17+G18+G19+G20+G21+G22)) -> 10.258824 | Q22: =SUM((L3+L4+L5+L6+L7+L8+L9+L10+L11+L12+L13+L14+L15+L16+L17+L18+L19+L20+L21+L22)/(K3+K4+K5+K6+K7+K8+K9+K10+K11+K12+K13+K14+K15+K16+K17+K18+K19+K20+K21+K22)) -> 10.37999
B23: =SUM(B22+7) -> 46415 | K23: =SUM(C23+G23) -> 0 | L23: =SUM(D23+H23) -> 0 | M23: =SUM(D23/C23) -> #DIV/0! | N23: =SUM(H23/G23) -> #DIV/0! | O23: =SUM(L23/K23) -> #DIV/0! | P23: =SUM((D4+D5+D6+D7+D8+D9+D10+D11+D12+D13+D14+D15+D16+D17+D18+D19+D20+D21+D22+D23+H4+H5+H6+H7+H8+H9+H10+H11+H12+H13+H14+H15+H16+H17+H18+H19+H20+H21+H22+H23)/(C4+C5+C6+C7+C8+C9+C10+C11+C12+C13+C14+C15+C16+C17+C18+C19+C20+C21+C22+C23+G4+G5+G6+G7+G8+G9+G10+G11+G12+G13+G14+G15+G16+G17+G18+G19+G20+G21+G22+G23)) -> 10.258824 | Q23: =SUM((L3+L4+L5+L6+L7+L8+L9+L10+L11+L12+L13+L14+L15+L16+L17+L18+L19+L20+L21+L22+L23)/(K3+K4+K5+K6+K7+K8+K9+K10+K11+K12+K13+K14+K15+K16+K17+K18+K19+K20+K21+K22+K23)) -> 10.37999
K24: =SUM(C24+G24) -> 0 | L24: =SUM(D24+H24) -> 0 | M24: =SUM(D24/C24) -> #DIV/0! | N24: =SUM(H24/G24) -> #DIV/0! | O24: =SUM(L24/K24) -> #DIV/0! | P24: =SUM((D4+D5+D6+D7+D8+D9+D10+D11+D12+D13+D14+D15+D16+D17+D18+D19+D20+D21+D22+D23+D24+H4+H5+H6+H7+H8+H9+H10+H11+H12+H13+H14+H15+H16+H17+H18+H19+H20+H21+H22+H23+H24)/(C4+C5+C6+C7+C8+C9+C10+C11+C12+C13+C14+C15+C16+C17+C18+C19+C20+C21+C22+C23+C24+G4+G5+G6+G7+G8+G9+G10+G11+G12+G13+G14+G15+G16+G17+G18+G19+G20+G21+G22+G23+G24)) -> 10.258824 | Q24: =SUM((L3+L4+L5+L6+L7+L8+L9+L10+L11+L12+L13+L14+L15+L16+L17+L18+L19+L20+L21+L22+L23+L24)/(K3+K4+K5+K6+K7+K8+K9+K10+K11+K12+K13+K14+K15+K16+K17+K18+K19+K20+K21+K22+K23+K24)) -> 10.37999
K25: =SUM(C25+G25) -> 0 | L25: =SUM(D25+H25) -> 0 | M25: =SUM(D25/C25) -> #DIV/0! | N25: =SUM(H25/G25) -> #DIV/0! | O25: =SUM(L25/K25) -> #DIV/0! | P25: =SUM((D4+D5+D6+D7+D8+D9+D10+D11+D12+D13+D14+D15+D16+D17+D18+D19+D20+D21+D22+D23+D24+D25+H4+H5+H6+H7+H8+H9+H10+H11+H12+H13+H14+H15+H16+H17+H18+H19+H20+H21+H22+H23+H24+H25)/(C4+C5+C6+C7+C8+C9+C10+C11+C12+C13+C14+C15+C16+C17+C18+C19+C20+C21+C22+C23+C24+C25+G4+G5+G6+G7+G8+G9+G10+G11+G12+G13+G14+G15+G16+G17+G18+G19+G20+G21+G22+G23+G24+G25)) -> 10.258824 | Q25: =SUM((L3+L4+L5+L6+L7+L8+L9+L10+L11+L12+L13+L14+L15+L16+L17+L18+L19+L20+L21+L22+L23+L24+L25)/(K3+K4+K5+K6+K7+K8+K9+K10+K11+K12+K13+K14+K15+K16+K17+K18+K19+K20+K21+K22+K23+K24+K25)) -> 10.37999
K26: =SUM(C26+G26) -> 0 | L26: =SUM(D26+H26) -> 0 | M26: =SUM(D26/C26) -> #DIV/0! | N26: =SUM(H26/G26) -> #DIV/0! | O26: =SUM(L26/K26) -> #DIV/0! | P26: =SUM((D4+D5+D6+D7+D8+D9+D10+D11+D12+D13+D14+D15+D16+D17+D18+D19+D20+D21+D22+D23+D24+D25+D26+H4+H5+H6+H7+H8+H9+H10+H11+H12+H13+H14+H15+H16+H17+H18+H19+H20+H21+H22+H23+H24+H25+H26)/(C4+C5+C6+C7+C8+C9+C10+C11+C12+C13+C14+C15+C16+C17+C18+C19+C20+C21+C22+C23+C24+C25+C26+G4+G5+G6+G7+G8+G9+G10+G11+G12+G13+G14+G15+G16+G17+G18+G19+G20+G21+G22+G23+G24+G25+G26)) -> 10.258824 | Q26: =SUM((L3+L4+L5+L6+L7+L8+L9+L10+L11+L12+L13+L14+L15+L16+L17+L18+L19+L20+L21+L22+L23+L24+L25+L26)/(K3+K4+K5+K6+K7+K8+K9+K10+K11+K12+K13+K14+K15+K16+K17+K18+K19+K20+K21+K22+K23+K24+K25+K26)) -> 10.37999
K27: =SUM(C27+G27) -> 0 | L27: =SUM(D27+H27) -> 0 | M27: =SUM(D27/C27) -> #DIV/0! | N27: =SUM(H27/G27) -> #DIV/0! | O27: =SUM(L27/K27) -> #DIV/0! | P27: =SUM((D4+D5+D6+D7+D8+D9+D10+D11+D12+D13+D14+D15+D16+D17+D18+D19+D20+D21+D22+D23+D24+D25+D26+D27+H4+H5+H6+H7+H8+H9+H10+H11+H12+H13+H14+H15+H16+H17+H18+H19+H20+H21+H22+H23+H24+H25+H26+H27)/(C4+C5+C6+C7+C8+C9+C10+C11+C12+C13+C14+C15+C16+C17+C18+C19+C20+C21+C22+C23+C24+C25+C26+C27+G4+G5+G6+G7+G8+G9+G10+G11+G12+G13+G14+G15+G16+G17+G18+G19+G20+G21+G22+G23+G24+G25+G26+G27)) -> 10.258824 | Q27: =SUM((L3+L4+L5+L6+L7+L8+L9+L10+L11+L12+L13+L14+L15+L16+L17+L18+L19+L20+L21+L22+L23+L24+L25+L26+L27)/(K3+K4+K5+K6+K7+K8+K9+K10+K11+K12+K13+K14+K15+K16+K17+K18+K19+K20+K21+K22+K23+K24+K25+K26+K27)) -> 10.37999
K28: =SUM(C28+G28) -> 0 | L28: =SUM(D28+H28) -> 0 | M28: =SUM(D28/C28) -> #DIV/0! | N28: =SUM(H28/G28) -> #DIV/0! | O28: =SUM(L28/K28) -> #DIV/0! | P28: =SUM((D4+D5+D6+D7+D8+D9+D10+D11+D12+D13+D14+D15+D16+D17+D18+D19+D20+D21+D22+D23+D24+D25+D26+D27+D28+H4+H5+H6+H7+H8+H9+H10+H11+H12+H13+H14+H15+H16+H17+H18+H19+H20+H21+H22+H23+H24+H25+H26+H27+H28)/(C4+C5+C6+C7+C8+C9+C10+C11+C12+C13+C14+C15+C16+C17+C18+C19+C20+C21+C22+C23+C24+C25+C26+C27+C28+G4+G5+G6+G7+G8+G9+G10+G11+G12+G13+G14+G15+G16+G17+G18+G19+G20+G21+G22+G23+G24+G25+G26+G27+G28)) -> 10.258824 | Q28: =SUM((L3+L4+L5+L6+L7+L8+L9+L10+L11+L12+L13+L14+L15+L16+L17+L18+L19+L20+L21+L22+L23+L24+L25+L26+L27+L28)/(K3+K4+K5+K6+K7+K8+K9+K10+K11+K12+K13+K14+K15+K16+K17+K18+K19+K20+K21+K22+K23+K24+K25+K26+K27+K28)) -> 10.37999
K29: =SUM(C29+G29) -> 0 | L29: =SUM(D29+H29) -> 0 | M29: =SUM(D29/C29) -> #DIV/0! | N29: =SUM(H29/G29) -> #DIV/0! | O29: =SUM(L29/K29) -> #DIV/0! | P29: =SUM((D4+D5+D6+D7+D8+D9+D10+D11+D12+D13+D14+D15+D16+D17+D18+D19+D20+D21+D22+D23+D24+D25+D26+D27+D28+D29+H4+H5+H6+H7+H8+H9+H10+H11+H12+H13+H14+H15+H16+H17+H18+H19+H20+H21+H22+H23+H24+H25+H26+H27+H28+H29)/(C4+C5+C6+C7+C8+C9+C10+C11+C12+C13+C14+C15+C16+C17+C18+C19+C20+C21+C22+C23+C24+C25+C26+C27+C28+C29+G4+G5+G6+G7+G8+G9+G10+G11+G12+G13+G14+G15+G16+G17+G18+G19+G20+G21+G22+G23+G24+G25+G26+G27+G28+G29)) -> 10.258824 | Q29: =SUM((L3+L4+L5+L6+L7+L8+L9+L10+L11+L12+L13+L14+L15+L16+L17+L18+L19+L20+L21+L22+L23+L24+L25+L26+L27+L28+L29)/(K3+K4+K5+K6+K7+K8+K9+K10+K11+K12+K13+K14+K15+K16+K17+K18+K19+K20+K21+K22+K23+K24+K25+K26+K27+K28+K29)) -> 10.37999
K30: =SUM(C30+G30) -> 0 | L30: =SUM(D30+H30) -> 0 | M30: =SUM(D30/C30) -> #DIV/0! | N30: =SUM(H30/G30) -> #DIV/0! | O30: =SUM(L30/K30) -> #DIV/0! | P30: =SUM((D4+D5+D6+D7+D8+D9+D10+D11+D12+D13+D14+D15+D16+D17+D18+D19+D20+D21+D22+D23+D24+D25+D26+D27+D28+D29+D30+H4+H5+H6+H7+H8+H9+H10+H11+H12+H13+H14+H15+H16+H17+H18+H19+H20+H21+H22+H23+H24+H25+H26+H27+H28+H29+H30)/(C4+C5+C6+C7+C8+C9+C10+C11+C12+C13+C14+C15+C16+C17+C18+C19+C20+C21+C22+C23+C24+C25+C26+C27+C28+C29+C30+G4+G5+G6+G7+G8+G9+G10+G11+G12+G13+G14+G15+G16+G17+G18+G19+G20+G21+G22+G23+G24+G25+G26+G27+G28+G29+G30)) -> 10.258824 | Q30: =SUM((L3+L4+L5+L6+L7+L8+L9+L10+L11+L12+L13+L14+L15+L16+L17+L18+L19+L20+L21+L22+L23+L24+L25+L26+L27+L28+L29+L30)/(K3+K4+K5+K6+K7+K8+K9+K10+K11+K12+K13+K14+K15+K16+K17+K18+K19+K20+K21+K22+K23+K24+K25+K26+K27+K28+K29+K30)) -> 10.37999
A33: LEAGUE AVERAGE | C33: =Q30 -> 10.37999 | E33: =COUNTA(E4:E30) -> 3 | F33: =COUNTA(F4:F30) -> 2 | I33: =COUNTA(I4:I30) -> 4 | J33: =COUNTA(J4:J30) -> 1 | K33: =SUM(K3:K30) -> 384.29708 | L33: =SUM(L3:L30) -> 3989
A35: Jessica Burwell
B36: Beginning Avg | C36: =SUM(D36/8) -> 62.625 | D36: 501 | K36: =C36 -> 62.625 | L36: =SUM(D36+H36) -> 501 | M36: =SUM(D36/C36) -> 8 | N36: =SUM(H36/G36) -> #DIV/0! | O36: =SUM(L36/K36) -> 8 | P36: =SUM((D36+H36)/(C36+G36)) -> 8 | Q36: =SUM(L36/K36) -> 8
B37: 46282 | K37: =SUM(C37+G37) -> 0 | L37: =SUM(D37+H37) -> 0 | M37: =SUM(D37/C37) -> #DIV/0! | N37: =SUM(H37/G37) -> #DIV/0! | O37: =SUM(L37/K37) -> #DIV/0! | P37: =SUM((D37+H37)/(C37+G37)) -> #DIV/0! | Q37: =SUM((L36+L37)/(K36+K37)) -> 8
B38: =SUM(B37+7) -> 46289 | C38: 72 | D38: 501 | E38: X | G38: 24 | H38: 222 | J38: X | K38: =SUM(C38+G38) -> 96 | L38: =SUM(D38+H38) -> 723 | M38: =SUM(D38/C38) -> 6.9583333 | N38: =SUM(H38/G38) -> 9.25 | O38: =SUM(L38/K38) -> 7.53125 | P38: =SUM((D37+D38+H37+H38)/(C37+C38+G37+G38)) -> 7.53125 | Q38: =SUM((L36+L37+L38)/(K36+K37+K38)) -> 7.7163121
B39: =SUM(B38+7) -> 46296 | C39: 66 | D39: 499 | F39: X | G39: 34 | H39: 301 | I39: X | K39: =SUM(C39+G39) -> 100 | L39: =SUM(D39+H39) -> 800 | M39: =SUM(D39/C39) -> 7.5606061 | N39: =SUM(H39/G39) -> 8.8529412 | O39: =SUM(L39/K39) -> 8 | P39: =SUM((D37+D38+D39+H37+H38+H39)/(C37+C38+C39+G37+G38+G39)) -> 7.7704082 | Q39: =SUM((L36+L37+L38+L39)/(K36+K37+K38+K39)) -> 7.8260029
B40: =SUM(B39+7) -> 46303 | C40: 42 | D40: 411 | F40: X | G40: 57 | H40: 299 | J40: X | K40: =SUM(C40+G40) -> 99 | L40: =SUM(D40+H40) -> 710 | M40: =SUM(D40/C40) -> 9.7857143 | N40: =SUM(H40/G40) -> 5.245614 | O40: =SUM(L40/K40) -> 7.1717172 | P40: =SUM((D37+D38+D39+D40+H37+H38+H39+H40)/(C37+C38+C39+C40+G37+G38+G39+G40)) -> 7.5694915 | Q40: =SUM((L36+L37+L38+L39+L40)/(K36+K37+K38+K39+K40)) -> 7.6448794
B41: =SUM(B40+7) -> 46310 | C41: 81 | D41: 497 | F41: X | G41: 66 | H41: 298 | J41: X | K41: =SUM(C41+G41) -> 147 | L41: =SUM(D41+H41) -> 795 | M41: =SUM(D41/C41) -> 6.1358025 | N41: =SUM(H41/G41) -> 4.5151515 | O41: =SUM(L41/K41) -> 5.4081633 | P41: =SUM((D37+D38+D39+D40+D41+H37+H38+H39+H40+H41)/(C37+C38+C39+C40+C41+G37+G38+G39+G40+G41)) -> 6.8506787 | Q41: =SUM((L36+L37+L38+L39+L40+L41)/(K36+K37+K38+K39+K40+K41)) -> 6.9933119
B42: =SUM(B41+7) -> 46317 | K42: =SUM(C42+G42) -> 0 | L42: =SUM(D42+H42) -> 0 | M42: =SUM(D42/C42) -> #DIV/0! | N42: =SUM(H42/G42) -> #DIV/0! | O42: =SUM(L42/K42) -> #DIV/0! | P42: =SUM((D37+D38+D39+D40+D41+D42+H37+H38+H39+H40+H41+H42)/(C37+C38+C39+C40+C41+C42+G37+G38+G39+G40+G41+G42)) -> 6.8506787 | Q42: =SUM((L36+L37+L38+L39+L40+L41+L42)/(K36+K37+K38+K39+K40+K41+K42)) -> 6.9933119
B43: =SUM(B42+7) -> 46324 | K43: =SUM(C43+G43) -> 0 | L43: =SUM(D43+H43) -> 0 | M43: =SUM(D43/C43) -> #DIV/0! | N43: =SUM(H43/G43) -> #DIV/0! | O43: =SUM(L43/K43) -> #DIV/0! | P43: =SUM((D37+D38+D39+D40+D41+D42+D43+H37+H38+H39+H40+H41+H42+H43)/(C37+C38+C39+C40+C41+C42+C43+G37+G38+G39+G40+G41+G42+G43)) -> 6.8506787 | Q43: =SUM((L36+L37+L38+L39+L40+L41+L42+L43)/(K36+K37+K38+K39+K40+K41+K42+K43)) -> 6.9933119
B44: =SUM(B43+7) -> 46331 | K44: =SUM(C44+G44) -> 0 | L44: =SUM(D44+H44) -> 0 | M44: =SUM(D44/C44) -> #DIV/0! | N44: =SUM(H44/G44) -> #DIV/0! | O44: =SUM(L44/K44) -> #DIV/0! | P44: =SUM((D37+D38+D39+D40+D41+D42+D43+D44+H37+H38+H39+H40+H41+H42+H43+H44)/(C37+C38+C39+C40+C41+C42+C43+C44+G37+G38+G39+G40+G41+G42+G43+G44)) -> 6.8506787 | Q44: =SUM((L36+L37+L38+L39+L40+L41+L42+L43+L44)/(K36+K37+K38+K39+K40+K41+K42+K43+K44)) -> 6.9933119
B45: =SUM(B44+7) -> 46338 | K45: =SUM(C45+G45) -> 0 | L45: =SUM(D45+H45) -> 0 | M45: =SUM(D45/C45) -> #DIV/0! | N45: =SUM(H45/G45) -> #DIV/0! | O45: =SUM(L45/K45) -> #DIV/0! | P45: =SUM((D37+D38+D39+D40+D41+D42+D43+D44+D45+H37+H38+H39+H40+H41+H42+H43+H44+H45)/(C37+C38+C39+C40+C41+C42+C43+C44+C45+G37+G38+G39+G40+G41+G42+G43+G44+G45)) -> 6.8506787 | Q45: =SUM((L36+L37+L38+L39+L40+L41+L42+L43+L44+L45)/(K36+K37+K38+K39+K40+K41+K42+K43+K44+K45)) -> 6.9933119
B46: =SUM(B45+7) -> 46345 | K46: =SUM(C46+G46) -> 0 | L46: =SUM(D46+H46) -> 0 | M46: =SUM(D46/C46) -> #DIV/0! | N46: =SUM(H46/G46) -> #DIV/0! | O46: =SUM(L46/K46) -> #DIV/0! | P46: =SUM((D37+D38+D39+D40+D41+D42+D43+D44+D45+D46+H37+H38+H39+H40+H41+H42+H43+H44+H45+H46)/(C37+C38+C39+C40+C41+C42+C43+C44+C45+C46+G37+G38+G39+G40+G41+G42+G43+G44+G45+G46)) -> 6.8506787 | Q46: =SUM((L36+L37+L38+L39+L40+L41+L42+L43+L44+L45+L46)/(K36+K37+K38+K39+K40+K41+K42+K43+K44+K45+K46)) -> 6.9933119
B47: =SUM(B46+7) -> 46352 | K47: =SUM(C47+G47) -> 0 | L47: =SUM(D47+H47) -> 0 | M47: =SUM(D47/C47) -> #DIV/0! | N47: =SUM(H47/G47) -> #DIV/0! | O47: =SUM(L47/K47) -> #DIV/0! | P47: =SUM((D37+D38+D39+D40+D41+D42+D43+D44+D45+D46+D47+H37+H38+H39+H40+H41+H42+H43+H44+H45+H46+H47)/(C37+C38+C39+C40+C41+C42+C43+C44+C45+C46+C47+G37+G38+G39+G40+G41+G42+G43+G44+G45+G46+G47)) -> 6.8506787 | Q47: =SUM((L36+L37+L38+L39+L40+L41+L42+L43+L44+L45+L46+L47)/(K36+K37+K38+K39+K40+K41+K42+K43+K44+K45+K46+K47)) -> 6.9933119
B48: =SUM(B47+7) -> 46359 | K48: =SUM(C48+G48) -> 0 | L48: =SUM(D48+H48) -> 0 | M48: =SUM(D48/C48) -> #DIV/0! | N48: =SUM(H48/G48) -> #DIV/0! | O48: =SUM(L48/K48) -> #DIV/0! | P48: =SUM((D37+D38+D39+D40+D41+D42+D43+D44+D45+D46+D47+D48+H37+H38+H39+H40+H41+H42+H43+H44+H45+H46+H47+H48)/(C37+C38+C39+C40+C41+C42+C43+C44+C45+C46+C47+C48+G37+G38+G39+G40+G41+G42+G43+G44+G45+G46+G47+G48)) -> 6.8506787 | Q48: =SUM((L36+L37+L38+L39+L40+L41+L42+L43+L44+L45+L46+L47+L48)/(K36+K37+K38+K39+K40+K41+K42+K43+K44+K45+K46+K47+K48)) -> 6.9933119
B49: =SUM(B48+7) -> 46366 | K49: =SUM(C49+G49) -> 0 | L49: =SUM(D49+H49) -> 0 | M49: =SUM(D49/C49) -> #DIV/0! | N49: =SUM(H49/G49) -> #DIV/0! | O49: =SUM(L49/K49) -> #DIV/0! | P49: =SUM((D37+D38+D39+D40+D41+D42+D43+D44+D45+D46+D47+D48+D49+H37+H38+H39+H40+H41+H42+H43+H44+H45+H46+H47+H48+H49)/(C37+C38+C39+C40+C41+C42+C43+C44+C45+C46+C47+C48+C49+G37+G38+G39+G40+G41+G42+G43+G44+G45+G46+G47+G48+G49)) -> 6.8506787 | Q49: =SUM((L36+L37+L38+L39+L40+L41+L42+L43+L44+L45+L46+L47+L48+L49)/(K36+K37+K38+K39+K40+K41+K42+K43+K44+K45+K46+K47+K48+K49)) -> 6.9933119
B50: =SUM(B49+7) -> 46373 | K50: =SUM(C50+G50) -> 0 | L50: =SUM(D50+H50) -> 0 | M50: =SUM(D50/C50) -> #DIV/0! | N50: =SUM(H50/G50) -> #DIV/0! | O50: =SUM(L50/K50) -> #DIV/0! | P50: =SUM((D37+D38+D39+D40+D41+D42+D43+D44+D45+D46+D47+D48+D49+D50+H37+H38+H39+H40+H41+H42+H43+H44+H45+H46+H47+H48+H49+H50)/(C37+C38+C39+C40+C41+C42+C43+C44+C45+C46+C47+C48+C49+C50+G37+G38+G39+G40+G41+G42+G43+G44+G45+G46+G47+G48+G49+G50)) -> 6.8506787 | Q50: =SUM((L36+L37+L38+L39+L40+L41+L42+L43+L44+L45+L46+L47+L48+L49+L50)/(K36+K37+K38+K39+K40+K41+K42+K43+K44+K45+K46+K47+K48+K49+K50)) -> 6.9933119
B51: =SUM(B50+7) -> 46380 | K51: =SUM(C51+G51) -> 0 | L51: =SUM(D51+H51) -> 0 | M51: =SUM(D51/C51) -> #DIV/0! | N51: =SUM(H51/G51) -> #DIV/0! | O51: =SUM(L51/K51) -> #DIV/0! | P51: =SUM((D37+D38+D39+D40+D41+D42+D43+D44+D45+D46+D47+D48+D49+D50+D51+H37+H38+H39+H40+H41+H42+H43+H44+H45+H46+H47+H48+H49+H50+H51)/(C37+C38+C39+C40+C41+C42+C43+C44+C45+C46+C47+C48+C49+C50+C51+G37+G38+G39+G40+G41+G42+G43+G44+G45+G46+G47+G48+G49+G50+G51)) -> 6.8506787 | Q51: =SUM((L36+L37+L38+L39+L40+L41+L42+L43+L44+L45+L46+L47+L48+L49+L50+L51)/(K36+K37+K38+K39+K40+K41+K42+K43+K44+K45+K46+K47+K48+K49+K50+K51)) -> 6.9933119
B52: =SUM(B51+7) -> 46387 | K52: =SUM(C52+G52) -> 0 | L52: =SUM(D52+H52) -> 0 | M52: =SUM(D52/C52) -> #DIV/0! | N52: =SUM(H52/G52) -> #DIV/0! | O52: =SUM(L52/K52) -> #DIV/0! | P52: =SUM((D37+D38+D39+D40+D41+D42+D43+D44+D45+D46+D47+D48+D49+D50+D51+D52+H37+H38+H39+H40+H41+H42+H43+H44+H45+H46+H47+H48+H49+H50+H51+H52)/(C37+C38+C39+C40+C41+C42+C43+C44+C45+C46+C47+C48+C49+C50+C51+C52+G37+G38+G39+G40+G41+G42+G43+G44+G45+G46+G47+G48+G49+G50+G51+G52)) -> 6.8506787 | Q52: =SUM((L36+L37+L38+L39+L40+L41+L42+L43+L44+L45+L46+L47+L48+L49+L50+L51+L52)/(K36+K37+K38+K39+K40+K41+K42+K43+K44+K45+K46+K47+K48+K49+K50+K51+K52)) -> 6.9933119
B53: =SUM(B52+7) -> 46394 | K53: =SUM(C53+G53) -> 0 | L53: =SUM(D53+H53) -> 0 | M53: =SUM(D53/C53) -> #DIV/0! | N53: =SUM(H53/G53) -> #DIV/0! | O53: =SUM(L53/K53) -> #DIV/0! | P53: =SUM((D37+D38+D39+D40+D41+D42+D43+D44+D45+D46+D47+D48+D49+D50+D51+D52+D53+H37+H38+H39+H40+H41+H42+H43+H44+H45+H46+H47+H48+H49+H50+H51+H52+H53)/(C37+C38+C39+C40+C41+C42+C43+C44+C45+C46+C47+C48+C49+C50+C51+C52+C53+G37+G38+G39+G40+G41+G42+G43+G44+G45+G46+G47+G48+G49+G50+G51+G52+G53)) -> 6.8506787 | Q53: =SUM((L36+L37+L38+L39+L40+L41+L42+L43+L44+L45+L46+L47+L48+L49+L50+L51+L52+L53)/(K36+K37+K38+K39+K40+K41+K42+K43+K44+K45+K46+K47+K48+K49+K50+K51+K52+K53)) -> 6.9933119
B54: =SUM(B53+7) -> 46401 | K54: =SUM(C54+G54) -> 0 | L54: =SUM(D54+H54) -> 0 | M54: =SUM(D54/C54) -> #DIV/0! | N54: =SUM(H54/G54) -> #DIV/0! | O54: =SUM(L54/K54) -> #DIV/0! | P54: =SUM((D37+D38+D39+D40+D41+D42+D43+D44+D45+D46+D47+D48+D49+D50+D51+D52+D53+D54+H37+H38+H39+H40+H41+H42+H43+H44+H45+H46+H47+H48+H49+H50+H51+H52+H53+H54)/(C37+C38+C39+C40+C41+C42+C43+C44+C45+C46+C47+C48+C49+C50+C51+C52+C53+C54+G37+G38+G39+G40+G41+G42+G43+G44+G45+G46+G47+G48+G49+G50+G51+G52+G53+G54)) -> 6.8506787 | Q54: =SUM((L36+L37+L38+L39+L40+L41+L42+L43+L44+L45+L46+L47+L48+L49+L50+L51+L52+L53+L54)/(K36+K37+K38+K39+K40+K41+K42+K43+K44+K45+K46+K47+K48+K49+K50+K51+K52+K53+K54)) -> 6.9933119
B55: =SUM(B54+7) -> 46408 | K55: =SUM(C55+G55) -> 0 | L55: =SUM(D55+H55) -> 0 | M55: =SUM(D55/C55) -> #DIV/0! | N55: =SUM(H55/G55) -> #DIV/0! | O55: =SUM(L55/K55) -> #DIV/0! | P55: =SUM((D37+D38+D39+D40+D41+D42+D43+D44+D45+D46+D47+D48+D49+D50+D51+D52+D53+D54+D55+H37+H38+H39+H40+H41+H42+H43+H44+H45+H46+H47+H48+H49+H50+H51+H52+H53+H54+H55)/(C37+C38+C39+C40+C41+C42+C43+C44+C45+C46+C47+C48+C49+C50+C51+C52+C53+C54+C55+G37+G38+G39+G40+G41+G42+G43+G44+G45+G46+G47+G48+G49+G50+G51+G52+G53+G54+G55)) -> 6.8506787 | Q55: =SUM((L36+L37+L38+L39+L40+L41+L42+L43+L44+L45+L46+L47+L48+L49+L50+L51+L52+L53+L54+L55)/(K36+K37+K38+K39+K40+K41+K42+K43+K44+K45+K46+K47+K48+K49+K50+K51+K52+K53+K54+K55)) -> 6.9933119
B56: =SUM(B55+7) -> 46415 | K56: =SUM(C56+G56) -> 0 | L56: =SUM(D56+H56) -> 0 | M56: =SUM(D56/C56) -> #DIV/0! | N56: =SUM(H56/G56) -> #DIV/0! | O56: =SUM(L56/K56) -> #DIV/0! | P56: =SUM((D37+D38+D39+D40+D41+D42+D43+D44+D45+D46+D47+D48+D49+D50+D51+D52+D53+D54+D55+D56+H37+H38+H39+H40+H41+H42+H43+H44+H45+H46+H47+H48+H49+H50+H51+H52+H53+H54+H55+H56)/(C37+C38+C39+C40+C41+C42+C43+C44+C45+C46+C47+C48+C49+C50+C51+C52+C53+C54+C55+C56+G37+G38+G39+G40+G41+G42+G43+G44+G45+G46+G47+G48+G49+G50+G51+G52+G53+G54+G55+G56)) -> 6.8506787 | Q56: =SUM((L36+L37+L38+L39+L40+L41+L42+L43+L44+L45+L46+L47+L48+L49+L50+L51+L52+L53+L54+L55+L56)/(K36+K37+K38+K39+K40+K41+K42+K43+K44+K45+K46+K47+K48+K49+K50+K51+K52+K53+K54+K55+K56)) -> 6.9933119
K57: =SUM(C57+G57) -> 0 | L57: =SUM(D57+H57) -> 0 | M57: =SUM(D57/C57) -> #DIV/0! | N57: =SUM(H57/G57) -> #DIV/0! | O57: =SUM(L57/K57) -> #DIV/0! | P57: =SUM((D37+D38+D39+D40+D41+D42+D43+D44+D45+D46+D47+D48+D49+D50+D51+D52+D53+D54+D55+D56+D57+H37+H38+H39+H40+H41+H42+H43+H44+H45+H46+H47+H48+H49+H50+H51+H52+H53+H54+H55+H56+H57)/(C37+C38+C39+C40+C41+C42+C43+C44+C45+C46+C47+C48+C49+C50+C51+C52+C53+C54+C55+C56+C57+G37+G38+G39+G40+G41+G42+G43+G44+G45+G46+G47+G48+G49+G50+G51+G52+G53+G54+G55+G56+G57)) -> 6.8506787 | Q57: =SUM((L36+L37+L38+L39+L40+L41+L42+L43+L44+L45+L46+L47+L48+L49+L50+L51+L52+L53+L54+L55+L56+L57)/(K36+K37+K38+K39+K40+K41+K42+K43+K44+K45+K46+K47+K48+K49+K50+K51+K52+K53+K54+K55+K56+K57)) -> 6.9933119
K58: =SUM(C58+G58) -> 0 | L58: =SUM(D58+H58) -> 0 | M58: =SUM(D58/C58) -> #DIV/0! | N58: =SUM(H58/G58) -> #DIV/0! | O58: =SUM(L58/K58) -> #DIV/0! | P58: =SUM((D37+D38+D39+D40+D41+D42+D43+D44+D45+D46+D47+D48+D49+D50+D51+D52+D53+D54+D55+D56+D57+D58+H37+H38+H39+H40+H41+H42+H43+H44+H45+H46+H47+H48+H49+H50+H51+H52+H53+H54+H55+H56+H57+H58)/(C37+C38+C39+C40+C41+C42+C43+C44+C45+C46+C47+C48+C49+C50+C51+C52+C53+C54+C55+C56+C57+C58+G37+G38+G39+G40+G41+G42+G43+G44+G45+G46+G47+G48+G49+G50+G51+G52+G53+G54+G55+G56+G57+G58)) -> 6.8506787 | Q58: =SUM((L36+L37+L38+L39+L40+L41+L42+L43+L44+L45+L46+L47+L48+L49+L50+L51+L52+L53+L54+L55+L56+L57+L58)/(K36+K37+K38+K39+K40+K41+K42+K43+K44+K45+K46+K47+K48+K49+K50+K51+K52+K53+K54+K55+K56+K57+K58)) -> 6.9933119
K59: =SUM(C59+G59) -> 0 | L59: =SUM(D59+H59) -> 0 | M59: =SUM(D59/C59) -> #DIV/0! | N59: =SUM(H59/G59) -> #DIV/0! | O59: =SUM(L59/K59) -> #DIV/0! | P59: =SUM((D37+D38+D39+D40+D41+D42+D43+D44+D45+D46+D47+D48+D49+D50+D51+D52+D53+D54+D55+D56+D57+D58+D59+H37+H38+H39+H40+H41+H42+H43+H44+H45+H46+H47+H48+H49+H50+H51+H52+H53+H54+H55+H56+H57+H58+H59)/(C37+C38+C39+C40+C41+C42+C43+C44+C45+C46+C47+C48+C49+C50+C51+C52+C53+C54+C55+C56+C57+C58+C59+G37+G38+G39+G40+G41+G42+G43+G44+G45+G46+G47+G48+G49+G50+G51+G52+G53+G54+G55+G56+G57+G58+G59)) -> 6.8506787 | Q59: =SUM((L36+L37+L38+L39+L40+L41+L42+L43+L44+L45+L46+L47+L48+L49+L50+L51+L52+L53+L54+L55+L56+L57+L58+L59)/(K36+K37+K38+K39+K40+K41+K42+K43+K44+K45+K46+K47+K48+K49+K50+K51+K52+K53+K54+K55+K56+K57+K58+K59)) -> 6.9933119
K60: =SUM(C60+G60) -> 0 | L60: =SUM(D60+H60) -> 0 | M60: =SUM(D60/C60) -> #DIV/0! | N60: =SUM(H60/G60) -> #DIV/0! | O60: =SUM(L60/K60) -> #DIV/0! | P60: =SUM((D37+D38+D39+D40+D41+D42+D43+D44+D45+D46+D47+D48+D49+D50+D51+D52+D53+D54+D55+D56+D57+D58+D59+D60+H37+H38+H39+H40+H41+H42+H43+H44+H45+H46+H47+H48+H49+H50+H51+H52+H53+H54+H55+H56+H57+H58+H59+H60)/(C37+C38+C39+C40+C41+C42+C43+C44+C45+C46+C47+C48+C49+C50+C51+C52+C53+C54+C55+C56+C57+C58+C59+C60+G37+G38+G39+G40+G41+G42+G43+G44+G45+G46+G47+G48+G49+G50+G51+G52+G53+G54+G55+G56+G57+G58+G59+G60)) -> 6.8506787 | Q60: =SUM((L36+L37+L38+L39+L40+L41+L42+L43+L44+L45+L46+L47+L48+L49+L50+L51+L52+L53+L54+L55+L56+L57+L58+L59+L60)/(K36+K37+K38+K39+K40+K41+K42+K43+K44+K45+K46+K47+K48+K49+K50+K51+K52+K53+K54+K55+K56+K57+K58+K59+K60)) -> 6.9933119
K61: =SUM(C61+G61) -> 0 | L61: =SUM(D61+H61) -> 0 | M61: =SUM(D61/C61) -> #DIV/0! | N61: =SUM(H61/G61) -> #DIV/0! | O61: =SUM(L61/K61) -> #DIV/0! | P61: =SUM((D37+D38+D39+D40+D41+D42+D43+D44+D45+D46+D47+D48+D49+D50+D51+D52+D53+D54+D55+D56+D57+D58+D59+D60+D61+H37+H38+H39+H40+H41+H42+H43+H44+H45+H46+H47+H48+H49+H50+H51+H52+H53+H54+H55+H56+H57+H58+H59+H60+H61)/(C37+C38+C39+C40+C41+C42+C43+C44+C45+C46+C47+C48+C49+C50+C51+C52+C53+C54+C55+C56+C57+C58+C59+C60+C61+G37+G38+G39+G40+G41+G42+G43+G44+G45+G46+G47+G48+G49+G50+G51+G52+G53+G54+G55+G56+G57+G58+G59+G60+G61)) -> 6.8506787 | Q61: =SUM((L36+L37+L38+L39+L40+L41+L42+L43+L44+L45+L46+L47+L48+L49+L50+L51+L52+L53+L54+L55+L56+L57+L58+L59+L60+L61)/(K36+K37+K38+K39+K40+K41+K42+K43+K44+K45+K46+K47+K48+K49+K50+K51+K52+K53+K54+K55+K56+K57+K58+K59+K60+K61)) -> 6.9933119
K62: =SUM(C62+G62) -> 0 | L62: =SUM(D62+H62) -> 0 | M62: =SUM(D62/C62) -> #DIV/0! | N62: =SUM(H62/G62) -> #DIV/0! | O62: =SUM(L62/K62) -> #DIV/0! | P62: =SUM((D37+D38+D39+D40+D41+D42+D43+D44+D45+D46+D47+D48+D49+D50+D51+D52+D53+D54+D55+D56+D57+D58+D59+D60+D61+D62+H37+H38+H39+H40+H41+H42+H43+H44+H45+H46+H47+H48+H49+H50+H51+H52+H53+H54+H55+H56+H57+H58+H59+H60+H61+H62)/(C37+C38+C39+C40+C41+C42+C43+C44+C45+C46+C47+C48+C49+C50+C51+C52+C53+C54+C55+C56+C57+C58+C59+C60+C61+C62+G37+G38+G39+G40+G41+G42+G43+G44+G45+G46+G47+G48+G49+G50+G51+G52+G53+G54+G55+G56+G57+G58+G59+G60+G61+G62)) -> 6.8506787 | Q62: =SUM((L36+L37+L38+L39+L40+L41+L42+L43+L44+L45+L46+L47+L48+L49+L50+L51+L52+L53+L54+L55+L56+L57+L58+L59+L60+L61+L62)/(K36+K37+K38+K39+K40+K41+K42+K43+K44+K45+K46+K47+K48+K49+K50+K51+K52+K53+K54+K55+K56+K57+K58+K59+K60+K61+K62)) -> 6.9933119
K63: =SUM(C63+G63) -> 0 | L63: =SUM(D63+H63) -> 0 | M63: =SUM(D63/C63) -> #DIV/0! | N63: =SUM(H63/G63) -> #DIV/0! | O63: =SUM(L63/K63) -> #DIV/0! | P63: =SUM((D37+D38+D39+D40+D41+D42+D43+D44+D45+D46+D47+D48+D49+D50+D51+D52+D53+D54+D55+D56+D57+D58+D59+D60+D61+D62+D63+H37+H38+H39+H40+H41+H42+H43+H44+H45+H46+H47+H48+H49+H50+H51+H52+H53+H54+H55+H56+H57+H58+H59+H60+H61+H62+H63)/(C37+C38+C39+C40+C41+C42+C43+C44+C45+C46+C47+C48+C49+C50+C51+C52+C53+C54+C55+C56+C57+C58+C59+C60+C61+C62+C63+G37+G38+G39+G40+G41+G42+G43+G44+G45+G46+G47+G48+G49+G50+G51+G52+G53+G54+G55+G56+G57+G58+G59+G60+G61+G62+G63)) -> 6.8506787 | Q63: =SUM((L36+L37+L38+L39+L40+L41+L42+L43+L44+L45+L46+L47+L48+L49+L50+L51+L52+L53+L54+L55+L56+L57+L58+L59+L60+L61+L62+L63)/(K36+K37+K38+K39+K40+K41+K42+K43+K44+K45+K46+K47+K48+K49+K50+K51+K52+K53+K54+K55+K56+K57+K58+K59+K60+K61+K62+K63)) -> 6.9933119
A66: LEAGUE AVERAGE | C66: =Q63 -> 6.9933119 | E66: =COUNTA(E37:E63) -> 1 | F66: =COUNTA(F37:F63) -> 3 | I66: =COUNTA(I37:I63) -> 1 | J66: =COUNTA(J37:J63) -> 3 | K66: =SUM(K36:K63) -> 504.625 | L66: =SUM(L36:L63) -> 3529
A68: Steve Burwell
B69: Beginning Avg | C69: =SUM(D69/10.04) -> 49.900398 | D69: 501 | K69: =C69 -> 49.900398 | L69: =SUM(D69+H69) -> 501 | M69: =SUM(D69/C69) -> 10.04 | N69: =SUM(H69/G69) -> #DIV/0! | O69: =SUM(L69/K69) -> 10.04 | P69: =SUM((D69+H69)/(C69+G69)) -> 10.04 | Q69: =SUM(L69/K69) -> 10.04
B70: 46282 | C70: 67 | D70: 601 | E70: X | G70: 21 | H70: 213 | J70: X | K70: =SUM(C70+G70) -> 88 | L70: =SUM(D70+H70) -> 814 | M70: =SUM(D70/C70) -> 8.9701493 | N70: =SUM(H70/G70) -> 10.142857 | O70: =SUM(L70/K70) -> 9.25 | P70: =SUM((D70+H70)/(C70+G70)) -> 9.25 | Q70: =SUM((L69+L70)/(K69+K70)) -> 9.535868
B71: =SUM(B70+7) -> 46289 | C71: 41 | D71: 541 | E71: X | G71: 27 | H71: 170 | J71: X | K71: =SUM(C71+G71) -> 68 | L71: =SUM(D71+H71) -> 711 | M71: =SUM(D71/C71) -> 13.195122 | N71: =SUM(H71/G71) -> 6.2962963 | O71: =SUM(L71/K71) -> 10.455882 | P71: =SUM((D70+D71+H70+H71)/(C70+C71+G70+G71)) -> 9.775641 | Q71: =SUM((L69+L70+L71)/(K69+K70+K71)) -> 9.839709
B72: =SUM(B71+7) -> 46296 | C72: 43 | D72: 521 | E72: X | G72: 24 | H72: 301 | I72: X | K72: =SUM(C72+G72) -> 67 | L72: =SUM(D72+H72) -> 822 | M72: =SUM(D72/C72) -> 12.116279 | N72: =SUM(H72/G72) -> 12.541667 | O72: =SUM(L72/K72) -> 12.268657 | P72: =SUM((D70+D71+D72+H70+H71+H72)/(C70+C71+C72+G70+G71+G72)) -> 10.524664 | Q72: =SUM((L69+L70+L71+L72)/(K69+K70+K71+K72)) -> 10.436042
B73: =SUM(B72+7) -> 46303 | C73: 46 | D73: 581 | E73: X | G73: 33 | H73: 242 | J73: X | K73: =SUM(C73+G73) -> 79 | L73: =SUM(D73+H73) -> 823 | M73: =SUM(D73/C73) -> 12.630435 | N73: =SUM(H73/G73) -> 7.3333333 | O73: =SUM(L73/K73) -> 10.417722 | P73: =SUM((D70+D71+D72+D73+H70+H71+H72+H73)/(C70+C71+C72+C73+G70+G71+G72+G73)) -> 10.496689 | Q73: =SUM((L69+L70+L71+L72+L73)/(K69+K70+K71+K72+K73)) -> 10.431929
B74: =SUM(B73+7) -> 46310 | C74: 39 | D74: 451 | F74: X | G74: 47 | H74: 313 | I74: X | K74: =SUM(C74+G74) -> 86 | L74: =SUM(D74+H74) -> 764 | M74: =SUM(D74/C74) -> 11.564103 | N74: =SUM(H74/G74) -> 6.6595745 | O74: =SUM(L74/K74) -> 8.8837209 | P74: =SUM((D70+D71+D72+D73+D74+H70+H71+H72+H73+H74)/(C70+C71+C72+C73+C74+G70+G71+G72+G73+G74)) -> 10.139175 | Q74: =SUM((L69+L70+L71+L72+L73+L74)/(K69+K70+K71+K72+K73+K74)) -> 10.127874
B75: =SUM(B74+7) -> 46317 | C75: 47 | D75: 501 | E75: X | G75: 30 | H75: 269 | J75: X | K75: =SUM(C75+G75) -> 77 | L75: =SUM(D75+H75) -> 770 | M75: =SUM(D75/C75) -> 10.659574 | N75: =SUM(H75/G75) -> 8.9666667 | O75: =SUM(L75/K75) -> 10 | P75: =SUM((D70+D71+D72+D73+D74+D75+H70+H71+H72+H73+H74+H75)/(C70+C71+C72+C73+C74+C75+G70+G71+G72+G73+G74+G75)) -> 10.116129 | Q75: =SUM((L69+L70+L71+L72+L73+L74+L75)/(K69+K70+K71+K72+K73+K74+K75)) -> 10.108751
B76: =SUM(B75+7) -> 46324 | K76: =SUM(C76+G76) -> 0 | L76: =SUM(D76+H76) -> 0 | M76: =SUM(D76/C76) -> #DIV/0! | N76: =SUM(H76/G76) -> #DIV/0! | O76: =SUM(L76/K76) -> #DIV/0! | P76: =SUM((D70+D71+D72+D73+D74+D75+D76+H70+H71+H72+H73+H74+H75+H76)/(C70+C71+C72+C73+C74+C75+C76+G70+G71+G72+G73+G74+G75+G76)) -> 10.116129 | Q76: =SUM((L69+L70+L71+L72+L73+L74+L75+L76)/(K69+K70+K71+K72+K73+K74+K75+K76)) -> 10.108751
B77: =SUM(B76+7) -> 46331 | K77: =SUM(C77+G77) -> 0 | L77: =SUM(D77+H77) -> 0 | M77: =SUM(D77/C77) -> #DIV/0! | N77: =SUM(H77/G77) -> #DIV/0! | O77: =SUM(L77/K77) -> #DIV/0! | P77: =SUM((D70+D71+D72+D73+D74+D75+D76+D77+H70+H71+H72+H73+H74+H75+H76+H77)/(C70+C71+C72+C73+C74+C75+C76+C77+G70+G71+G72+G73+G74+G75+G76+G77)) -> 10.116129 | Q77: =SUM((L69+L70+L71+L72+L73+L74+L75+L76+L77)/(K69+K70+K71+K72+K73+K74+K75+K76+K77)) -> 10.108751
B78: =SUM(B77+7) -> 46338 | K78: =SUM(C78+G78) -> 0 | L78: =SUM(D78+H78) -> 0 | M78: =SUM(D78/C78) -> #DIV/0! | N78: =SUM(H78/G78) -> #DIV/0! | O78: =SUM(L78/K78) -> #DIV/0! | P78: =SUM((D70+D71+D72+D73+D74+D75+D76+D77+D78+H70+H71+H72+H73+H74+H75+H76+H77+H78)/(C70+C71+C72+C73+C74+C75+C76+C77+C78+G70+G71+G72+G73+G74+G75+G76+G77+G78)) -> 10.116129 | Q78: =SUM((L69+L70+L71+L72+L73+L74+L75+L76+L77+L78)/(K69+K70+K71+K72+K73+K74+K75+K76+K77+K78)) -> 10.108751
B79: =SUM(B78+7) -> 46345 | K79: =SUM(C79+G79) -> 0 | L79: =SUM(D79+H79) -> 0 | M79: =SUM(D79/C79) -> #DIV/0! | N79: =SUM(H79/G79) -> #DIV/0! | O79: =SUM(L79/K79) -> #DIV/0! | P79: =SUM((D70+D71+D72+D73+D74+D75+D76+D77+D78+D79+H70+H71+H72+H73+H74+H75+H76+H77+H78+H79)/(C70+C71+C72+C73+C74+C75+C76+C77+C78+C79+G70+G71+G72+G73+G74+G75+G76+G77+G78+G79)) -> 10.116129 | Q79: =SUM((L69+L70+L71+L72+L73+L74+L75+L76+L77+L78+L79)/(K69+K70+K71+K72+K73+K74+K75+K76+K77+K78+K79)) -> 10.108751
B80: =SUM(B79+7) -> 46352 | K80: =SUM(C80+G80) -> 0 | L80: =SUM(D80+H80) -> 0 | M80: =SUM(D80/C80) -> #DIV/0! | N80: =SUM(H80/G80) -> #DIV/0! | O80: =SUM(L80/K80) -> #DIV/0! | P80: =SUM((D70+D71+D72+D73+D74+D75+D76+D77+D78+D79+D80+H70+H71+H72+H73+H74+H75+H76+H77+H78+H79+H80)/(C70+C71+C72+C73+C74+C75+C76+C77+C78+C79+C80+G70+G71+G72+G73+G74+G75+G76+G77+G78+G79+G80)) -> 10.116129 | Q80: =SUM((L69+L70+L71+L72+L73+L74+L75+L76+L77+L78+L79+L80)/(K69+K70+K71+K72+K73+K74+K75+K76+K77+K78+K79+K80)) -> 10.108751
B81: =SUM(B80+7) -> 46359 | K81: =SUM(C81+G81) -> 0 | L81: =SUM(D81+H81) -> 0 | M81: =SUM(D81/C81) -> #DIV/0! | N81: =SUM(H81/G81) -> #DIV/0! | O81: =SUM(L81/K81) -> #DIV/0! | P81: =SUM((D70+D71+D72+D73+D74+D75+D76+D77+D78+D79+D80+D81+H70+H71+H72+H73+H74+H75+H76+H77+H78+H79+H80+H81)/(C70+C71+C72+C73+C74+C75+C76+C77+C78+C79+C80+C81+G70+G71+G72+G73+G74+G75+G76+G77+G78+G79+G80+G81)) -> 10.116129 | Q81: =SUM((L69+L70+L71+L72+L73+L74+L75+L76+L77+L78+L79+L80+L81)/(K69+K70+K71+K72+K73+K74+K75+K76+K77+K78+K79+K80+K81)) -> 10.108751
B82: =SUM(B81+7) -> 46366 | K82: =SUM(C82+G82) -> 0 | L82: =SUM(D82+H82) -> 0 | M82: =SUM(D82/C82) -> #DIV/0! | N82: =SUM(H82/G82) -> #DIV/0! | O82: =SUM(L82/K82) -> #DIV/0! | P82: =SUM((D70+D71+D72+D73+D74+D75+D76+D77+D78+D79+D80+D81+D82+H70+H71+H72+H73+H74+H75+H76+H77+H78+H79+H80+H81+H82)/(C70+C71+C72+C73+C74+C75+C76+C77+C78+C79+C80+C81+C82+G70+G71+G72+G73+G74+G75+G76+G77+G78+G79+G80+G81+G82)) -> 10.116129 | Q82: =SUM((L69+L70+L71+L72+L73+L74+L75+L76+L77+L78+L79+L80+L81+L82)/(K69+K70+K71+K72+K73+K74+K75+K76+K77+K78+K79+K80+K81+K82)) -> 10.108751
B83: =SUM(B82+7) -> 46373 | K83: =SUM(C83+G83) -> 0 | L83: =SUM(D83+H83) -> 0 | M83: =SUM(D83/C83) -> #DIV/0! | N83: =SUM(H83/G83) -> #DIV/0! | O83: =SUM(L83/K83) -> #DIV/0! | P83: =SUM((D70+D71+D72+D73+D74+D75+D76+D77+D78+D79+D80+D81+D82+D83+H70+H71+H72+H73+H74+H75+H76+H77+H78+H79+H80+H81+H82+H83)/(C70+C71+C72+C73+C74+C75+C76+C77+C78+C79+C80+C81+C82+C83+G70+G71+G72+G73+G74+G75+G76+G77+G78+G79+G80+G81+G82+G83)) -> 10.116129 | Q83: =SUM((L69+L70+L71+L72+L73+L74+L75+L76+L77+L78+L79+L80+L81+L82+L83)/(K69+K70+K71+K72+K73+K74+K75+K76+K77+K78+K79+K80+K81+K82+K83)) -> 10.108751
B84: =SUM(B83+7) -> 46380 | K84: =SUM(C84+G84) -> 0 | L84: =SUM(D84+H84) -> 0 | M84: =SUM(D84/C84) -> #DIV/0! | N84: =SUM(H84/G84) -> #DIV/0! | O84: =SUM(L84/K84) -> #DIV/0! | P84: =SUM((D70+D71+D72+D73+D74+D75+D76+D77+D78+D79+D80+D81+D82+D83+D84+H70+H71+H72+H73+H74+H75+H76+H77+H78+H79+H80+H81+H82+H83+H84)/(C70+C71+C72+C73+C74+C75+C76+C77+C78+C79+C80+C81+C82+C83+C84+G70+G71+G72+G73+G74+G75+G76+G77+G78+G79+G80+G81+G82+G83+G84)) -> 10.116129 | Q84: =SUM((L69+L70+L71+L72+L73+L74+L75+L76+L77+L78+L79+L80+L81+L82+L83+L84)/(K69+K70+K71+K72+K73+K74+K75+K76+K77+K78+K79+K80+K81+K82+K83+K84)) -> 10.108751
B85: =SUM(B84+7) -> 46387 | K85: =SUM(C85+G85) -> 0 | L85: =SUM(D85+H85) -> 0 | M85: =SUM(D85/C85) -> #DIV/0! | N85: =SUM(H85/G85) -> #DIV/0! | O85: =SUM(L85/K85) -> #DIV/0! | P85: =SUM((D70+D71+D72+D73+D74+D75+D76+D77+D78+D79+D80+D81+D82+D83+D84+D85+H70+H71+H72+H73+H74+H75+H76+H77+H78+H79+H80+H81+H82+H83+H84+H85)/(C70+C71+C72+C73+C74+C75+C76+C77+C78+C79+C80+C81+C82+C83+C84+C85+G70+G71+G72+G73+G74+G75+G76+G77+G78+G79+G80+G81+G82+G83+G84+G85)) -> 10.116129 | Q85: =SUM((L69+L70+L71+L72+L73+L74+L75+L76+L77+L78+L79+L80+L81+L82+L83+L84+L85)/(K69+K70+K71+K72+K73+K74+K75+K76+K77+K78+K79+K80+K81+K82+K83+K84+K85)) -> 10.108751
B86: =SUM(B85+7) -> 46394 | K86: =SUM(C86+G86) -> 0 | L86: =SUM(D86+H86) -> 0 | M86: =SUM(D86/C86) -> #DIV/0! | N86: =SUM(H86/G86) -> #DIV/0! | O86: =SUM(L86/K86) -> #DIV/0! | P86: =SUM((D70+D71+D72+D73+D74+D75+D76+D77+D78+D79+D80+D81+D82+D83+D84+D85+D86+H70+H71+H72+H73+H74+H75+H76+H77+H78+H79+H80+H81+H82+H83+H84+H85+H86)/(C70+C71+C72+C73+C74+C75+C76+C77+C78+C79+C80+C81+C82+C83+C84+C85+C86+G70+G71+G72+G73+G74+G75+G76+G77+G78+G79+G80+G81+G82+G83+G84+G85+G86)) -> 10.116129 | Q86: =SUM((L69+L70+L71+L72+L73+L74+L75+L76+L77+L78+L79+L80+L81+L82+L83+L84+L85+L86)/(K69+K70+K71+K72+K73+K74+K75+K76+K77+K78+K79+K80+K81+K82+K83+K84+K85+K86)) -> 10.108751
B87: =SUM(B86+7) -> 46401 | K87: =SUM(C87+G87) -> 0 | L87: =SUM(D87+H87) -> 0 | M87: =SUM(D87/C87) -> #DIV/0! | N87: =SUM(H87/G87) -> #DIV/0! | O87: =SUM(L87/K87) -> #DIV/0! | P87: =SUM((D70+D71+D72+D73+D74+D75+D76+D77+D78+D79+D80+D81+D82+D83+D84+D85+D86+D87+H70+H71+H72+H73+H74+H75+H76+H77+H78+H79+H80+H81+H82+H83+H84+H85+H86+H87)/(C70+C71+C72+C73+C74+C75+C76+C77+C78+C79+C80+C81+C82+C83+C84+C85+C86+C87+G70+G71+G72+G73+G74+G75+G76+G77+G78+G79+G80+G81+G82+G83+G84+G85+G86+G87)) -> 10.116129 | Q87: =SUM((L69+L70+L71+L72+L73+L74+L75+L76+L77+L78+L79+L80+L81+L82+L83+L84+L85+L86+L87)/(K69+K70+K71+K72+K73+K74+K75+K76+K77+K78+K79+K80+K81+K82+K83+K84+K85+K86+K87)) -> 10.108751
B88: =SUM(B87+7) -> 46408 | K88: =SUM(C88+G88) -> 0 | L88: =SUM(D88+H88) -> 0 | M88: =SUM(D88/C88) -> #DIV/0! | N88: =SUM(H88/G88) -> #DIV/0! | O88: =SUM(L88/K88) -> #DIV/0! | P88: =SUM((D70+D71+D72+D73+D74+D75+D76+D77+D78+D79+D80+D81+D82+D83+D84+D85+D86+D87+D88+H70+H71+H72+H73+H74+H75+H76+H77+H78+H79+H80+H81+H82+H83+H84+H85+H86+H87+H88)/(C70+C71+C72+C73+C74+C75+C76+C77+C78+C79+C80+C81+C82+C83+C84+C85+C86+C87+C88+G70+G71+G72+G73+G74+G75+G76+G77+G78+G79+G80+G81+G82+G83+G84+G85+G86+G87+G88)) -> 10.116129 | Q88: =SUM((L69+L70+L71+L72+L73+L74+L75+L76+L77+L78+L79+L80+L81+L82+L83+L84+L85+L86+L87+L88)/(K69+K70+K71+K72+K73+K74+K75+K76+K77+K78+K79+K80+K81+K82+K83+K84+K85+K86+K87+K88)) -> 10.108751
B89: =SUM(B88+7) -> 46415 | K89: =SUM(C89+G89) -> 0 | L89: =SUM(D89+H89) -> 0 | M89: =SUM(D89/C89) -> #DIV/0! | N89: =SUM(H89/G89) -> #DIV/0! | O89: =SUM(L89/K89) -> #DIV/0! | P89: =SUM((D70+D71+D72+D73+D74+D75+D76+D77+D78+D79+D80+D81+D82+D83+D84+D85+D86+D87+D88+D89+H70+H71+H72+H73+H74+H75+H76+H77+H78+H79+H80+H81+H82+H83+H84+H85+H86+H87+H88+H89)/(C70+C71+C72+C73+C74+C75+C76+C77+C78+C79+C80+C81+C82+C83+C84+C85+C86+C87+C88+C89+G70+G71+G72+G73+G74+G75+G76+G77+G78+G79+G80+G81+G82+G83+G84+G85+G86+G87+G88+G89)) -> 10.116129 | Q89: =SUM((L69+L70+L71+L72+L73+L74+L75+L76+L77+L78+L79+L80+L81+L82+L83+L84+L85+L86+L87+L88+L89)/(K69+K70+K71+K72+K73+K74+K75+K76+K77+K78+K79+K80+K81+K82+K83+K84+K85+K86+K87+K88+K89)) -> 10.108751
K90: =SUM(C90+G90) -> 0 | L90: =SUM(D90+H90) -> 0 | M90: =SUM(D90/C90) -> #DIV/0! | N90: =SUM(H90/G90) -> #DIV/0! | O90: =SUM(L90/K90) -> #DIV/0! | P90: =SUM((D70+D71+D72+D73+D74+D75+D76+D77+D78+D79+D80+D81+D82+D83+D84+D85+D86+D87+D88+D89+D90+H70+H71+H72+H73+H74+H75+H76+H77+H78+H79+H80+H81+H82+H83+H84+H85+H86+H87+H88+H89+H90)/(C70+C71+C72+C73+C74+C75+C76+C77+C78+C79+C80+C81+C82+C83+C84+C85+C86+C87+C88+C89+C90+G70+G71+G72+G73+G74+G75+G76+G77+G78+G79+G80+G81+G82+G83+G84+G85+G86+G87+G88+G89+G90)) -> 10.116129 | Q90: =SUM((L69+L70+L71+L72+L73+L74+L75+L76+L77+L78+L79+L80+L81+L82+L83+L84+L85+L86+L87+L88+L89+L90)/(K69+K70+K71+K72+K73+K74+K75+K76+K77+K78+K79+K80+K81+K82+K83+K84+K85+K86+K87+K88+K89+K90)) -> 10.108751
K91: =SUM(C91+G91) -> 0 | L91: =SUM(D91+H91) -> 0 | M91: =SUM(D91/C91) -> #DIV/0! | N91: =SUM(H91/G91) -> #DIV/0! | O91: =SUM(L91/K91) -> #DIV/0! | P91: =SUM((D70+D71+D72+D73+D74+D75+D76+D77+D78+D79+D80+D81+D82+D83+D84+D85+D86+D87+D88+D89+D90+D91+H70+H71+H72+H73+H74+H75+H76+H77+H78+H79+H80+H81+H82+H83+H84+H85+H86+H87+H88+H89+H90+H91)/(C70+C71+C72+C73+C74+C75+C76+C77+C78+C79+C80+C81+C82+C83+C84+C85+C86+C87+C88+C89+C90+C91+G70+G71+G72+G73+G74+G75+G76+G77+G78+G79+G80+G81+G82+G83+G84+G85+G86+G87+G88+G89+G90+G91)) -> 10.116129 | Q91: =SUM((L69+L70+L71+L72+L73+L74+L75+L76+L77+L78+L79+L80+L81+L82+L83+L84+L85+L86+L87+L88+L89+L90+L91)/(K69+K70+K71+K72+K73+K74+K75+K76+K77+K78+K79+K80+K81+K82+K83+K84+K85+K86+K87+K88+K89+K90+K91)) -> 10.108751
K92: =SUM(C92+G92) -> 0 | L92: =SUM(D92+H92) -> 0 | M92: =SUM(D92/C92) -> #DIV/0! | N92: =SUM(H92/G92) -> #DIV/0! | O92: =SUM(L92/K92) -> #DIV/0! | P92: =SUM((D70+D71+D72+D73+D74+D75+D76+D77+D78+D79+D80+D81+D82+D83+D84+D85+D86+D87+D88+D89+D90+D91+D92+H70+H71+H72+H73+H74+H75+H76+H77+H78+H79+H80+H81+H82+H83+H84+H85+H86+H87+H88+H89+H90+H91+H92)/(C70+C71+C72+C73+C74+C75+C76+C77+C78+C79+C80+C81+C82+C83+C84+C85+C86+C87+C88+C89+C90+C91+C92+G70+G71+G72+G73+G74+G75+G76+G77+G78+G79+G80+G81+G82+G83+G84+G85+G86+G87+G88+G89+G90+G91+G92)) -> 10.116129 | Q92: =SUM((L69+L70+L71+L72+L73+L74+L75+L76+L77+L78+L79+L80+L81+L82+L83+L84+L85+L86+L87+L88+L89+L90+L91+L92)/(K69+K70+K71+K72+K73+K74+K75+K76+K77+K78+K79+K80+K81+K82+K83+K84+K85+K86+K87+K88+K89+K90+K91+K92)) -> 10.108751
K93: =SUM(C93+G93) -> 0 | L93: =SUM(D93+H93) -> 0 | M93: =SUM(D93/C93) -> #DIV/0! | N93: =SUM(H93/G93) -> #DIV/0! | O93: =SUM(L93/K93) -> #DIV/0! | P93: =SUM((D70+D71+D72+D73+D74+D75+D76+D77+D78+D79+D80+D81+D82+D83+D84+D85+D86+D87+D88+D89+D90+D91+D92+D93+H70+H71+H72+H73+H74+H75+H76+H77+H78+H79+H80+H81+H82+H83+H84+H85+H86+H87+H88+H89+H90+H91+H92+H93)/(C70+C71+C72+C73+C74+C75+C76+C77+C78+C79+C80+C81+C82+C83+C84+C85+C86+C87+C88+C89+C90+C91+C92+C93+G70+G71+G72+G73+G74+G75+G76+G77+G78+G79+G80+G81+G82+G83+G84+G85+G86+G87+G88+G89+G90+G91+G92+G93)) -> 10.116129 | Q93: =SUM((L69+L70+L71+L72+L73+L74+L75+L76+L77+L78+L79+L80+L81+L82+L83+L84+L85+L86+L87+L88+L89+L90+L91+L92+L93)/(K69+K70+K71+K72+K73+K74+K75+K76+K77+K78+K79+K80+K81+K82+K83+K84+K85+K86+K87+K88+K89+K90+K91+K92+K93)) -> 10.108751
K94: =SUM(C94+G94) -> 0 | L94: =SUM(D94+H94) -> 0 | M94: =SUM(D94/C94) -> #DIV/0! | N94: =SUM(H94/G94) -> #DIV/0! | O94: =SUM(L94/K94) -> #DIV/0! | P94: =SUM((D70+D71+D72+D73+D74+D75+D76+D77+D78+D79+D80+D81+D82+D83+D84+D85+D86+D87+D88+D89+D90+D91+D92+D93+D94+H70+H71+H72+H73+H74+H75+H76+H77+H78+H79+H80+H81+H82+H83+H84+H85+H86+H87+H88+H89+H90+H91+H92+H93+H94)/(C70+C71+C72+C73+C74+C75+C76+C77+C78+C79+C80+C81+C82+C83+C84+C85+C86+C87+C88+C89+C90+C91+C92+C93+C94+G70+G71+G72+G73+G74+G75+G76+G77+G78+G79+G80+G81+G82+G83+G84+G85+G86+G87+G88+G89+G90+G91+G92+G93+G94)) -> 10.116129 | Q94: =SUM((L69+L70+L71+L72+L73+L74+L75+L76+L77+L78+L79+L80+L81+L82+L83+L84+L85+L86+L87+L88+L89+L90+L91+L92+L93+L94)/(K69+K70+K71+K72+K73+K74+K75+K76+K77+K78+K79+K80+K81+K82+K83+K84+K85+K86+K87+K88+K89+K90+K91+K92+K93+K94)) -> 10.108751
K95: =SUM(C95+G95) -> 0 | L95: =SUM(D95+H95) -> 0 | M95: =SUM(D95/C95) -> #DIV/0! | N95: =SUM(H95/G95) -> #DIV/0! | O95: =SUM(L95/K95) -> #DIV/0! | P95: =SUM((D70+D71+D72+D73+D74+D75+D76+D77+D78+D79+D80+D81+D82+D83+D84+D85+D86+D87+D88+D89+D90+D91+D92+D93+D94+D95+H70+H71+H72+H73+H74+H75+H76+H77+H78+H79+H80+H81+H82+H83+H84+H85+H86+H87+H88+H89+H90+H91+H92+H93+H94+H95)/(C70+C71+C72+C73+C74+C75+C76+C77+C78+C79+C80+C81+C82+C83+C84+C85+C86+C87+C88+C89+C90+C91+C92+C93+C94+C95+G70+G71+G72+G73+G74+G75+G76+G77+G78+G79+G80+G81+G82+G83+G84+G85+G86+G87+G88+G89+G90+G91+G92+G93+G94+G95)) -> 10.116129 | Q95: =SUM((L69+L70+L71+L72+L73+L74+L75+L76+L77+L78+L79+L80+L81+L82+L83+L84+L85+L86+L87+L88+L89+L90+L91+L92+L93+L94+L95)/(K69+K70+K71+K72+K73+K74+K75+K76+K77+K78+K79+K80+K81+K82+K83+K84+K85+K86+K87+K88+K89+K90+K91+K92+K93+K94+K95)) -> 10.108751
K96: =SUM(C96+G96) -> 0 | L96: =SUM(D96+H96) -> 0 | M96: =SUM(D96/C96) -> #DIV/0! | N96: =SUM(H96/G96) -> #DIV/0! | O96: =SUM(L96/K96) -> #DIV/0! | P96: =SUM((D70+D71+D72+D73+D74+D75+D76+D77+D78+D79+D80+D81+D82+D83+D84+D85+D86+D87+D88+D89+D90+D91+D92+D93+D94+D95+D96+H70+H71+H72+H73+H74+H75+H76+H77+H78+H79+H80+H81+H82+H83+H84+H85+H86+H87+H88+H89+H90+H91+H92+H93+H94+H95+H96)/(C70+C71+C72+C73+C74+C75+C76+C77+C78+C79+C80+C81+C82+C83+C84+C85+C86+C87+C88+C89+C90+C91+C92+C93+C94+C95+C96+G70+G71+G72+G73+G74+G75+G76+G77+G78+G79+G80+G81+G82+G83+G84+G85+G86+G87+G88+G89+G90+G91+G92+G93+G94+G95+G96)) -> 10.116129 | Q96: =SUM((L69+L70+L71+L72+L73+L74+L75+L76+L77+L78+L79+L80+L81+L82+L83+L84+L85+L86+L87+L88+L89+L90+L91+L92+L93+L94+L95+L96)/(K69+K70+K71+K72+K73+K74+K75+K76+K77+K78+K79+K80+K81+K82+K83+K84+K85+K86+K87+K88+K89+K90+K91+K92+K93+K94+K95+K96)) -> 10.108751
A99: LEAGUE AVERAGE | C99: =Q96 -> 10.108751 | E99: =COUNTA(E70:E96) -> 5 | F99: =COUNTA(F70:F96) -> 1 | I99: =COUNTA(I70:I96) -> 2 | J99: =COUNTA(J70:J96) -> 4 | K99: =SUM(K69:K96) -> 514.9004 | L99: =SUM(L69:L96) -> 5205
A101: Daniel Regier
B102: Beginning Avg | C102: =SUM(D102/8.18) -> 61.246944 | D102: 501 | K102: =C102 -> 61.246944 | L102: =SUM(D102+H102) -> 501 | M102: =SUM(D102/C102) -> 8.18 | N102: =SUM(H102/G102) -> #DIV/0! | O102: =SUM(L102/K102) -> 8.18 | P102: =SUM((D102+H102)/(C102+G102)) -> 8.18 | Q102: =SUM(L102/K102) -> 8.18
B103: 46282 | C103: 24 | D103: 501 | E103: X | G103: 81 | H103: 313 | I103: X | K103: =SUM(C103+G103) -> 105 | L103: =SUM(D103+H103) -> 814 | M103: =SUM(D103/C103) -> 20.875 | N103: =SUM(H103/G103) -> 3.8641975 | O103: =SUM(L103/K103) -> 7.752381 | P103: =SUM((D103+H103)/(C103+G103)) -> 7.752381 | Q103: =SUM((L102+L103)/(K102+K103)) -> 7.9099198
B104: =SUM(B103+7) -> 46289 | G104: 43 | H104: 301 | I104: X | K104: =SUM(C104+G104) -> 43 | L104: =SUM(D104+H104) -> 301 | M104: =SUM(D104/C104) -> #DIV/0! | N104: =SUM(H104/G104) -> 7 | O104: =SUM(L104/K104) -> 7 | P104: =SUM((D103+D104+H103+H104)/(C103+C104+G103+G104)) -> 7.5337838 | Q104: =SUM((L102+L103+L104)/(K102+K103+K104)) -> 7.7229324
B105: =SUM(B104+7) -> 46296 | G105: 39 | H105: 287 | J105: X | K105: =SUM(C105+G105) -> 39 | L105: =SUM(D105+H105) -> 287 | M105: =SUM(D105/C105) -> #DIV/0! | N105: =SUM(H105/G105) -> 7.3589744 | O105: =SUM(L105/K105) -> 7.3589744 | P105: =SUM((D103+D104+D105+H103+H104+H105)/(C103+C104+C105+G103+G104+G105)) -> 7.4973262 | Q105: =SUM((L102+L103+L104+L105)/(K102+K103+K104+K105)) -> 7.665754
B106: =SUM(B105+7) -> 46303 | K106: =SUM(C106+G106) -> 0 | L106: =SUM(D106+H106) -> 0 | M106: =SUM(D106/C106) -> #DIV/0! | N106: =SUM(H106/G106) -> #DIV/0! | O106: =SUM(L106/K106) -> #DIV/0! | P106: =SUM((D103+D104+D105+D106+H103+H104+H105+H106)/(C103+C104+C105+C106+G103+G104+G105+G106)) -> 7.4973262 | Q106: =SUM((L102+L103+L104+L105+L106)/(K102+K103+K104+K105+K106)) -> 7.665754
B107: =SUM(B106+7) -> 46310 | G107: 38 | H107: 301 | I107: X | K107: =SUM(C107+G107) -> 38 | L107: =SUM(D107+H107) -> 301 | M107: =SUM(D107/C107) -> #DIV/0! | N107: =SUM(H107/G107) -> 7.9210526 | O107: =SUM(L107/K107) -> 7.9210526 | P107: =SUM((D103+D104+D105+D106+D107+H103+H104+H105+H106+H107)/(C103+C104+C105+C106+C107+G103+G104+G105+G106+G107)) -> 7.5688889 | Q107: =SUM((L102+L103+L104+L105+L106+L107)/(K102+K103+K104+K105+K106+K107)) -> 7.6996455
B108: =SUM(B107+7) -> 46317 | G108: 44 | H108: 301 | I108: X | K108: =SUM(C108+G108) -> 44 | L108: =SUM(D108+H108) -> 301 | M108: =SUM(D108/C108) -> #DIV/0! | N108: =SUM(H108/G108) -> 6.8409091 | O108: =SUM(L108/K108) -> 6.8409091 | P108: =SUM((D103+D104+D105+D106+D107+D108+H103+H104+H105+H106+H107+H108)/(C103+C104+C105+C106+C107+C108+G103+G104+G105+G106+G107+G108)) -> 7.4498141 | Q108: =SUM((L102+L103+L104+L105+L106+L107+L108)/(K102+K103+K104+K105+K106+K107+K108)) -> 7.585233
B109: =SUM(B108+7) -> 46324 | K109: =SUM(C109+G109) -> 0 | L109: =SUM(D109+H109) -> 0 | M109: =SUM(D109/C109) -> #DIV/0! | N109: =SUM(H109/G109) -> #DIV/0! | O109: =SUM(L109/K109) -> #DIV/0! | P109: =SUM((D103+D104+D105+D106+D107+D108+D109+H103+H104+H105+H106+H107+H108+H109)/(C103+C104+C105+C106+C107+C108+C109+G103+G104+G105+G106+G107+G108+G109)) -> 7.4498141 | Q109: =SUM((L102+L103+L104+L105+L106+L107+L108+L109)/(K102+K103+K104+K105+K106+K107+K108+K109)) -> 7.585233
...

Sheet Blind Luck
A1: NAME | B1: DATE | C1: 501 DARTS THROWN | D1: 501 POINTS | E1: WIN? | F1: LOSS? | G1: 301 DARTS THROWN | H1: 301 POINTS | I1: WIN? | J1: LOSS? | K1: TOTAL DARTS THROWN | L1: TOTAL POINTS | M1: 501 AVERAGE | N1: 301 AVERAGE | O1: MATCH AVERAGE | P1: WEEKLY AVERAGE | Q1: RAW HANDICAP
A2: Devan Smith
B3: Beginning Avg | C3: =SUM(D3/11.15) -> 44.932735 | D3: 501 | K3: =C3 -> 44.932735 | L3: 501 | M3: =SUM(D3/C3) -> 11.15 | N3: =SUM(H3/G3) -> #DIV/0! | O3: =SUM(L3/K3) -> 11.15 | P3: =SUM((D3+H3)/(C3+G3)) -> 11.15 | Q3: =SUM(L3/K3) -> 11.15
B4: 46282 | C4: 42 | D4: 506 | F4: X | G4: 39 | H4: 357 | J4: X | K4: =SUM(C4+G4) -> 81 | L4: =SUM(D4+H4) -> 863 | M4: =SUM(D4/C4) -> 12.047619 | N4: =SUM(H4/G4) -> 9.1538462 | O4: =SUM(L4/K4) -> 10.654321 | P4: =SUM((D4+H4)/(C4+G4)) -> 10.654321 | Q4: =SUM((L3+L4)/(K3+K4)) -> 10.831179
B5: =SUM(B4+7) -> 46289 | C5: 30 | D5: 322 | F5: X | G5: 22 | H5: 301 | I5: X | K5: =SUM(C5+G5) -> 52 | L5: =SUM(D5+H5) -> 623 | M5: =SUM(D5/C5) -> 10.733333 | N5: =SUM(H5/G5) -> 13.681818 | O5: =SUM(L5/K5) -> 11.980769 | P5: =SUM((D4+D5+H4+H5)/(C4+C5+G4+G5)) -> 11.172932 | Q5: =SUM((L3+L4+L5)/(K3+K4+K5)) -> 11.167141
B6: =SUM(B5+7) -> 46296 | C6: 30 | D6: 481 | F6: X | G6: 24 | H6: 297 | J6: X | K6: =SUM(C6+G6) -> 54 | L6: =SUM(D6+H6) -> 778 | M6: =SUM(D6/C6) -> 16.033333 | N6: =SUM(H6/G6) -> 12.375 | O6: =SUM(L6/K6) -> 14.407407 | P6: =SUM((D4+D5+D6+H4+H5+H6)/(C4+C5+C6+G4+G5+G6)) -> 12.106952 | Q6: =SUM((L3+L4+L5+L6)/(K3+K4+K5+K6)) -> 11.92156
B7: =SUM(B6+7) -> 46303 | C7: 42 | D7: 501 | E7: X | G7: 31 | H7: 349 | I7: X | K7: =SUM(C7+G7) -> 73 | L7: =SUM(D7+H7) -> 850 | M7: =SUM(D7/C7) -> 11.928571 | N7: =SUM(H7/G7) -> 11.258065 | O7: =SUM(L7/K7) -> 11.643836 | P7: =SUM((D4+D5+D6+D7+H4+H5+H6+H7)/(C4+C5+C6+C7+G4+G5+G6+G7)) -> 11.976923 | Q7: =SUM((L3+L4+L5+L6+L7)/(K3+K4+K5+K6+K7)) -> 11.855074
B8: =SUM(B7+7) -> 46310 | C8: 27 | D8: 381 | F8: X | G8: 18 | H8: 333 | J8: X | K8: =SUM(C8+G8) -> 45 | L8: =SUM(D8+H8) -> 714 | M8: =SUM(D8/C8) -> 14.111111 | N8: =SUM(H8/G8) -> 18.5 | O8: =SUM(L8/K8) -> 15.866667 | P8: =SUM((D4+D5+D6+D7+D8+H4+H5+H6+H7+H8)/(C4+C5+C6+C7+C8+G4+G5+G6+G7+G8)) -> 12.55082 | Q8: =SUM((L3+L4+L5+L6+L7+L8)/(K3+K4+K5+K6+K7+K8)) -> 12.370949
B9: =SUM(B8+7) -> 46317 | C9: 43 | D9: 561 | E9: X | G9: 21 | H9: 263 | J9: X | K9: =SUM(C9+G9) -> 64 | L9: =SUM(D9+H9) -> 824 | M9: =SUM(D9/C9) -> 13.046512 | N9: =SUM(H9/G9) -> 12.52381 | O9: =SUM(L9/K9) -> 12.875 | P9: =SUM((D4+D5+D6+D7+D8+D9+H4+H5+H6+H7+H8+H9)/(C4+C5+C6+C7+C8+C9+G4+G5+G6+G7+G8+G9)) -> 12.607046 | Q9: =SUM((L3+L4+L5+L6+L7+L8+L9)/(K3+K4+K5+K6+K7+K8+K9)) -> 12.448883
B10: =SUM(B9+7) -> 46324 | K10: =SUM(C10+G10) -> 0 | L10: =SUM(D10+H10) -> 0 | M10: =SUM(D10/C10) -> #DIV/0! | N10: =SUM(H10/G10) -> #DIV/0! | O10: =SUM(L10/K10) -> #DIV/0! | P10: =SUM((D4+D5+D6+D7+D8+D9+D10+H4+H5+H6+H7+H8+H9+H10)/(C4+C5+C6+C7+C8+C9+C10+G4+G5+G6+G7+G8+G9+G10)) -> 12.607046 | Q10: =SUM((L3+L4+L5+L6+L7+L8+L9+L10)/(K3+K4+K5+K6+K7+K8+K9+K10)) -> 12.448883
B11: =SUM(B10+7) -> 46331 | K11: =SUM(C11+G11) -> 0 | L11: =SUM(D11+H11) -> 0 | M11: =SUM(D11/C11) -> #DIV/0! | N11: =SUM(H11/G11) -> #DIV/0! | O11: =SUM(L11/K11) -> #DIV/0! | P11: =SUM((D4+D5+D6+D7+D8+D9+D10+D11+H4+H5+H6+H7+H8+H9+H10+H11)/(C4+C5+C6+C7+C8+C9+C10+C11+G4+G5+G6+G7+G8+G9+G10+G11)) -> 12.607046 | Q11: =SUM((L3+L4+L5+L6+L7+L8+L9+L10+L11)/(K3+K4+K5+K6+K7+K8+K9+K10+K11)) -> 12.448883
B12: =SUM(B11+7) -> 46338 | K12: =SUM(C12+G12) -> 0 | L12: =SUM(D12+H12) -> 0 | M12: =SUM(D12/C12) -> #DIV/0! | N12: =SUM(H12/G12) -> #DIV/0! | O12: =SUM(L12/K12) -> #DIV/0! | P12: =SUM((D4+D5+D6+D7+D8+D9+D10+D11+D12+H4+H5+H6+H7+H8+H9+H10+H11+H12)/(C4+C5+C6+C7+C8+C9+C10+C11+C12+G4+G5+G6+G7+G8+G9+G10+G11+G12)) -> 12.607046 | Q12: =SUM((L3+L4+L5+L6+L7+L8+L9+L10+L11+L12)/(K3+K4+K5+K6+K7+K8+K9+K10+K11+K12)) -> 12.448883
B13: =SUM(B12+7) -> 46345 | K13: =SUM(C13+G13) -> 0 | L13: =SUM(D13+H13) -> 0 | M13: =SUM(D13/C13) -> #DIV/0! | N13: =SUM(H13/G13) -> #DIV/0! | O13: =SUM(L13/K13) -> #DIV/0! | P13: =SUM((D4+D5+D6+D7+D8+D9+D10+D11+D12+D13+H4+H5+H6+H7+H8+H9+H10+H11+H12+H13)/(C4+C5+C6+C7+C8+C9+C10+C11+C12+C13+G4+G5+G6+G7+G8+G9+G10+G11+G12+G13)) -> 12.607046 | Q13: =SUM((L3+L4+L5+L6+L7+L8+L9+L10+L11+L12+L13)/(K3+K4+K5+K6+K7+K8+K9+K10+K11+K12+K13)) -> 12.448883
B14: =SUM(B13+7) -> 46352 | K14: =SUM(C14+G14) -> 0 | L14: =SUM(D14+H14) -> 0 | M14: =SUM(D14/C14) -> #DIV/0! | N14: =SUM(H14/G14) -> #DIV/0! | O14: =SUM(L14/K14) -> #DIV/0! | P14: =SUM((D4+D5+D6+D7+D8+D9+D10+D11+D12+D13+D14+H4+H5+H6+H7+H8+H9+H10+H11+H12+H13+H14)/(C4+C5+C6+C7+C8+C9+C10+C11+C12+C13+C14+G4+G5+G6+G7+G8+G9+G10+G11+G12+G13+G14)) -> 12.607046 | Q14: =SUM((L3+L4+L5+L6+L7+L8+L9+L10+L11+L12+L13+L14)/(K3+K4+K5+K6+K7+K8+K9+K10+K11+K12+K13+K14)) -> 12.448883
B15: =SUM(B14+7) -> 46359 | K15: =SUM(C15+G15) -> 0 | L15: =SUM(D15+H15) -> 0 | M15: =SUM(D15/C15) -> #DIV/0! | N15: =SUM(H15/G15) -> #DIV/0! | O15: =SUM(L15/K15) -> #DIV/0! | P15: =SUM((D4+D5+D6+D7+D8+D9+D10+D11+D12+D13+D14+D15+H4+H5+H6+H7+H8+H9+H10+H11+H12+H13+H14+H15)/(C4+C5+C6+C7+C8+C9+C10+C11+C12+C13+C14+C15+G4+G5+G6+G7+G8+G9+G10+G11+G12+G13+G14+G15)) -> 12.607046 | Q15: =SUM((L3+L4+L5+L6+L7+L8+L9+L10+L11+L12+L13+L14+L15)/(K3+K4+K5+K6+K7+K8+K9+K10+K11+K12+K13+K14+K15)) -> 12.448883
B16: =SUM(B15+7) -> 46366 | K16: =SUM(C16+G16) -> 0 | L16: =SUM(D16+H16) -> 0 | M16: =SUM(D16/C16) -> #DIV/0! | N16: =SUM(H16/G16) -> #DIV/0! | O16: =SUM(L16/K16) -> #DIV/0! | P16: =SUM((D4+D5+D6+D7+D8+D9+D10+D11+D12+D13+D14+D15+D16+H4+H5+H6+H7+H8+H9+H10+H11+H12+H13+H14+H15+H16)/(C4+C5+C6+C7+C8+C9+C10+C11+C12+C13+C14+C15+C16+G4+G5+G6+G7+G8+G9+G10+G11+G12+G13+G14+G15+G16)) -> 12.607046 | Q16: =SUM((L3+L4+L5+L6+L7+L8+L9+L10+L11+L12+L13+L14+L15+L16)/(K3+K4+K5+K6+K7+K8+K9+K10+K11+K12+K13+K14+K15+K16)) -> 12.448883
B17: =SUM(B16+7) -> 46373 | K17: =SUM(C17+G17) -> 0 | L17: =SUM(D17+H17) -> 0 | M17: =SUM(D17/C17) -> #DIV/0! | N17: =SUM(H17/G17) -> #DIV/0! | O17: =SUM(L17/K17) -> #DIV/0! | P17: =SUM((D4+D5+D6+D7+D8+D9+D10+D11+D12+D13+D14+D15+D16+D17+H4+H5+H6+H7+H8+H9+H10+H11+H12+H13+H14+H15+H16+H17)/(C4+C5+C6+C7+C8+C9+C10+C11+C12+C13+C14+C15+C16+C17+G4+G5+G6+G7+G8+G9+G10+G11+G12+G13+G14+G15+G16+G17)) -> 12.607046 | Q17: =SUM((L3+L4+L5+L6+L7+L8+L9+L10+L11+L12+L13+L14+L15+L16+L17)/(K3+K4+K5+K6+K7+K8+K9+K10+K11+K12+K13+K14+K15+K16+K17)) -> 12.448883
B18: =SUM(B17+7) -> 46380 | K18: =SUM(C18+G18) -> 0 | L18: =SUM(D18+H18) -> 0 | M18: =SUM(D18/C18) -> #DIV/0! | N18: =SUM(H18/G18) -> #DIV/0! | O18: =SUM(L18/K18) -> #DIV/0! | P18: =SUM((D4+D5+D6+D7+D8+D9+D10+D11+D12+D13+D14+D15+D16+D17+D18+H4+H5+H6+H7+H8+H9+H10+H11+H12+H13+H14+H15+H16+H17+H18)/(C4+C5+C6+C7+C8+C9+C10+C11+C12+C13+C14+C15+C16+C17+C18+G4+G5+G6+G7+G8+G9+G10+G11+G12+G13+G14+G15+G16+G17+G18)) -> 12.607046 | Q18: =SUM((L3+L4+L5+L6+L7+L8+L9+L10+L11+L12+L13+L14+L15+L16+L17+L18)/(K3+K4+K5+K6+K7+K8+K9+K10+K11+K12+K13+K14+K15+K16+K17+K18)) -> 12.448883
B19: =SUM(B18+7) -> 46387 | K19: =SUM(C19+G19) -> 0 | L19: =SUM(D19+H19) -> 0 | M19: =SUM(D19/C19) -> #DIV/0! | N19: =SUM(H19/G19) -> #DIV/0! | O19: =SUM(L19/K19) -> #DIV/0! | P19: =SUM((D4+D5+D6+D7+D8+D9+D10+D11+D12+D13+D14+D15+D16+D17+D18+D19+H4+H5+H6+H7+H8+H9+H10+H11+H12+H13+H14+H15+H16+H17+H18+H19)/(C4+C5+C6+C7+C8+C9+C10+C11+C12+C13+C14+C15+C16+C17+C18+C19+G4+G5+G6+G7+G8+G9+G10+G11+G12+G13+G14+G15+G16+G17+G18+G19)) -> 12.607046 | Q19: =SUM((L3+L4+L5+L6+L7+L8+L9+L10+L11+L12+L13+L14+L15+L16+L17+L18+L19)/(K3+K4+K5+K6+K7+K8+K9+K10+K11+K12+K13+K14+K15+K16+K17+K18+K19)) -> 12.448883
B20: =SUM(B19+7) -> 46394 | K20: =SUM(C20+G20) -> 0 | L20: =SUM(D20+H20) -> 0 | M20: =SUM(D20/C20) -> #DIV/0! | N20: =SUM(H20/G20) -> #DIV/0! | O20: =SUM(L20/K20) -> #DIV/0! | P20: =SUM((D4+D5+D6+D7+D8+D9+D10+D11+D12+D13+D14+D15+D16+D17+D18+D19+D20+H4+H5+H6+H7+H8+H9+H10+H11+H12+H13+H14+H15+H16+H17+H18+H19+H20)/(C4+C5+C6+C7+C8+C9+C10+C11+C12+C13+C14+C15+C16+C17+C18+C19+C20+G4+G5+G6+G7+G8+G9+G10+G11+G12+G13+G14+G15+G16+G17+G18+G19+G20)) -> 12.607046 | Q20: =SUM((L3+L4+L5+L6+L7+L8+L9+L10+L11+L12+L13+L14+L15+L16+L17+L18+L19+L20)/(K3+K4+K5+K6+K7+K8+K9+K10+K11+K12+K13+K14+K15+K16+K17+K18+K19+K20)) -> 12.448883
B21: =SUM(B20+7) -> 46401 | K21: =SUM(C21+G21) -> 0 | L21: =SUM(D21+H21) -> 0 | M21: =SUM(D21/C21) -> #DIV/0! | N21: =SUM(H21/G21) -> #DIV/0! | O21: =SUM(L21/K21) -> #DIV/0! | P21: =SUM((D4+D5+D6+D7+D8+D9+D10+D11+D12+D13+D14+D15+D16+D17+D18+D19+D20+D21+H4+H5+H6+H7+H8+H9+H10+H11+H12+H13+H14+H15+H16+H17+H18+H19+H20+H21)/(C4+C5+C6+C7+C8+C9+C10+C11+C12+C13+C14+C15+C16+C17+C18+C19+C20+C21+G4+G5+G6+G7+G8+G9+G10+G11+G12+G13+G14+G15+G16+G17+G18+G19+G20+G21)) -> 12.607046 | Q21: =SUM((L3+L4+L5+L6+L7+L8+L9+L10+L11+L12+L13+L14+L15+L16+L17+L18+L19+L20+L21)/(K3+K4+K5+K6+K7+K8+K9+K10+K11+K12+K13+K14+K15+K16+K17+K18+K19+K20+K21)) -> 12.448883
B22: =SUM(B21+7) -> 46408 | K22: =SUM(C22+G22) -> 0 | L22: =SUM(D22+H22) -> 0 | M22: =SUM(D22/C22) -> #DIV/0! | N22: =SUM(H22/G22) -> #DIV/0! | O22: =SUM(L22/K22) -> #DIV/0! | P22: =SUM((D4+D5+D6+D7+D8+D9+D10+D11+D12+D13+D14+D15+D16+D17+D18+D19+D20+D21+D22+H4+H5+H6+H7+H8+H9+H10+H11+H12+H13+H14+H15+H16+H17+H18+H19+H20+H21+H22)/(C4+C5+C6+C7+C8+C9+C10+C11+C12+C13+C14+C15+C16+C17+C18+C19+C20+C21+C22+G4+G5+G6+G7+G8+G9+G10+G11+G12+G13+G14+G15+G16+G17+G18+G19+G20+G21+G22)) -> 12.607046 | Q22: =SUM((L3+L4+L5+L6+L7+L8+L9+L10+L11+L12+L13+L14+L15+L16+L17+L18+L19+L20+L21+L22)/(K3+K4+K5+K6+K7+K8+K9+K10+K11+K12+K13+K14+K15+K16+K17+K18+K19+K20+K21+K22)) -> 12.448883
B23: =SUM(B22+7) -> 46415 | K23: =SUM(C23+G23) -> 0 | L23: =SUM(D23+H23) -> 0 | M23: =SUM(D23/C23) -> #DIV/0! | N23: =SUM(H23/G23) -> #DIV/0! | O23: =SUM(L23/K23) -> #DIV/0! | P23: =SUM((D4+D5+D6+D7+D8+D9+D10+D11+D12+D13+D14+D15+D16+D17+D18+D19+D20+D21+D22+D23+H4+H5+H6+H7+H8+H9+H10+H11+H12+H13+H14+H15+H16+H17+H18+H19+H20+H21+H22+H23)/(C4+C5+C6+C7+C8+C9+C10+C11+C12+C13+C14+C15+C16+C17+C18+C19+C20+C21+C22+C23+G4+G5+G6+G7+G8+G9+G10+G11+G12+G13+G14+G15+G16+G17+G18+G19+G20+G21+G22+G23)) -> 12.607046 | Q23: =SUM((L3+L4+L5+L6+L7+L8+L9+L10+L11+L12+L13+L14+L15+L16+L17+L18+L19+L20+L21+L22+L23)/(K3+K4+K5+K6+K7+K8+K9+K10+K11+K12+K13+K14+K15+K16+K17+K18+K19+K20+K21+K22+K23)) -> 12.448883
K24: =SUM(C24+G24) -> 0 | L24: =SUM(D24+H24) -> 0 | M24: =SUM(D24/C24) -> #DIV/0! | N24: =SUM(H24/G24) -> #DIV/0! | O24: =SUM(L24/K24) -> #DIV/0! | P24: =SUM((D4+D5+D6+D7+D8+D9+D10+D11+D12+D13+D14+D15+D16+D17+D18+D19+D20+D21+D22+D23+D24+H4+H5+H6+H7+H8+H9+H10+H11+H12+H13+H14+H15+H16+H17+H18+H19+H20+H21+H22+H23+H24)/(C4+C5+C6+C7+C8+C9+C10+C11+C12+C13+C14+C15+C16+C17+C18+C19+C20+C21+C22+C23+C24+G4+G5+G6+G7+G8+G9+G10+G11+G12+G13+G14+G15+G16+G17+G18+G19+G20+G21+G22+G23+G24)) -> 12.607046 | Q24: =SUM((L3+L4+L5+L6+L7+L8+L9+L10+L11+L12+L13+L14+L15+L16+L17+L18+L19+L20+L21+L22+L23+L24)/(K3+K4+K5+K6+K7+K8+K9+K10+K11+K12+K13+K14+K15+K16+K17+K18+K19+K20+K21+K22+K23+K24)) -> 12.448883
K25: =SUM(C25+G25) -> 0 | L25: =SUM(D25+H25) -> 0 | M25: =SUM(D25/C25) -> #DIV/0! | N25: =SUM(H25/G25) -> #DIV/0! | O25: =SUM(L25/K25) -> #DIV/0! | P25: =SUM((D4+D5+D6+D7+D8+D9+D10+D11+D12+D13+D14+D15+D16+D17+D18+D19+D20+D21+D22+D23+D24+D25+H4+H5+H6+H7+H8+H9+H10+H11+H12+H13+H14+H15+H16+H17+H18+H19+H20+H21+H22+H23+H24+H25)/(C4+C5+C6+C7+C8+C9+C10+C11+C12+C13+C14+C15+C16+C17+C18+C19+C20+C21+C22+C23+C24+C25+G4+G5+G6+G7+G8+G9+G10+G11+G12+G13+G14+G15+G16+G17+G18+G19+G20+G21+G22+G23+G24+G25)) -> 12.607046 | Q25: =SUM((L3+L4+L5+L6+L7+L8+L9+L10+L11+L12+L13+L14+L15+L16+L17+L18+L19+L20+L21+L22+L23+L24+L25)/(K3+K4+K5+K6+K7+K8+K9+K10+K11+K12+K13+K14+K15+K16+K17+K18+K19+K20+K21+K22+K23+K24+K25)) -> 12.448883
K26: =SUM(C26+G26) -> 0 | L26: =SUM(D26+H26) -> 0 | M26: =SUM(D26/C26) -> #DIV/0! | N26: =SUM(H26/G26) -> #DIV/0! | O26: =SUM(L26/K26) -> #DIV/0! | P26: =SUM((D4+D5+D6+D7+D8+D9+D10+D11+D12+D13+D14+D15+D16+D17+D18+D19+D20+D21+D22+D23+D24+D25+D26+H4+H5+H6+H7+H8+H9+H10+H11+H12+H13+H14+H15+H16+H17+H18+H19+H20+H21+H22+H23+H24+H25+H26)/(C4+C5+C6+C7+C8+C9+C10+C11+C12+C13+C14+C15+C16+C17+C18+C19+C20+C21+C22+C23+C24+C25+C26+G4+G5+G6+G7+G8+G9+G10+G11+G12+G13+G14+G15+G16+G17+G18+G19+G20+G21+G22+G23+G24+G25+G26)) -> 12.607046 | Q26: =SUM((L3+L4+L5+L6+L7+L8+L9+L10+L11+L12+L13+L14+L15+L16+L17+L18+L19+L20+L21+L22+L23+L24+L25+L26)/(K3+K4+K5+K6+K7+K8+K9+K10+K11+K12+K13+K14+K15+K16+K17+K18+K19+K20+K21+K22+K23+K24+K25+K26)) -> 12.448883
K27: =SUM(C27+G27) -> 0 | L27: =SUM(D27+H27) -> 0 | M27: =SUM(D27/C27) -> #DIV/0! | N27: =SUM(H27/G27) -> #DIV/0! | O27: =SUM(L27/K27) -> #DIV/0! | P27: =SUM((D4+D5+D6+D7+D8+D9+D10+D11+D12+D13+D14+D15+D16+D17+D18+D19+D20+D21+D22+D23+D24+D25+D26+D27+H4+H5+H6+H7+H8+H9+H10+H11+H12+H13+H14+H15+H16+H17+H18+H19+H20+H21+H22+H23+H24+H25+H26+H27)/(C4+C5+C6+C7+C8+C9+C10+C11+C12+C13+C14+C15+C16+C17+C18+C19+C20+C21+C22+C23+C24+C25+C26+C27+G4+G5+G6+G7+G8+G9+G10+G11+G12+G13+G14+G15+G16+G17+G18+G19+G20+G21+G22+G23+G24+G25+G26+G27)) -> 12.607046 | Q27: =SUM((L3+L4+L5+L6+L7+L8+L9+L10+L11+L12+L13+L14+L15+L16+L17+L18+L19+L20+L21+L22+L23+L24+L25+L26+L27)/(K3+K4+K5+K6+K7+K8+K9+K10+K11+K12+K13+K14+K15+K16+K17+K18+K19+K20+K21+K22+K23+K24+K25+K26+K27)) -> 12.448883
K28: =SUM(C28+G28) -> 0 | L28: =SUM(D28+H28) -> 0 | M28: =SUM(D28/C28) -> #DIV/0! | N28: =SUM(H28/G28) -> #DIV/0! | O28: =SUM(L28/K28) -> #DIV/0! | P28: =SUM((D4+D5+D6+D7+D8+D9+D10+D11+D12+D13+D14+D15+D16+D17+D18+D19+D20+D21+D22+D23+D24+D25+D26+D27+D28+H4+H5+H6+H7+H8+H9+H10+H11+H12+H13+H14+H15+H16+H17+H18+H19+H20+H21+H22+H23+H24+H25+H26+H27+H28)/(C4+C5+C6+C7+C8+C9+C10+C11+C12+C13+C14+C15+C16+C17+C18+C19+C20+C21+C22+C23+C24+C25+C26+C27+C28+G4+G5+G6+G7+G8+G9+G10+G11+G12+G13+G14+G15+G16+G17+G18+G19+G20+G21+G22+G23+G24+G25+G26+G27+G28)) -> 12.607046 | Q28: =SUM((L3+L4+L5+L6+L7+L8+L9+L10+L11+L12+L13+L14+L15+L16+L17+L18+L19+L20+L21+L22+L23+L24+L25+L26+L27+L28)/(K3+K4+K5+K6+K7+K8+K9+K10+K11+K12+K13+K14+K15+K16+K17+K18+K19+K20+K21+K22+K23+K24+K25+K26+K27+K28)) -> 12.448883
K29: =SUM(C29+G29) -> 0 | L29: =SUM(D29+H29) -> 0 | M29: =SUM(D29/C29) -> #DIV/0! | N29: =SUM(H29/G29) -> #DIV/0! | O29: =SUM(L29/K29) -> #DIV/0! | P29: =SUM((D4+D5+D6+D7+D8+D9+D10+D11+D12+D13+D14+D15+D16+D17+D18+D19+D20+D21+D22+D23+D24+D25+D26+D27+D28+D29+H4+H5+H6+H7+H8+H9+H10+H11+H12+H13+H14+H15+H16+H17+H18+H19+H20+H21+H22+H23+H24+H25+H26+H27+H28+H29)/(C4+C5+C6+C7+C8+C9+C10+C11+C12+C13+C14+C15+C16+C17+C18+C19+C20+C21+C22+C23+C24+C25+C26+C27+C28+C29+G4+G5+G6+G7+G8+G9+G10+G11+G12+G13+G14+G15+G16+G17+G18+G19+G20+G21+G22+G23+G24+G25+G26+G27+G28+G29)) -> 12.607046 | Q29: =SUM((L3+L4+L5+L6+L7+L8+L9+L10+L11+L12+L13+L14+L15+L16+L17+L18+L19+L20+L21+L22+L23+L24+L25+L26+L27+L28+L29)/(K3+K4+K5+K6+K7+K8+K9+K10+K11+K12+K13+K14+K15+K16+K17+K18+K19+K20+K21+K22+K23+K24+K25+K26+K27+K28+K29)) -> 12.448883
K30: =SUM(C30+G30) -> 0 | L30: =SUM(D30+H30) -> 0 | M30: =SUM(D30/C30) -> #DIV/0! | N30: =SUM(H30/G30) -> #DIV/0! | O30: =SUM(L30/K30) -> #DIV/0! | P30: =SUM((D4+D5+D6+D7+D8+D9+D10+D11+D12+D13+D14+D15+D16+D17+D18+D19+D20+D21+D22+D23+D24+D25+D26+D27+D28+D29+D30+H4+H5+H6+H7+H8+H9+H10+H11+H12+H13+H14+H15+H16+H17+H18+H19+H20+H21+H22+H23+H24+H25+H26+H27+H28+H29+H30)/(C4+C5+C6+C7+C8+C9+C10+C11+C12+C13+C14+C15+C16+C17+C18+C19+C20+C21+C22+C23+C24+C25+C26+C27+C28+C29+C30+G4+G5+G6+G7+G8+G9+G10+G11+G12+G13+G14+G15+G16+G17+G18+G19+G20+G21+G22+G23+G24+G25+G26+G27+G28+G29+G30)) -> 12.607046 | Q30: =SUM((L3+L4+L5+L6+L7+L8+L9+L10+L11+L12+L13+L14+L15+L16+L17+L18+L19+L20+L21+L22+L23+L24+L25+L26+L27+L28+L29+L30)/(K3+K4+K5+K6+K7+K8+K9+K10+K11+K12+K13+K14+K15+K16+K17+K18+K19+K20+K21+K22+K23+K24+K25+K26+K27+K28+K29+K30)) -> 12.448883
A33: LEAGUE AVERAGE | C33: =Q30 -> 12.448883 | E33: =COUNTA(E4:E30) -> 2 | F33: =COUNTA(F4:F30) -> 4 | I33: =COUNTA(I4:I30) -> 2 | J33: =COUNTA(J4:J30) -> 4 | K33: =SUM(K3:K30) -> 413.93274 | L33: =SUM(L3:L30) -> 5153
A35: Chris Roberts
B36: Beginning Avg | C36: =SUM(D36/8.75) -> 57.257143 | D36: 501 | K36: =C36 -> 57.257143 | L36: 501 | M36: =SUM(D36/C36) -> 8.75 | N36: =SUM(H36/G36) -> #DIV/0! | O36: =SUM(L36/K36) -> 8.75 | P36: =SUM((D36+H36)/(C36+G36)) -> 8.75 | Q36: =SUM(L36/K36) -> 8.75
B37: 46282 | C37: 47 | D37: 501 | E37: X | G37: 27 | H37: 283 | J37: X | K37: =SUM(C37+G37) -> 74 | L37: =SUM(D37+H37) -> 784 | M37: =SUM(D37/C37) -> 10.659574 | N37: =SUM(H37/G37) -> 10.481481 | O37: =SUM(L37/K37) -> 10.594595 | P37: =SUM((D37+H37)/(C37+G37)) -> 10.594595 | Q37: =SUM((L36+L37)/(K36+K37)) -> 9.7899434
B38: =SUM(B37+7) -> 46289 | C38: 48 | D38: 495 | F38: X | G38: 51 | H38: 297 | J38: X | K38: =SUM(C38+G38) -> 99 | L38: =SUM(D38+H38) -> 792 | M38: =SUM(D38/C38) -> 10.3125 | N38: =SUM(H38/G38) -> 5.8235294 | O38: =SUM(L38/K38) -> 8 | P38: =SUM((D37+D38+H37+H38)/(C37+C38+G37+G38)) -> 9.1098266 | Q38: =SUM((L36+L37+L38)/(K36+K37+K38)) -> 9.0203499
B39: =SUM(B38+7) -> 46296 | C39: 45 | D39: 491 | F39: X | G39: 36 | H39: 333 | J39: X | K39: =SUM(C39+G39) -> 81 | L39: =SUM(D39+H39) -> 824 | M39: =SUM(D39/C39) -> 10.911111 | N39: =SUM(H39/G39) -> 9.25 | O39: =SUM(L39/K39) -> 10.17284 | P39: =SUM((D37+D38+D39+H37+H38+H39)/(C37+C38+C39+G37+G38+G39)) -> 9.4488189 | Q39: =SUM((L36+L37+L38+L39)/(K36+K37+K38+K39)) -> 9.320268
B40: =SUM(B39+7) -> 46303 | C40: 54 | D40: 559 | F40: X | G40: 27 | H40: 301 | I40: X | K40: =SUM(C40+G40) -> 81 | L40: =SUM(D40+H40) -> 860 | M40: =SUM(D40/C40) -> 10.351852 | N40: =SUM(H40/G40) -> 11.148148 | O40: =SUM(L40/K40) -> 10.617284 | P40: =SUM((D37+D38+D39+D40+H37+H38+H39+H40)/(C37+C38+C39+C40+G37+G38+G39+G40)) -> 9.7313433 | Q40: =SUM((L36+L37+L38+L39+L40)/(K36+K37+K38+K39+K40)) -> 9.5880982
B41: =SUM(B40+7) -> 46310 | C41: 44 | D41: 501 | E41: X | G41: 27 | H41: 294 | J41: X | K41: =SUM(C41+G41) -> 71 | L41: =SUM(D41+H41) -> 795 | M41: =SUM(D41/C41) -> 11.386364 | N41: =SUM(H41/G41) -> 10.888889 | O41: =SUM(L41/K41) -> 11.197183 | P41: =SUM((D37+D38+D39+D40+D41+H37+H38+H39+H40+H41)/(C37+C38+C39+C40+C41+G37+G38+G39+G40+G41)) -> 9.9876847 | Q41: =SUM((L36+L37+L38+L39+L40+L41)/(K36+K37+K38+K39+K40+K41)) -> 9.8347107
B42: =SUM(B41+7) -> 46317 | C42: 43 | D42: 501 | E42: X | G42: 36 | H42: 297 | J42: X | K42: =SUM(C42+G42) -> 79 | L42: =SUM(D42+H42) -> 798 | M42: =SUM(D42/C42) -> 11.651163 | N42: =SUM(H42/G42) -> 8.25 | O42: =SUM(L42/K42) -> 10.101266 | P42: =SUM((D37+D38+D39+D40+D41+D42+H37+H38+H39+H40+H41+H42)/(C37+C38+C39+C40+C41+C42+G37+G38+G39+G40+G41+G42)) -> 10.006186 | Q42: =SUM((L36+L37+L38+L39+L40+L41+L42)/(K36+K37+K38+K39+K40+K41+K42)) -> 9.8735444
B43: =SUM(B42+7) -> 46324 | K43: =SUM(C43+G43) -> 0 | L43: =SUM(D43+H43) -> 0 | M43: =SUM(D43/C43) -> #DIV/0! | N43: =SUM(H43/G43) -> #DIV/0! | O43: =SUM(L43/K43) -> #DIV/0! | P43: =SUM((D37+D38+D39+D40+D41+D42+D43+H37+H38+H39+H40+H41+H42+H43)/(C37+C38+C39+C40+C41+C42+C43+G37+G38+G39+G40+G41+G42+G43)) -> 10.006186 | Q43: =SUM((L36+L37+L38+L39+L40+L41+L42+L43)/(K36+K37+K38+K39+K40+K41+K42+K43)) -> 9.8735444
B44: =SUM(B43+7) -> 46331 | K44: =SUM(C44+G44) -> 0 | L44: =SUM(D44+H44) -> 0 | M44: =SUM(D44/C44) -> #DIV/0! | N44: =SUM(H44/G44) -> #DIV/0! | O44: =SUM(L44/K44) -> #DIV/0! | P44: =SUM((D37+D38+D39+D40+D41+D42+D43+D44+H37+H38+H39+H40+H41+H42+H43+H44)/(C37+C38+C39+C40+C41+C42+C43+C44+G37+G38+G39+G40+G41+G42+G43+G44)) -> 10.006186 | Q44: =SUM((L36+L37+L38+L39+L40+L41+L42+L43+L44)/(K36+K37+K38+K39+K40+K41+K42+K43+K44)) -> 9.8735444
B45: =SUM(B44+7) -> 46338 | K45: =SUM(C45+G45) -> 0 | L45: =SUM(D45+H45) -> 0 | M45: =SUM(D45/C45) -> #DIV/0! | N45: =SUM(H45/G45) -> #DIV/0! | O45: =SUM(L45/K45) -> #DIV/0! | P45: =SUM((D37+D38+D39+D40+D41+D42+D43+D44+D45+H37+H38+H39+H40+H41+H42+H43+H44+H45)/(C37+C38+C39+C40+C41+C42+C43+C44+C45+G37+G38+G39+G40+G41+G42+G43+G44+G45)) -> 10.006186 | Q45: =SUM((L36+L37+L38+L39+L40+L41+L42+L43+L44+L45)/(K36+K37+K38+K39+K40+K41+K42+K43+K44+K45)) -> 9.8735444
B46: =SUM(B45+7) -> 46345 | K46: =SUM(C46+G46) -> 0 | L46: =SUM(D46+H46) -> 0 | M46: =SUM(D46/C46) -> #DIV/0! | N46: =SUM(H46/G46) -> #DIV/0! | O46: =SUM(L46/K46) -> #DIV/0! | P46: =SUM((D37+D38+D39+D40+D41+D42+D43+D44+D45+D46+H37+H38+H39+H40+H41+H42+H43+H44+H45+H46)/(C37+C38+C39+C40+C41+C42+C43+C44+C45+C46+G37+G38+G39+G40+G41+G42+G43+G44+G45+G46)) -> 10.006186 | Q46: =SUM((L36+L37+L38+L39+L40+L41+L42+L43+L44+L45+L46)/(K36+K37+K38+K39+K40+K41+K42+K43+K44+K45+K46)) -> 9.8735444
B47: =SUM(B46+7) -> 46352 | K47: =SUM(C47+G47) -> 0 | L47: =SUM(D47+H47) -> 0 | M47: =SUM(D47/C47) -> #DIV/0! | N47: =SUM(H47/G47) -> #DIV/0! | O47: =SUM(L47/K47) -> #DIV/0! | P47: =SUM((D37+D38+D39+D40+D41+D42+D43+D44+D45+D46+D47+H37+H38+H39+H40+H41+H42+H43+H44+H45+H46+H47)/(C37+C38+C39+C40+C41+C42+C43+C44+C45+C46+C47+G37+G38+G39+G40+G41+G42+G43+G44+G45+G46+G47)) -> 10.006186 | Q47: =SUM((L36+L37+L38+L39+L40+L41+L42+L43+L44+L45+L46+L47)/(K36+K37+K38+K39+K40+K41+K42+K43+K44+K45+K46+K47)) -> 9.8735444
B48: =SUM(B47+7) -> 46359 | K48: =SUM(C48+G48) -> 0 | L48: =SUM(D48+H48) -> 0 | M48: =SUM(D48/C48) -> #DIV/0! | N48: =SUM(H48/G48) -> #DIV/0! | O48: =SUM(L48/K48) -> #DIV/0! | P48: =SUM((D37+D38+D39+D40+D41+D42+D43+D44+D45+D46+D47+D48+H37+H38+H39+H40+H41+H42+H43+H44+H45+H46+H47+H48)/(C37+C38+C39+C40+C41+C42+C43+C44+C45+C46+C47+C48+G37+G38+G39+G40+G41+G42+G43+G44+G45+G46+G47+G48)) -> 10.006186 | Q48: =SUM((L36+L37+L38+L39+L40+L41+L42+L43+L44+L45+L46+L47+L48)/(K36+K37+K38+K39+K40+K41+K42+K43+K44+K45+K46+K47+K48)) -> 9.8735444
B49: =SUM(B48+7) -> 46366 | K49: =SUM(C49+G49) -> 0 | L49: =SUM(D49+H49) -> 0 | M49: =SUM(D49/C49) -> #DIV/0! | N49: =SUM(H49/G49) -> #DIV/0! | O49: =SUM(L49/K49) -> #DIV/0! | P49: =SUM((D37+D38+D39+D40+D41+D42+D43+D44+D45+D46+D47+D48+D49+H37+H38+H39+H40+H41+H42+H43+H44+H45+H46+H47+H48+H49)/(C37+C38+C39+C40+C41+C42+C43+C44+C45+C46+C47+C48+C49+G37+G38+G39+G40+G41+G42+G43+G44+G45+G46+G47+G48+G49)) -> 10.006186 | Q49: =SUM((L36+L37+L38+L39+L40+L41+L42+L43+L44+L45+L46+L47+L48+L49)/(K36+K37+K38+K39+K40+K41+K42+K43+K44+K45+K46+K47+K48+K49)) -> 9.8735444
B50: =SUM(B49+7) -> 46373 | K50: =SUM(C50+G50) -> 0 | L50: =SUM(D50+H50) -> 0 | M50: =SUM(D50/C50) -> #DIV/0! | N50: =SUM(H50/G50) -> #DIV/0! | O50: =SUM(L50/K50) -> #DIV/0! | P50: =SUM((D37+D38+D39+D40+D41+D42+D43+D44+D45+D46+D47+D48+D49+D50+H37+H38+H39+H40+H41+H42+H43+H44+H45+H46+H47+H48+H49+H50)/(C37+C38+C39+C40+C41+C42+C43+C44+C45+C46+C47+C48+C49+C50+G37+G38+G39+G40+G41+G42+G43+G44+G45+G46+G47+G48+G49+G50)) -> 10.006186 | Q50: =SUM((L36+L37+L38+L39+L40+L41+L42+L43+L44+L45+L46+L47+L48+L49+L50)/(K36+K37+K38+K39+K40+K41+K42+K43+K44+K45+K46+K47+K48+K49+K50)) -> 9.8735444
B51: =SUM(B50+7) -> 46380 | K51: =SUM(C51+G51) -> 0 | L51: =SUM(D51+H51) -> 0 | M51: =SUM(D51/C51) -> #DIV/0! | N51: =SUM(H51/G51) -> #DIV/0! | O51: =SUM(L51/K51) -> #DIV/0! | P51: =SUM((D37+D38+D39+D40+D41+D42+D43+D44+D45+D46+D47+D48+D49+D50+D51+H37+H38+H39+H40+H41+H42+H43+H44+H45+H46+H47+H48+H49+H50+H51)/(C37+C38+C39+C40+C41+C42+C43+C44+C45+C46+C47+C48+C49+C50+C51+G37+G38+G39+G40+G41+G42+G43+G44+G45+G46+G47+G48+G49+G50+G51)) -> 10.006186 | Q51: =SUM((L36+L37+L38+L39+L40+L41+L42+L43+L44+L45+L46+L47+L48+L49+L50+L51)/(K36+K37+K38+K39+K40+K41+K42+K43+K44+K45+K46+K47+K48+K49+K50+K51)) -> 9.8735444
B52: =SUM(B51+7) -> 46387 | K52: =SUM(C52+G52) -> 0 | L52: =SUM(D52+H52) -> 0 | M52: =SUM(D52/C52) -> #DIV/0! | N52: =SUM(H52/G52) -> #DIV/0! | O52: =SUM(L52/K52) -> #DIV/0! | P52: =SUM((D37+D38+D39+D40+D41+D42+D43+D44+D45+D46+D47+D48+D49+D50+D51+D52+H37+H38+H39+H40+H41+H42+H43+H44+H45+H46+H47+H48+H49+H50+H51+H52)/(C37+C38+C39+C40+C41+C42+C43+C44+C45+C46+C47+C48+C49+C50+C51+C52+G37+G38+G39+G40+G41+G42+G43+G44+G45+G46+G47+G48+G49+G50+G51+G52)) -> 10.006186 | Q52: =SUM((L36+L37+L38+L39+L40+L41+L42+L43+L44+L45+L46+L47+L48+L49+L50+L51+L52)/(K36+K37+K38+K39+K40+K41+K42+K43+K44+K45+K46+K47+K48+K49+K50+K51+K52)) -> 9.8735444
B53: =SUM(B52+7) -> 46394 | K53: =SUM(C53+G53) -> 0 | L53: =SUM(D53+H53) -> 0 | M53: =SUM(D53/C53) -> #DIV/0! | N53: =SUM(H53/G53) -> #DIV/0! | O53: =SUM(L53/K53) -> #DIV/0! | P53: =SUM((D37+D38+D39+D40+D41+D42+D43+D44+D45+D46+D47+D48+D49+D50+D51+D52+D53+H37+H38+H39+H40+H41+H42+H43+H44+H45+H46+H47+H48+H49+H50+H51+H52+H53)/(C37+C38+C39+C40+C41+C42+C43+C44+C45+C46+C47+C48+C49+C50+C51+C52+C53+G37+G38+G39+G40+G41+G42+G43+G44+G45+G46+G47+G48+G49+G50+G51+G52+G53)) -> 10.006186 | Q53: =SUM((L36+L37+L38+L39+L40+L41+L42+L43+L44+L45+L46+L47+L48+L49+L50+L51+L52+L53)/(K36+K37+K38+K39+K40+K41+K42+K43+K44+K45+K46+K47+K48+K49+K50+K51+K52+K53)) -> 9.8735444
B54: =SUM(B53+7) -> 46401 | K54: =SUM(C54+G54) -> 0 | L54: =SUM(D54+H54) -> 0 | M54: =SUM(D54/C54) -> #DIV/0! | N54: =SUM(H54/G54) -> #DIV/0! | O54: =SUM(L54/K54) -> #DIV/0! | P54: =SUM((D37+D38+D39+D40+D41+D42+D43+D44+D45+D46+D47+D48+D49+D50+D51+D52+D53+D54+H37+H38+H39+H40+H41+H42+H43+H44+H45+H46+H47+H48+H49+H50+H51+H52+H53+H54)/(C37+C38+C39+C40+C41+C42+C43+C44+C45+C46+C47+C48+C49+C50+C51+C52+C53+C54+G37+G38+G39+G40+G41+G42+G43+G44+G45+G46+G47+G48+G49+G50+G51+G52+G53+G54)) -> 10.006186 | Q54: =SUM((L36+L37+L38+L39+L40+L41+L42+L43+L44+L45+L46+L47+L48+L49+L50+L51+L52+L53+L54)/(K36+K37+K38+K39+K40+K41+K42+K43+K44+K45+K46+K47+K48+K49+K50+K51+K52+K53+K54)) -> 9.8735444
B55: =SUM(B54+7) -> 46408 | K55: =SUM(C55+G55) -> 0 | L55: =SUM(D55+H55) -> 0 | M55: =SUM(D55/C55) -> #DIV/0! | N55: =SUM(H55/G55) -> #DIV/0! | O55: =SUM(L55/K55) -> #DIV/0! | P55: =SUM((D37+D38+D39+D40+D41+D42+D43+D44+D45+D46+D47+D48+D49+D50+D51+D52+D53+D54+D55+H37+H38+H39+H40+H41+H42+H43+H44+H45+H46+H47+H48+H49+H50+H51+H52+H53+H54+H55)/(C37+C38+C39+C40+C41+C42+C43+C44+C45+C46+C47+C48+C49+C50+C51+C52+C53+C54+C55+G37+G38+G39+G40+G41+G42+G43+G44+G45+G46+G47+G48+G49+G50+G51+G52+G53+G54+G55)) -> 10.006186 | Q55: =SUM((L36+L37+L38+L39+L40+L41+L42+L43+L44+L45+L46+L47+L48+L49+L50+L51+L52+L53+L54+L55)/(K36+K37+K38+K39+K40+K41+K42+K43+K44+K45+K46+K47+K48+K49+K50+K51+K52+K53+K54+K55)) -> 9.8735444
B56: =SUM(B55+7) -> 46415 | K56: =SUM(C56+G56) -> 0 | L56: =SUM(D56+H56) -> 0 | M56: =SUM(D56/C56) -> #DIV/0! | N56: =SUM(H56/G56) -> #DIV/0! | O56: =SUM(L56/K56) -> #DIV/0! | P56: =SUM((D37+D38+D39+D40+D41+D42+D43+D44+D45+D46+D47+D48+D49+D50+D51+D52+D53+D54+D55+D56+H37+H38+H39+H40+H41+H42+H43+H44+H45+H46+H47+H48+H49+H50+H51+H52+H53+H54+H55+H56)/(C37+C38+C39+C40+C41+C42+C43+C44+C45+C46+C47+C48+C49+C50+C51+C52+C53+C54+C55+C56+G37+G38+G39+G40+G41+G42+G43+G44+G45+G46+G47+G48+G49+G50+G51+G52+G53+G54+G55+G56)) -> 10.006186 | Q56: =SUM((L36+L37+L38+L39+L40+L41+L42+L43+L44+L45+L46+L47+L48+L49+L50+L51+L52+L53+L54+L55+L56)/(K36+K37+K38+K39+K40+K41+K42+K43+K44+K45+K46+K47+K48+K49+K50+K51+K52+K53+K54+K55+K56)) -> 9.8735444
K57: =SUM(C57+G57) -> 0 | L57: =SUM(D57+H57) -> 0 | M57: =SUM(D57/C57) -> #DIV/0! | N57: =SUM(H57/G57) -> #DIV/0! | O57: =SUM(L57/K57) -> #DIV/0! | P57: =SUM((D37+D38+D39+D40+D41+D42+D43+D44+D45+D46+D47+D48+D49+D50+D51+D52+D53+D54+D55+D56+D57+H37+H38+H39+H40+H41+H42+H43+H44+H45+H46+H47+H48+H49+H50+H51+H52+H53+H54+H55+H56+H57)/(C37+C38+C39+C40+C41+C42+C43+C44+C45+C46+C47+C48+C49+C50+C51+C52+C53+C54+C55+C56+C57+G37+G38+G39+G40+G41+G42+G43+G44+G45+G46+G47+G48+G49+G50+G51+G52+G53+G54+G55+G56+G57)) -> 10.006186 | Q57: =SUM((L36+L37+L38+L39+L40+L41+L42+L43+L44+L45+L46+L47+L48+L49+L50+L51+L52+L53+L54+L55+L56+L57)/(K36+K37+K38+K39+K40+K41+K42+K43+K44+K45+K46+K47+K48+K49+K50+K51+K52+K53+K54+K55+K56+K57)) -> 9.8735444
K58: =SUM(C58+G58) -> 0 | L58: =SUM(D58+H58) -> 0 | M58: =SUM(D58/C58) -> #DIV/0! | N58: =SUM(H58/G58) -> #DIV/0! | O58: =SUM(L58/K58) -> #DIV/0! | P58: =SUM((D37+D38+D39+D40+D41+D42+D43+D44+D45+D46+D47+D48+D49+D50+D51+D52+D53+D54+D55+D56+D57+D58+H37+H38+H39+H40+H41+H42+H43+H44+H45+H46+H47+H48+H49+H50+H51+H52+H53+H54+H55+H56+H57+H58)/(C37+C38+C39+C40+C41+C42+C43+C44+C45+C46+C47+C48+C49+C50+C51+C52+C53+C54+C55+C56+C57+C58+G37+G38+G39+G40+G41+G42+G43+G44+G45+G46+G47+G48+G49+G50+G51+G52+G53+G54+G55+G56+G57+G58)) -> 10.006186 | Q58: =SUM((L36+L37+L38+L39+L40+L41+L42+L43+L44+L45+L46+L47+L48+L49+L50+L51+L52+L53+L54+L55+L56+L57+L58)/(K36+K37+K38+K39+K40+K41+K42+K43+K44+K45+K46+K47+K48+K49+K50+K51+K52+K53+K54+K55+K56+K57+K58)) -> 9.8735444
K59: =SUM(C59+G59) -> 0 | L59: =SUM(D59+H59) -> 0 | M59: =SUM(D59/C59) -> #DIV/0! | N59: =SUM(H59/G59) -> #DIV/0! | O59: =SUM(L59/K59) -> #DIV/0! | P59: =SUM((D37+D38+D39+D40+D41+D42+D43+D44+D45+D46+D47+D48+D49+D50+D51+D52+D53+D54+D55+D56+D57+D58+D59+H37+H38+H39+H40+H41+H42+H43+H44+H45+H46+H47+H48+H49+H50+H51+H52+H53+H54+H55+H56+H57+H58+H59)/(C37+C38+C39+C40+C41+C42+C43+C44+C45+C46+C47+C48+C49+C50+C51+C52+C53+C54+C55+C56+C57+C58+C59+G37+G38+G39+G40+G41+G42+G43+G44+G45+G46+G47+G48+G49+G50+G51+G52+G53+G54+G55+G56+G57+G58+G59)) -> 10.006186 | Q59: =SUM((L36+L37+L38+L39+L40+L41+L42+L43+L44+L45+L46+L47+L48+L49+L50+L51+L52+L53+L54+L55+L56+L57+L58+L59)/(K36+K37+K38+K39+K40+K41+K42+K43+K44+K45+K46+K47+K48+K49+K50+K51+K52+K53+K54+K55+K56+K57+K58+K59)) -> 9.8735444
K60: =SUM(C60+G60) -> 0 | L60: =SUM(D60+H60) -> 0 | M60: =SUM(D60/C60) -> #DIV/0! | N60: =SUM(H60/G60) -> #DIV/0! | O60: =SUM(L60/K60) -> #DIV/0! | P60: =SUM((D37+D38+D39+D40+D41+D42+D43+D44+D45+D46+D47+D48+D49+D50+D51+D52+D53+D54+D55+D56+D57+D58+D59+D60+H37+H38+H39+H40+H41+H42+H43+H44+H45+H46+H47+H48+H49+H50+H51+H52+H53+H54+H55+H56+H57+H58+H59+H60)/(C37+C38+C39+C40+C41+C42+C43+C44+C45+C46+C47+C48+C49+C50+C51+C52+C53+C54+C55+C56+C57+C58+C59+C60+G37+G38+G39+G40+G41+G42+G43+G44+G45+G46+G47+G48+G49+G50+G51+G52+G53+G54+G55+G56+G57+G58+G59+G60)) -> 10.006186 | Q60: =SUM((L36+L37+L38+L39+L40+L41+L42+L43+L44+L45+L46+L47+L48+L49+L50+L51+L52+L53+L54+L55+L56+L57+L58+L59+L60)/(K36+K37+K38+K39+K40+K41+K42+K43+K44+K45+K46+K47+K48+K49+K50+K51+K52+K53+K54+K55+K56+K57+K58+K59+K60)) -> 9.8735444
K61: =SUM(C61+G61) -> 0 | L61: =SUM(D61+H61) -> 0 | M61: =SUM(D61/C61) -> #DIV/0! | N61: =SUM(H61/G61) -> #DIV/0! | O61: =SUM(L61/K61) -> #DIV/0! | P61: =SUM((D37+D38+D39+D40+D41+D42+D43+D44+D45+D46+D47+D48+D49+D50+D51+D52+D53+D54+D55+D56+D57+D58+D59+D60+D61+H37+H38+H39+H40+H41+H42+H43+H44+H45+H46+H47+H48+H49+H50+H51+H52+H53+H54+H55+H56+H57+H58+H59+H60+H61)/(C37+C38+C39+C40+C41+C42+C43+C44+C45+C46+C47+C48+C49+C50+C51+C52+C53+C54+C55+C56+C57+C58+C59+C60+C61+G37+G38+G39+G40+G41+G42+G43+G44+G45+G46+G47+G48+G49+G50+G51+G52+G53+G54+G55+G56+G57+G58+G59+G60+G61)) -> 10.006186 | Q61: =SUM((L36+L37+L38+L39+L40+L41+L42+L43+L44+L45+L46+L47+L48+L49+L50+L51+L52+L53+L54+L55+L56+L57+L58+L59+L60+L61)/(K36+K37+K38+K39+K40+K41+K42+K43+K44+K45+K46+K47+K48+K49+K50+K51+K52+K53+K54+K55+K56+K57+K58+K59+K60+K61)) -> 9.8735444
K62: =SUM(C62+G62) -> 0 | L62: =SUM(D62+H62) -> 0 | M62: =SUM(D62/C62) -> #DIV/0! | N62: =SUM(H62/G62) -> #DIV/0! | O62: =SUM(L62/K62) -> #DIV/0! | P62: =SUM((D37+D38+D39+D40+D41+D42+D43+D44+D45+D46+D47+D48+D49+D50+D51+D52+D53+D54+D55+D56+D57+D58+D59+D60+D61+D62+H37+H38+H39+H40+H41+H42+H43+H44+H45+H46+H47+H48+H49+H50+H51+H52+H53+H54+H55+H56+H57+H58+H59+H60+H61+H62)/(C37+C38+C39+C40+C41+C42+C43+C44+C45+C46+C47+C48+C49+C50+C51+C52+C53+C54+C55+C56+C57+C58+C59+C60+C61+C62+G37+G38+G39+G40+G41+G42+G43+G44+G45+G46+G47+G48+G49+G50+G51+G52+G53+G54+G55+G56+G57+G58+G59+G60+G61+G62)) -> 10.006186 | Q62: =SUM((L36+L37+L38+L39+L40+L41+L42+L43+L44+L45+L46+L47+L48+L49+L50+L51+L52+L53+L54+L55+L56+L57+L58+L59+L60+L61+L62)/(K36+K37+K38+K39+K40+K41+K42+K43+K44+K45+K46+K47+K48+K49+K50+K51+K52+K53+K54+K55+K56+K57+K58+K59+K60+K61+K62)) -> 9.8735444
K63: =SUM(C63+G63) -> 0 | L63: =SUM(D63+H63) -> 0 | M63: =SUM(D63/C63) -> #DIV/0! | N63: =SUM(H63/G63) -> #DIV/0! | O63: =SUM(L63/K63) -> #DIV/0! | P63: =SUM((D37+D38+D39+D40+D41+D42+D43+D44+D45+D46+D47+D48+D49+D50+D51+D52+D53+D54+D55+D56+D57+D58+D59+D60+D61+D62+D63+H37+H38+H39+H40+H41+H42+H43+H44+H45+H46+H47+H48+H49+H50+H51+H52+H53+H54+H55+H56+H57+H58+H59+H60+H61+H62+H63)/(C37+C38+C39+C40+C41+C42+C43+C44+C45+C46+C47+C48+C49+C50+C51+C52+C53+C54+C55+C56+C57+C58+C59+C60+C61+C62+C63+G37+G38+G39+G40+G41+G42+G43+G44+G45+G46+G47+G48+G49+G50+G51+G52+G53+G54+G55+G56+G57+G58+G59+G60+G61+G62+G63)) -> 10.006186 | Q63: =SUM((L36+L37+L38+L39+L40+L41+L42+L43+L44+L45+L46+L47+L48+L49+L50+L51+L52+L53+L54+L55+L56+L57+L58+L59+L60+L61+L62+L63)/(K36+K37+K38+K39+K40+K41+K42+K43+K44+K45+K46+K47+K48+K49+K50+K51+K52+K53+K54+K55+K56+K57+K58+K59+K60+K61+K62+K63)) -> 9.8735444
A66: LEAGUE AVERAGE | C66: =Q63 -> 9.8735444 | E66: =COUNTA(E37:E63) -> 3 | F66: =COUNTA(F37:F63) -> 3 | I66: =COUNTA(I37:I63) -> 1 | J66: =COUNTA(J37:J63) -> 5 | K66: =SUM(K36:K63) -> 542.25714 | L66: =SUM(L36:L63) -> 5354
A68: Shawna Pike
B69: Beginning Avg | C69: =SUM(D69/10.75) -> 46.604651 | D69: 501 | K69: =C69 -> 46.604651 | L69: 501 | M69: =SUM(D69/C69) -> 10.75 | N69: =SUM(H69/G69) -> #DIV/0! | O69: =SUM(L69/K69) -> 10.75 | P69: =SUM((D69+H69)/(C69+G69)) -> 10.75 | Q69: =SUM(L69/K69) -> 10.75
B70: 46282 | C70: 36 | D70: 394 | F70: X | G70: 44 | H70: 301 | I70: X | K70: =SUM(C70+G70) -> 80 | L70: =SUM(D70+H70) -> 695 | M70: =SUM(D70/C70) -> 10.944444 | N70: =SUM(H70/G70) -> 6.8409091 | O70: =SUM(L70/K70) -> 8.6875 | P70: =SUM((D70+H70)/(C70+G70)) -> 8.6875 | Q70: =SUM((L69+L70)/(K69+K70)) -> 9.4467303
B71: =SUM(B70+7) -> 46289 | C71: 53 | D71: 501 | E71: X | G71: 27 | H71: 261 | J71: X | K71: =SUM(C71+G71) -> 80 | L71: =SUM(D71+H71) -> 762 | M71: =SUM(D71/C71) -> 9.4528302 | N71: =SUM(H71/G71) -> 9.6666667 | O71: =SUM(L71/K71) -> 9.525 | P71: =SUM((D70+D71+H70+H71)/(C70+C71+G70+G71)) -> 9.10625 | Q71: =SUM((L69+L70+L71)/(K69+K70+K71)) -> 9.4770374
B72: =SUM(B71+7) -> 46296 | C72: 39 | D72: 483 | F72: X | G72: 38 | H72: 337 | I72: X | K72: =SUM(C72+G72) -> 77 | L72: =SUM(D72+H72) -> 820 | M72: =SUM(D72/C72) -> 12.384615 | N72: =SUM(H72/G72) -> 8.8684211 | O72: =SUM(L72/K72) -> 10.649351 | P72: =SUM((D70+D71+D72+H70+H71+H72)/(C70+C71+C72+G70+G71+G72)) -> 9.6075949 | Q72: =SUM((L69+L70+L71+L72)/(K69+K70+K71+K72)) -> 9.795326
B73: =SUM(B72+7) -> 46303 | C73: 67 | D73: 521 | E73: X | G73: 52 | H73: 349 | I73: X | K73: =SUM(C73+G73) -> 119 | L73: =SUM(D73+H73) -> 870 | M73: =SUM(D73/C73) -> 7.7761194 | N73: =SUM(H73/G73) -> 6.7115385 | O73: =SUM(L73/K73) -> 7.3109244 | P73: =SUM((D70+D71+D72+D73+H70+H71+H72+H73)/(C70+C71+C72+C73+G70+G71+G72+G73)) -> 8.8398876 | Q73: =SUM((L69+L70+L71+L72+L73)/(K69+K70+K71+K72+K73)) -> 9.0609982
B74: =SUM(B73+7) -> 46310 | C74: 42 | D74: 476 | F74: X | G74: 100 | H74: 337 | I74: X | K74: =SUM(C74+G74) -> 142 | L74: =SUM(D74+H74) -> 813 | M74: =SUM(D74/C74) -> 11.333333 | N74: =SUM(H74/G74) -> 3.37 | O74: =SUM(L74/K74) -> 5.7253521 | P74: =SUM((D70+D71+D72+D73+D74+H70+H71+H72+H73+H74)/(C70+C71+C72+C73+C74+G70+G71+G72+G73+G74)) -> 7.9518072 | Q74: =SUM((L69+L70+L71+L72+L73+L74)/(K69+K70+K71+K72+K73+K74)) -> 8.1912631
B75: =SUM(B74+7) -> 46317 | C75: 39 | D75: 462 | F75: X | G75: 26 | H75: 301 | I75: X | K75: =SUM(C75+G75) -> 65 | L75: =SUM(D75+H75) -> 763 | M75: =SUM(D75/C75) -> 11.846154 | N75: =SUM(H75/G75) -> 11.576923 | O75: =SUM(L75/K75) -> 11.738462 | P75: =SUM((D70+D71+D72+D73+D74+D75+H70+H71+H72+H73+H74+H75)/(C70+C71+C72+C73+C74+C75+G70+G71+G72+G73+G74+G75)) -> 8.3889876 | Q75: =SUM((L69+L70+L71+L72+L73+L74+L75)/(K69+K70+K71+K72+K73+K74+K75)) -> 8.5694884
B76: =SUM(B75+7) -> 46324 | K76: =SUM(C76+G76) -> 0 | L76: =SUM(D76+H76) -> 0 | M76: =SUM(D76/C76) -> #DIV/0! | N76: =SUM(H76/G76) -> #DIV/0! | O76: =SUM(L76/K76) -> #DIV/0! | P76: =SUM((D70+D71+D72+D73+D74+D75+D76+H70+H71+H72+H73+H74+H75+H76)/(C70+C71+C72+C73+C74+C75+C76+G70+G71+G72+G73+G74+G75+G76)) -> 8.3889876 | Q76: =SUM((L69+L70+L71+L72+L73+L74+L75+L76)/(K69+K70+K71+K72+K73+K74+K75+K76)) -> 8.5694884
B77: =SUM(B76+7) -> 46331 | K77: =SUM(C77+G77) -> 0 | L77: =SUM(D77+H77) -> 0 | M77: =SUM(D77/C77) -> #DIV/0! | N77: =SUM(H77/G77) -> #DIV/0! | O77: =SUM(L77/K77) -> #DIV/0! | P77: =SUM((D70+D71+D72+D73+D74+D75+D76+D77+H70+H71+H72+H73+H74+H75+H76+H77)/(C70+C71+C72+C73+C74+C75+C76+C77+G70+G71+G72+G73+G74+G75+G76+G77)) -> 8.3889876 | Q77: =SUM((L69+L70+L71+L72+L73+L74+L75+L76+L77)/(K69+K70+K71+K72+K73+K74+K75+K76+K77)) -> 8.5694884
B78: =SUM(B77+7) -> 46338 | K78: =SUM(C78+G78) -> 0 | L78: =SUM(D78+H78) -> 0 | M78: =SUM(D78/C78) -> #DIV/0! | N78: =SUM(H78/G78) -> #DIV/0! | O78: =SUM(L78/K78) -> #DIV/0! | P78: =SUM((D70+D71+D72+D73+D74+D75+D76+D77+D78+H70+H71+H72+H73+H74+H75+H76+H77+H78)/(C70+C71+C72+C73+C74+C75+C76+C77+C78+G70+G71+G72+G73+G74+G75+G76+G77+G78)) -> 8.3889876 | Q78: =SUM((L69+L70+L71+L72+L73+L74+L75+L76+L77+L78)/(K69+K70+K71+K72+K73+K74+K75+K76+K77+K78)) -> 8.5694884
B79: =SUM(B78+7) -> 46345 | K79: =SUM(C79+G79) -> 0 | L79: =SUM(D79+H79) -> 0 | M79: =SUM(D79/C79) -> #DIV/0! | N79: =SUM(H79/G79) -> #DIV/0! | O79: =SUM(L79/K79) -> #DIV/0! | P79: =SUM((D70+D71+D72+D73+D74+D75+D76+D77+D78+D79+H70+H71+H72+H73+H74+H75+H76+H77+H78+H79)/(C70+C71+C72+C73+C74+C75+C76+C77+C78+C79+G70+G71+G72+G73+G74+G75+G76+G77+G78+G79)) -> 8.3889876 | Q79: =SUM((L69+L70+L71+L72+L73+L74+L75+L76+L77+L78+L79)/(K69+K70+K71+K72+K73+K74+K75+K76+K77+K78+K79)) -> 8.5694884
B80: =SUM(B79+7) -> 46352 | K80: =SUM(C80+G80) -> 0 | L80: =SUM(D80+H80) -> 0 | M80: =SUM(D80/C80) -> #DIV/0! | N80: =SUM(H80/G80) -> #DIV/0! | O80: =SUM(L80/K80) -> #DIV/0! | P80: =SUM((D70+D71+D72+D73+D74+D75+D76+D77+D78+D79+D80+H70+H71+H72+H73+H74+H75+H76+H77+H78+H79+H80)/(C70+C71+C72+C73+C74+C75+C76+C77+C78+C79+C80+G70+G71+G72+G73+G74+G75+G76+G77+G78+G79+G80)) -> 8.3889876 | Q80: =SUM((L69+L70+L71+L72+L73+L74+L75+L76+L77+L78+L79+L80)/(K69+K70+K71+K72+K73+K74+K75+K76+K77+K78+K79+K80)) -> 8.5694884
B81: =SUM(B80+7) -> 46359 | K81: =SUM(C81+G81) -> 0 | L81: =SUM(D81+H81) -> 0 | M81: =SUM(D81/C81) -> #DIV/0! | N81: =SUM(H81/G81) -> #DIV/0! | O81: =SUM(L81/K81) -> #DIV/0! | P81: =SUM((D70+D71+D72+D73+D74+D75+D76+D77+D78+D79+D80+D81+H70+H71+H72+H73+H74+H75+H76+H77+H78+H79+H80+H81)/(C70+C71+C72+C73+C74+C75+C76+C77+C78+C79+C80+C81+G70+G71+G72+G73+G74+G75+G76+G77+G78+G79+G80+G81)) -> 8.3889876 | Q81: =SUM((L69+L70+L71+L72+L73+L74+L75+L76+L77+L78+L79+L80+L81)/(K69+K70+K71+K72+K73+K74+K75+K76+K77+K78+K79+K80+K81)) -> 8.5694884
B82: =SUM(B81+7) -> 46366 | K82: =SUM(C82+G82) -> 0 | L82: =SUM(D82+H82) -> 0 | M82: =SUM(D82/C82) -> #DIV/0! | N82: =SUM(H82/G82) -> #DIV/0! | O82: =SUM(L82/K82) -> #DIV/0! | P82: =SUM((D70+D71+D72+D73+D74+D75+D76+D77+D78+D79+D80+D81+D82+H70+H71+H72+H73+H74+H75+H76+H77+H78+H79+H80+H81+H82)/(C70+C71+C72+C73+C74+C75+C76+C77+C78+C79+C80+C81+C82+G70+G71+G72+G73+G74+G75+G76+G77+G78+G79+G80+G81+G82)) -> 8.3889876 | Q82: =SUM((L69+L70+L71+L72+L73+L74+L75+L76+L77+L78+L79+L80+L81+L82)/(K69+K70+K71+K72+K73+K74+K75+K76+K77+K78+K79+K80+K81+K82)) -> 8.5694884
B83: =SUM(B82+7) -> 46373 | K83: =SUM(C83+G83) -> 0 | L83: =SUM(D83+H83) -> 0 | M83: =SUM(D83/C83) -> #DIV/0! | N83: =SUM(H83/G83) -> #DIV/0! | O83: =SUM(L83/K83) -> #DIV/0! | P83: =SUM((D70+D71+D72+D73+D74+D75+D76+D77+D78+D79+D80+D81+D82+D83+H70+H71+H72+H73+H74+H75+H76+H77+H78+H79+H80+H81+H82+H83)/(C70+C71+C72+C73+C74+C75+C76+C77+C78+C79+C80+C81+C82+C83+G70+G71+G72+G73+G74+G75+G76+G77+G78+G79+G80+G81+G82+G83)) -> 8.3889876 | Q83: =SUM((L69+L70+L71+L72+L73+L74+L75+L76+L77+L78+L79+L80+L81+L82+L83)/(K69+K70+K71+K72+K73+K74+K75+K76+K77+K78+K79+K80+K81+K82+K83)) -> 8.5694884
B84: =SUM(B83+7) -> 46380 | K84: =SUM(C84+G84) -> 0 | L84: =SUM(D84+H84) -> 0 | M84: =SUM(D84/C84) -> #DIV/0! | N84: =SUM(H84/G84) -> #DIV/0! | O84: =SUM(L84/K84) -> #DIV/0! | P84: =SUM((D70+D71+D72+D73+D74+D75+D76+D77+D78+D79+D80+D81+D82+D83+D84+H70+H71+H72+H73+H74+H75+H76+H77+H78+H79+H80+H81+H82+H83+H84)/(C70+C71+C72+C73+C74+C75+C76+C77+C78+C79+C80+C81+C82+C83+C84+G70+G71+G72+G73+G74+G75+G76+G77+G78+G79+G80+G81+G82+G83+G84)) -> 8.3889876 | Q84: =SUM((L69+L70+L71+L72+L73+L74+L75+L76+L77+L78+L79+L80+L81+L82+L83+L84)/(K69+K70+K71+K72+K73+K74+K75+K76+K77+K78+K79+K80+K81+K82+K83+K84)) -> 8.5694884
B85: =SUM(B84+7) -> 46387 | K85: =SUM(C85+G85) -> 0 | L85: =SUM(D85+H85) -> 0 | M85: =SUM(D85/C85) -> #DIV/0! | N85: =SUM(H85/G85) -> #DIV/0! | O85: =SUM(L85/K85) -> #DIV/0! | P85: =SUM((D70+D71+D72+D73+D74+D75+D76+D77+D78+D79+D80+D81+D82+D83+D84+D85+H70+H71+H72+H73+H74+H75+H76+H77+H78+H79+H80+H81+H82+H83+H84+H85)/(C70+C71+C72+C73+C74+C75+C76+C77+C78+C79+C80+C81+C82+C83+C84+C85+G70+G71+G72+G73+G74+G75+G76+G77+G78+G79+G80+G81+G82+G83+G84+G85)) -> 8.3889876 | Q85: =SUM((L69+L70+L71+L72+L73+L74+L75+L76+L77+L78+L79+L80+L81+L82+L83+L84+L85)/(K69+K70+K71+K72+K73+K74+K75+K76+K77+K78+K79+K80+K81+K82+K83+K84+K85)) -> 8.5694884
B86: =SUM(B85+7) -> 46394 | K86: =SUM(C86+G86) -> 0 | L86: =SUM(D86+H86) -> 0 | M86: =SUM(D86/C86) -> #DIV/0! | N86: =SUM(H86/G86) -> #DIV/0! | O86: =SUM(L86/K86) -> #DIV/0! | P86: =SUM((D70+D71+D72+D73+D74+D75+D76+D77+D78+D79+D80+D81+D82+D83+D84+D85+D86+H70+H71+H72+H73+H74+H75+H76+H77+H78+H79+H80+H81+H82+H83+H84+H85+H86)/(C70+C71+C72+C73+C74+C75+C76+C77+C78+C79+C80+C81+C82+C83+C84+C85+C86+G70+G71+G72+G73+G74+G75+G76+G77+G78+G79+G80+G81+G82+G83+G84+G85+G86)) -> 8.3889876 | Q86: =SUM((L69+L70+L71+L72+L73+L74+L75+L76+L77+L78+L79+L80+L81+L82+L83+L84+L85+L86)/(K69+K70+K71+K72+K73+K74+K75+K76+K77+K78+K79+K80+K81+K82+K83+K84+K85+K86)) -> 8.5694884
B87: =SUM(B86+7) -> 46401 | K87: =SUM(C87+G87) -> 0 | L87: =SUM(D87+H87) -> 0 | M87: =SUM(D87/C87) -> #DIV/0! | N87: =SUM(H87/G87) -> #DIV/0! | O87: =SUM(L87/K87) -> #DIV/0! | P87: =SUM((D70+D71+D72+D73+D74+D75+D76+D77+D78+D79+D80+D81+D82+D83+D84+D85+D86+D87+H70+H71+H72+H73+H74+H75+H76+H77+H78+H79+H80+H81+H82+H83+H84+H85+H86+H87)/(C70+C71+C72+C73+C74+C75+C76+C77+C78+C79+C80+C81+C82+C83+C84+C85+C86+C87+G70+G71+G72+G73+G74+G75+G76+G77+G78+G79+G80+G81+G82+G83+G84+G85+G86+G87)) -> 8.3889876 | Q87: =SUM((L69+L70+L71+L72+L73+L74+L75+L76+L77+L78+L79+L80+L81+L82+L83+L84+L85+L86+L87)/(K69+K70+K71+K72+K73+K74+K75+K76+K77+K78+K79+K80+K81+K82+K83+K84+K85+K86+K87)) -> 8.5694884
B88: =SUM(B87+7) -> 46408 | K88: =SUM(C88+G88) -> 0 | L88: =SUM(D88+H88) -> 0 | M88: =SUM(D88/C88) -> #DIV/0! | N88: =SUM(H88/G88) -> #DIV/0! | O88: =SUM(L88/K88) -> #DIV/0! | P88: =SUM((D70+D71+D72+D73+D74+D75+D76+D77+D78+D79+D80+D81+D82+D83+D84+D85+D86+D87+D88+H70+H71+H72+H73+H74+H75+H76+H77+H78+H79+H80+H81+H82+H83+H84+H85+H86+H87+H88)/(C70+C71+C72+C73+C74+C75+C76+C77+C78+C79+C80+C81+C82+C83+C84+C85+C86+C87+C88+G70+G71+G72+G73+G74+G75+G76+G77+G78+G79+G80+G81+G82+G83+G84+G85+G86+G87+G88)) -> 8.3889876 | Q88: =SUM((L69+L70+L71+L72+L73+L74+L75+L76+L77+L78+L79+L80+L81+L82+L83+L84+L85+L86+L87+L88)/(K69+K70+K71+K72+K73+K74+K75+K76+K77+K78+K79+K80+K81+K82+K83+K84+K85+K86+K87+K88)) -> 8.5694884
B89: =SUM(B88+7) -> 46415 | K89: =SUM(C89+G89) -> 0 | L89: =SUM(D89+H89) -> 0 | M89: =SUM(D89/C89) -> #DIV/0! | N89: =SUM(H89/G89) -> #DIV/0! | O89: =SUM(L89/K89) -> #DIV/0! | P89: =SUM((D70+D71+D72+D73+D74+D75+D76+D77+D78+D79+D80+D81+D82+D83+D84+D85+D86+D87+D88+D89+H70+H71+H72+H73+H74+H75+H76+H77+H78+H79+H80+H81+H82+H83+H84+H85+H86+H87+H88+H89)/(C70+C71+C72+C73+C74+C75+C76+C77+C78+C79+C80+C81+C82+C83+C84+C85+C86+C87+C88+C89+G70+G71+G72+G73+G74+G75+G76+G77+G78+G79+G80+G81+G82+G83+G84+G85+G86+G87+G88+G89)) -> 8.3889876 | Q89: =SUM((L69+L70+L71+L72+L73+L74+L75+L76+L77+L78+L79+L80+L81+L82+L83+L84+L85+L86+L87+L88+L89)/(K69+K70+K71+K72+K73+K74+K75+K76+K77+K78+K79+K80+K81+K82+K83+K84+K85+K86+K87+K88+K89)) -> 8.5694884
K90: =SUM(C90+G90) -> 0 | L90: =SUM(D90+H90) -> 0 | M90: =SUM(D90/C90) -> #DIV/0! | N90: =SUM(H90/G90) -> #DIV/0! | O90: =SUM(L90/K90) -> #DIV/0! | P90: =SUM((D70+D71+D72+D73+D74+D75+D76+D77+D78+D79+D80+D81+D82+D83+D84+D85+D86+D87+D88+D89+D90+H70+H71+H72+H73+H74+H75+H76+H77+H78+H79+H80+H81+H82+H83+H84+H85+H86+H87+H88+H89+H90)/(C70+C71+C72+C73+C74+C75+C76+C77+C78+C79+C80+C81+C82+C83+C84+C85+C86+C87+C88+C89+C90+G70+G71+G72+G73+G74+G75+G76+G77+G78+G79+G80+G81+G82+G83+G84+G85+G86+G87+G88+G89+G90)) -> 8.3889876 | Q90: =SUM((L69+L70+L71+L72+L73+L74+L75+L76+L77+L78+L79+L80+L81+L82+L83+L84+L85+L86+L87+L88+L89+L90)/(K69+K70+K71+K72+K73+K74+K75+K76+K77+K78+K79+K80+K81+K82+K83+K84+K85+K86+K87+K88+K89+K90)) -> 8.5694884
K91: =SUM(C91+G91) -> 0 | L91: =SUM(D91+H91) -> 0 | M91: =SUM(D91/C91) -> #DIV/0! | N91: =SUM(H91/G91) -> #DIV/0! | O91: =SUM(L91/K91) -> #DIV/0! | P91: =SUM((D70+D71+D72+D73+D74+D75+D76+D77+D78+D79+D80+D81+D82+D83+D84+D85+D86+D87+D88+D89+D90+D91+H70+H71+H72+H73+H74+H75+H76+H77+H78+H79+H80+H81+H82+H83+H84+H85+H86+H87+H88+H89+H90+H91)/(C70+C71+C72+C73+C74+C75+C76+C77+C78+C79+C80+C81+C82+C83+C84+C85+C86+C87+C88+C89+C90+C91+G70+G71+G72+G73+G74+G75+G76+G77+G78+G79+G80+G81+G82+G83+G84+G85+G86+G87+G88+G89+G90+G91)) -> 8.3889876 | Q91: =SUM((L69+L70+L71+L72+L73+L74+L75+L76+L77+L78+L79+L80+L81+L82+L83+L84+L85+L86+L87+L88+L89+L90+L91)/(K69+K70+K71+K72+K73+K74+K75+K76+K77+K78+K79+K80+K81+K82+K83+K84+K85+K86+K87+K88+K89+K90+K91)) -> 8.5694884
K92: =SUM(C92+G92) -> 0 | L92: =SUM(D92+H92) -> 0 | M92: =SUM(D92/C92) -> #DIV/0! | N92: =SUM(H92/G92) -> #DIV/0! | O92: =SUM(L92/K92) -> #DIV/0! | P92: =SUM((D70+D71+D72+D73+D74+D75+D76+D77+D78+D79+D80+D81+D82+D83+D84+D85+D86+D87+D88+D89+D90+D91+D92+H70+H71+H72+H73+H74+H75+H76+H77+H78+H79+H80+H81+H82+H83+H84+H85+H86+H87+H88+H89+H90+H91+H92)/(C70+C71+C72+C73+C74+C75+C76+C77+C78+C79+C80+C81+C82+C83+C84+C85+C86+C87+C88+C89+C90+C91+C92+G70+G71+G72+G73+G74+G75+G76+G77+G78+G79+G80+G81+G82+G83+G84+G85+G86+G87+G88+G89+G90+G91+G92)) -> 8.3889876 | Q92: =SUM((L69+L70+L71+L72+L73+L74+L75+L76+L77+L78+L79+L80+L81+L82+L83+L84+L85+L86+L87+L88+L89+L90+L91+L92)/(K69+K70+K71+K72+K73+K74+K75+K76+K77+K78+K79+K80+K81+K82+K83+K84+K85+K86+K87+K88+K89+K90+K91+K92)) -> 8.5694884
K93: =SUM(C93+G93) -> 0 | L93: =SUM(D93+H93) -> 0 | M93: =SUM(D93/C93) -> #DIV/0! | N93: =SUM(H93/G93) -> #DIV/0! | O93: =SUM(L93/K93) -> #DIV/0! | P93: =SUM((D70+D71+D72+D73+D74+D75+D76+D77+D78+D79+D80+D81+D82+D83+D84+D85+D86+D87+D88+D89+D90+D91+D92+D93+H70+H71+H72+H73+H74+H75+H76+H77+H78+H79+H80+H81+H82+H83+H84+H85+H86+H87+H88+H89+H90+H91+H92+H93)/(C70+C71+C72+C73+C74+C75+C76+C77+C78+C79+C80+C81+C82+C83+C84+C85+C86+C87+C88+C89+C90+C91+C92+C93+G70+G71+G72+G73+G74+G75+G76+G77+G78+G79+G80+G81+G82+G83+G84+G85+G86+G87+G88+G89+G90+G91+G92+G93)) -> 8.3889876 | Q93: =SUM((L69+L70+L71+L72+L73+L74+L75+L76+L77+L78+L79+L80+L81+L82+L83+L84+L85+L86+L87+L88+L89+L90+L91+L92+L93)/(K69+K70+K71+K72+K73+K74+K75+K76+K77+K78+K79+K80+K81+K82+K83+K84+K85+K86+K87+K88+K89+K90+K91+K92+K93)) -> 8.5694884
K94: =SUM(C94+G94) -> 0 | L94: =SUM(D94+H94) -> 0 | M94: =SUM(D94/C94) -> #DIV/0! | N94: =SUM(H94/G94) -> #DIV/0! | O94: =SUM(L94/K94) -> #DIV/0! | P94: =SUM((D70+D71+D72+D73+D74+D75+D76+D77+D78+D79+D80+D81+D82+D83+D84+D85+D86+D87+D88+D89+D90+D91+D92+D93+D94+H70+H71+H72+H73+H74+H75+H76+H77+H78+H79+H80+H81+H82+H83+H84+H85+H86+H87+H88+H89+H90+H91+H92+H93+H94)/(C70+C71+C72+C73+C74+C75+C76+C77+C78+C79+C80+C81+C82+C83+C84+C85+C86+C87+C88+C89+C90+C91+C92+C93+C94+G70+G71+G72+G73+G74+G75+G76+G77+G78+G79+G80+G81+G82+G83+G84+G85+G86+G87+G88+G89+G90+G91+G92+G93+G94)) -> 8.3889876 | Q94: =SUM((L69+L70+L71+L72+L73+L74+L75+L76+L77+L78+L79+L80+L81+L82+L83+L84+L85+L86+L87+L88+L89+L90+L91+L92+L93+L94)/(K69+K70+K71+K72+K73+K74+K75+K76+K77+K78+K79+K80+K81+K82+K83+K84+K85+K86+K87+K88+K89+K90+K91+K92+K93+K94)) -> 8.5694884
K95: =SUM(C95+G95) -> 0 | L95: =SUM(D95+H95) -> 0 | M95: =SUM(D95/C95) -> #DIV/0! | N95: =SUM(H95/G95) -> #DIV/0! | O95: =SUM(L95/K95) -> #DIV/0! | P95: =SUM((D70+D71+D72+D73+D74+D75+D76+D77+D78+D79+D80+D81+D82+D83+D84+D85+D86+D87+D88+D89+D90+D91+D92+D93+D94+D95+H70+H71+H72+H73+H74+H75+H76+H77+H78+H79+H80+H81+H82+H83+H84+H85+H86+H87+H88+H89+H90+H91+H92+H93+H94+H95)/(C70+C71+C72+C73+C74+C75+C76+C77+C78+C79+C80+C81+C82+C83+C84+C85+C86+C87+C88+C89+C90+C91+C92+C93+C94+C95+G70+G71+G72+G73+G74+G75+G76+G77+G78+G79+G80+G81+G82+G83+G84+G85+G86+G87+G88+G89+G90+G91+G92+G93+G94+G95)) -> 8.3889876 | Q95: =SUM((L69+L70+L71+L72+L73+L74+L75+L76+L77+L78+L79+L80+L81+L82+L83+L84+L85+L86+L87+L88+L89+L90+L91+L92+L93+L94+L95)/(K69+K70+K71+K72+K73+K74+K75+K76+K77+K78+K79+K80+K81+K82+K83+K84+K85+K86+K87+K88+K89+K90+K91+K92+K93+K94+K95)) -> 8.5694884
K96: =SUM(C96+G96) -> 0 | L96: =SUM(D96+H96) -> 0 | M96: =SUM(D96/C96) -> #DIV/0! | N96: =SUM(H96/G96) -> #DIV/0! | O96: =SUM(L96/K96) -> #DIV/0! | P96: =SUM((D70+D71+D72+D73+D74+D75+D76+D77+D78+D79+D80+D81+D82+D83+D84+D85+D86+D87+D88+D89+D90+D91+D92+D93+D94+D95+D96+H70+H71+H72+H73+H74+H75+H76+H77+H78+H79+H80+H81+H82+H83+H84+H85+H86+H87+H88+H89+H90+H91+H92+H93+H94+H95+H96)/(C70+C71+C72+C73+C74+C75+C76+C77+C78+C79+C80+C81+C82+C83+C84+C85+C86+C87+C88+C89+C90+C91+C92+C93+C94+C95+C96+G70+G71+G72+G73+G74+G75+G76+G77+G78+G79+G80+G81+G82+G83+G84+G85+G86+G87+G88+G89+G90+G91+G92+G93+G94+G95+G96)) -> 8.3889876 | Q96: =SUM((L69+L70+L71+L72+L73+L74+L75+L76+L77+L78+L79+L80+L81+L82+L83+L84+L85+L86+L87+L88+L89+L90+L91+L92+L93+L94+L95+L96)/(K69+K70+K71+K72+K73+K74+K75+K76+K77+K78+K79+K80+K81+K82+K83+K84+K85+K86+K87+K88+K89+K90+K91+K92+K93+K94+K95+K96)) -> 8.5694884
A99: LEAGUE AVERAGE | C99: =Q96 -> 8.5694884 | E99: =COUNTA(E70:E96) -> 2 | F99: =COUNTA(F70:F96) -> 4 | I99: =COUNTA(I70:I96) -> 5 | J99: =COUNTA(J70:J96) -> 1 | K99: =SUM(K69:K96) -> 609.60465 | L99: =SUM(L69:L96) -> 5224
A101: Korey Haukom
B102: Beginning Avg | C102: =SUM(D102/9.42) -> 53.184713 | D102: 501 | K102: =C102 -> 53.184713 | L102: 501 | M102: =SUM(D102/C102) -> 9.42 | N102: =SUM(H102/G102) -> #DIV/0! | O102: =SUM(L102/K102) -> 9.42 | P102: =SUM((D102+H102)/(C102+G102)) -> 9.42 | Q102: =SUM(L102/K102) -> 9.42
B103: 46282 | C103: 78 | D103: 519 | F103: X | G103: 27 | H103: 200 | J103: X | K103: =SUM(C103+G103) -> 105 | L103: =SUM(D103+H103) -> 719 | M103: =SUM(D103/C103) -> 6.6538462 | N103: =SUM(H103/G103) -> 7.4074074 | O103: =SUM(L103/K103) -> 6.847619 | P103: =SUM((D103+H103)/(C103+G103)) -> 6.847619 | Q103: =SUM((L102+L103)/(K102+K103)) -> 7.7125025
B104: =SUM(B103+7) -> 46289 | C104: 49 | D104: 501 | E104: X | G104: 47 | H104: 301 | I104: X | K104: =SUM(C104+G104) -> 96 | L104: =SUM(D104+H104) -> 802 | M104: =SUM(D104/C104) -> 10.22449 | N104: =SUM(H104/G104) -> 6.4042553 | O104: =SUM(L104/K104) -> 8.3541667 | P104: =SUM((D103+D104+H103+H104)/(C103+C104+G103+G104)) -> 7.5671642 | Q104: =SUM((L102+L103+L104)/(K102+K103+K104)) -> 7.954845
B105: =SUM(B104+7) -> 46296 | C105: 65 | D105: 501 | E105: X | G105: 30 | H105: 245 | J105: X | K105: =SUM(C105+G105) -> 95 | L105: =SUM(D105+H105) -> 746 | M105: =SUM(D105/C105) -> 7.7076923 | N105: =SUM(H105/G105) -> 8.1666667 | O105: =SUM(L105/K105) -> 7.8526316 | P105: =SUM((D103+D104+D105+H103+H104+H105)/(C103+C104+C105+G103+G104+G105)) -> 7.6587838 | Q105: =SUM((L102+L103+L104+L105)/(K102+K103+K104+K105)) -> 7.9270366
B106: =SUM(B105+7) -> 46303 | K106: =SUM(C106+G106) -> 0 | L106: =SUM(D106+H106) -> 0 | M106: =SUM(D106/C106) -> #DIV/0! | N106: =SUM(H106/G106) -> #DIV/0! | O106: =SUM(L106/K106) -> #DIV/0! | P106: =SUM((D103+D104+D105+D106+H103+H104+H105+H106)/(C103+C104+C105+C106+G103+G104+G105+G106)) -> 7.6587838 | Q106: =SUM((L102+L103+L104+L105+L106)/(K102+K103+K104+K105+K106)) -> 7.9270366
B107: =SUM(B106+7) -> 46310 | C107: 48 | D107: 492 | F107: X | G107: 24 | H107: 301 | I107: X | K107: =SUM(C107+G107) -> 72 | L107: =SUM(D107+H107) -> 793 | M107: =SUM(D107/C107) -> 10.25 | N107: =SUM(H107/G107) -> 12.541667 | O107: =SUM(L107/K107) -> 11.013889 | P107: =SUM((D103+D104+D105+D106+D107+H103+H104+H105+H106+H107)/(C103+C104+C105+C106+C107+G103+G104+G105+G106+G107)) -> 8.3152174 | Q107: =SUM((L102+L103+L104+L105+L106+L107)/(K102+K103+K104+K105+K106+K107)) -> 8.4547228
B108: =SUM(B107+7) -> 46317 | C108: 39 | D108: 463 | F108: X | G108: 40 | H108: 301 | I108: X | K108: =SUM(C108+G108) -> 79 | L108: =SUM(D108+H108) -> 764 | M108: =SUM(D108/C108) -> 11.871795 | N108: =SUM(H108/G108) -> 7.525 | O108: =SUM(L108/K108) -> 9.6708861 | P108: =SUM((D103+D104+D105+D106+D107+D108+H103+H104+H105+H106+H107+H108)/(C103+C104+C105+C106+C107+C108+G103+G104+G105+G106+G107+G108)) -> 8.5548098 | Q108: =SUM((L102+L103+L104+L105+L106+L107+L108)/(K102+K103+K104+K105+K106+K107+K108)) -> 8.6468056
B109: =SUM(B108+7) -> 46324 | K109: =SUM(C109+G109) -> 0 | L109: =SUM(D109+H109) -> 0 | M109: =SUM(D109/C109) -> #DIV/0! | N109: =SUM(H109/G109) -> #DIV/0! | O109: =SUM(L109/K109) -> #DIV/0! | P109: =SUM((D103+D104+D105+D106+D107+D108+D109+H103+H104+H105+H106+H107+H108+H109)/(C103+C104+C105+C106+C107+C108+C109+G103+G104+G105+G106+G107+G108+G109)) -> 8.5548098 | Q109: =SUM((L102+L103+L104+L105+L106+L107+L108+L109)/(K102+K103+K104+K105+K106+K107+K108+K109)) -> 8.6468056
...

Sheet Dart Panthers
A1: NAME | B1: DATE | C1: 501 DARTS THROWN | D1: 501 POINTS | E1: WIN? | F1: LOSS? | G1: 301 DARTS THROWN | H1: 301 POINTS | I1: WIN? | J1: LOSS? | K1: TOTAL DARTS THROWN | L1: TOTAL POINTS | M1: 501 AVERAGE | N1: 301 AVERAGE | O1: MATCH AVERAGE | P1: WEEKLY AVERAGE | Q1: RAW HANDICAP
A2: Dietrich Johnson
B3: Beginning Avg | C3: =SUM(D3/12.18) -> 41.133005 | D3: 501 | K3: =C3 -> 41.133005 | L3: 501 | M3: =SUM(D3/C3) -> 12.18 | N3: =SUM(H3/G3) -> #DIV/0! | O3: =SUM(L3/K3) -> 12.18 | P3: =SUM((D3+H3)/(C3+G3)) -> 12.18 | Q3: =SUM(L3/K3) -> 12.18
B4: 46282 | C4: 33 | D4: 415 | F4: X | G4: 37 | H4: 301 | I4: X | K4: =SUM(C4+G4) -> 70 | L4: =SUM(D4+H4) -> 716 | M4: =SUM(D4/C4) -> 12.575758 | N4: =SUM(H4/G4) -> 8.1351351 | O4: =SUM(L4/K4) -> 10.228571 | P4: =SUM((D4+H4)/(C4+G4)) -> 10.228571 | Q4: =SUM((L3+L4)/(K3+K4)) -> 10.950842
B5: =SUM(B4+7) -> 46289 | C5: 42 | D5: 497 | F5: X | G5: 30 | H5: 325 | I5: X | K5: =SUM(C5+G5) -> 72 | L5: =SUM(D5+H5) -> 822 | M5: =SUM(D5/C5) -> 11.833333 | N5: =SUM(H5/G5) -> 10.833333 | O5: =SUM(L5/K5) -> 11.416667 | P5: =SUM((D4+D5+H4+H5)/(C4+C5+G4+G5)) -> 10.830986 | Q5: =SUM((L3+L4+L5)/(K3+K4+K5)) -> 11.133984
B6: =SUM(B5+7) -> 46296 | K6: =SUM(C6+G6) -> 0 | L6: =SUM(D6+H6) -> 0 | M6: =SUM(D6/C6) -> #DIV/0! | N6: =SUM(H6/G6) -> #DIV/0! | O6: =SUM(L6/K6) -> #DIV/0! | P6: =SUM((D4+D5+D6+H4+H5+H6)/(C4+C5+C6+G4+G5+G6)) -> 10.830986 | Q6: =SUM((L3+L4+L5+L6)/(K3+K4+K5+K6)) -> 11.133984
B7: =SUM(B6+7) -> 46303 | K7: =SUM(C7+G7) -> 0 | L7: =SUM(D7+H7) -> 0 | M7: =SUM(D7/C7) -> #DIV/0! | N7: =SUM(H7/G7) -> #DIV/0! | O7: =SUM(L7/K7) -> #DIV/0! | P7: =SUM((D4+D5+D6+D7+H4+H5+H6+H7)/(C4+C5+C6+C7+G4+G5+G6+G7)) -> 10.830986 | Q7: =SUM((L3+L4+L5+L6+L7)/(K3+K4+K5+K6+K7)) -> 11.133984
B8: =SUM(B7+7) -> 46310 | C8: 30 | D8: 565 | F8: X | G8: 19 | H8: 301 | I8: X | K8: =SUM(C8+G8) -> 49 | L8: =SUM(D8+H8) -> 866 | M8: =SUM(D8/C8) -> 18.833333 | N8: =SUM(H8/G8) -> 15.842105 | O8: =SUM(L8/K8) -> 17.673469 | P8: =SUM((D4+D5+D6+D7+D8+H4+H5+H6+H7+H8)/(C4+C5+C6+C7+C8+G4+G5+G6+G7+G8)) -> 12.586387 | Q8: =SUM((L3+L4+L5+L6+L7+L8)/(K3+K4+K5+K6+K7+K8)) -> 12.514377
B9: =SUM(B8+7) -> 46317 | C9: 45 | D9: 501 | E9: X | G9: 27 | H9: 349 | J9: X | K9: =SUM(C9+G9) -> 72 | L9: =SUM(D9+H9) -> 850 | M9: =SUM(D9/C9) -> 11.133333 | N9: =SUM(H9/G9) -> 12.925926 | O9: =SUM(L9/K9) -> 11.805556 | P9: =SUM((D4+D5+D6+D7+D8+D9+H4+H5+H6+H7+H8+H9)/(C4+C5+C6+C7+C8+C9+G4+G5+G6+G7+G8+G9)) -> 12.372624 | Q9: =SUM((L3+L4+L5+L6+L7+L8+L9)/(K3+K4+K5+K6+K7+K8+K9)) -> 12.346572
B10: =SUM(B9+7) -> 46324 | K10: =SUM(C10+G10) -> 0 | L10: =SUM(D10+H10) -> 0 | M10: =SUM(D10/C10) -> #DIV/0! | N10: =SUM(H10/G10) -> #DIV/0! | O10: =SUM(L10/K10) -> #DIV/0! | P10: =SUM((D4+D5+D6+D7+D8+D9+D10+H4+H5+H6+H7+H8+H9+H10)/(C4+C5+C6+C7+C8+C9+C10+G4+G5+G6+G7+G8+G9+G10)) -> 12.372624 | Q10: =SUM((L3+L4+L5+L6+L7+L8+L9+L10)/(K3+K4+K5+K6+K7+K8+K9+K10)) -> 12.346572
B11: =SUM(B10+7) -> 46331 | K11: =SUM(C11+G11) -> 0 | L11: =SUM(D11+H11) -> 0 | M11: =SUM(D11/C11) -> #DIV/0! | N11: =SUM(H11/G11) -> #DIV/0! | O11: =SUM(L11/K11) -> #DIV/0! | P11: =SUM((D4+D5+D6+D7+D8+D9+D10+D11+H4+H5+H6+H7+H8+H9+H10+H11)/(C4+C5+C6+C7+C8+C9+C10+C11+G4+G5+G6+G7+G8+G9+G10+G11)) -> 12.372624 | Q11: =SUM((L3+L4+L5+L6+L7+L8+L9+L10+L11)/(K3+K4+K5+K6+K7+K8+K9+K10+K11)) -> 12.346572
B12: =SUM(B11+7) -> 46338 | K12: =SUM(C12+G12) -> 0 | L12: =SUM(D12+H12) -> 0 | M12: =SUM(D12/C12) -> #DIV/0! | N12: =SUM(H12/G12) -> #DIV/0! | O12: =SUM(L12/K12) -> #DIV/0! | P12: =SUM((D4+D5+D6+D7+D8+D9+D10+D11+D12+H4+H5+H6+H7+H8+H9+H10+H11+H12)/(C4+C5+C6+C7+C8+C9+C10+C11+C12+G4+G5+G6+G7+G8+G9+G10+G11+G12)) -> 12.372624 | Q12: =SUM((L3+L4+L5+L6+L7+L8+L9+L10+L11+L12)/(K3+K4+K5+K6+K7+K8+K9+K10+K11+K12)) -> 12.346572
B13: =SUM(B12+7) -> 46345 | K13: =SUM(C13+G13) -> 0 | L13: =SUM(D13+H13) -> 0 | M13: =SUM(D13/C13) -> #DIV/0! | N13: =SUM(H13/G13) -> #DIV/0! | O13: =SUM(L13/K13) -> #DIV/0! | P13: =SUM((D4+D5+D6+D7+D8+D9+D10+D11+D12+D13+H4+H5+H6+H7+H8+H9+H10+H11+H12+H13)/(C4+C5+C6+C7+C8+C9+C10+C11+C12+C13+G4+G5+G6+G7+G8+G9+G10+G11+G12+G13)) -> 12.372624 | Q13: =SUM((L3+L4+L5+L6+L7+L8+L9+L10+L11+L12+L13)/(K3+K4+K5+K6+K7+K8+K9+K10+K11+K12+K13)) -> 12.346572
B14: =SUM(B13+7) -> 46352 | K14: =SUM(C14+G14) -> 0 | L14: =SUM(D14+H14) -> 0 | M14: =SUM(D14/C14) -> #DIV/0! | N14: =SUM(H14/G14) -> #DIV/0! | O14: =SUM(L14/K14) -> #DIV/0! | P14: =SUM((D4+D5+D6+D7+D8+D9+D10+D11+D12+D13+D14+H4+H5+H6+H7+H8+H9+H10+H11+H12+H13+H14)/(C4+C5+C6+C7+C8+C9+C10+C11+C12+C13+C14+G4+G5+G6+G7+G8+G9+G10+G11+G12+G13+G14)) -> 12.372624 | Q14: =SUM((L3+L4+L5+L6+L7+L8+L9+L10+L11+L12+L13+L14)/(K3+K4+K5+K6+K7+K8+K9+K10+K11+K12+K13+K14)) -> 12.346572
B15: =SUM(B14+7) -> 46359 | K15: =SUM(C15+G15) -> 0 | L15: =SUM(D15+H15) -> 0 | M15: =SUM(D15/C15) -> #DIV/0! | N15: =SUM(H15/G15) -> #DIV/0! | O15: =SUM(L15/K15) -> #DIV/0! | P15: =SUM((D4+D5+D6+D7+D8+D9+D10+D11+D12+D13+D14+D15+H4+H5+H6+H7+H8+H9+H10+H11+H12+H13+H14+H15)/(C4+C5+C6+C7+C8+C9+C10+C11+C12+C13+C14+C15+G4+G5+G6+G7+G8+G9+G10+G11+G12+G13+G14+G15)) -> 12.372624 | Q15: =SUM((L3+L4+L5+L6+L7+L8+L9+L10+L11+L12+L13+L14+L15)/(K3+K4+K5+K6+K7+K8+K9+K10+K11+K12+K13+K14+K15)) -> 12.346572
B16: =SUM(B15+7) -> 46366 | K16: =SUM(C16+G16) -> 0 | L16: =SUM(D16+H16) -> 0 | M16: =SUM(D16/C16) -> #DIV/0! | N16: =SUM(H16/G16) -> #DIV/0! | O16: =SUM(L16/K16) -> #DIV/0! | P16: =SUM((D4+D5+D6+D7+D8+D9+D10+D11+D12+D13+D14+D15+D16+H4+H5+H6+H7+H8+H9+H10+H11+H12+H13+H14+H15+H16)/(C4+C5+C6+C7+C8+C9+C10+C11+C12+C13+C14+C15+C16+G4+G5+G6+G7+G8+G9+G10+G11+G12+G13+G14+G15+G16)) -> 12.372624 | Q16: =SUM((L3+L4+L5+L6+L7+L8+L9+L10+L11+L12+L13+L14+L15+L16)/(K3+K4+K5+K6+K7+K8+K9+K10+K11+K12+K13+K14+K15+K16)) -> 12.346572
B17: =SUM(B16+7) -> 46373 | K17: =SUM(C17+G17) -> 0 | L17: =SUM(D17+H17) -> 0 | M17: =SUM(D17/C17) -> #DIV/0! | N17: =SUM(H17/G17) -> #DIV/0! | O17: =SUM(L17/K17) -> #DIV/0! | P17: =SUM((D4+D5+D6+D7+D8+D9+D10+D11+D12+D13+D14+D15+D16+D17+H4+H5+H6+H7+H8+H9+H10+H11+H12+H13+H14+H15+H16+H17)/(C4+C5+C6+C7+C8+C9+C10+C11+C12+C13+C14+C15+C16+C17+G4+G5+G6+G7+G8+G9+G10+G11+G12+G13+G14+G15+G16+G17)) -> 12.372624 | Q17: =SUM((L3+L4+L5+L6+L7+L8+L9+L10+L11+L12+L13+L14+L15+L16+L17)/(K3+K4+K5+K6+K7+K8+K9+K10+K11+K12+K13+K14+K15+K16+K17)) -> 12.346572
B18: =SUM(B17+7) -> 46380 | K18: =SUM(C18+G18) -> 0 | L18: =SUM(D18+H18) -> 0 | M18: =SUM(D18/C18) -> #DIV/0! | N18: =SUM(H18/G18) -> #DIV/0! | O18: =SUM(L18/K18) -> #DIV/0! | P18: =SUM((D4+D5+D6+D7+D8+D9+D10+D11+D12+D13+D14+D15+D16+D17+D18+H4+H5+H6+H7+H8+H9+H10+H11+H12+H13+H14+H15+H16+H17+H18)/(C4+C5+C6+C7+C8+C9+C10+C11+C12+C13+C14+C15+C16+C17+C18+G4+G5+G6+G7+G8+G9+G10+G11+G12+G13+G14+G15+G16+G17+G18)) -> 12.372624 | Q18: =SUM((L3+L4+L5+L6+L7+L8+L9+L10+L11+L12+L13+L14+L15+L16+L17+L18)/(K3+K4+K5+K6+K7+K8+K9+K10+K11+K12+K13+K14+K15+K16+K17+K18)) -> 12.346572
B19: =SUM(B18+7) -> 46387 | K19: =SUM(C19+G19) -> 0 | L19: =SUM(D19+H19) -> 0 | M19: =SUM(D19/C19) -> #DIV/0! | N19: =SUM(H19/G19) -> #DIV/0! | O19: =SUM(L19/K19) -> #DIV/0! | P19: =SUM((D4+D5+D6+D7+D8+D9+D10+D11+D12+D13+D14+D15+D16+D17+D18+D19+H4+H5+H6+H7+H8+H9+H10+H11+H12+H13+H14+H15+H16+H17+H18+H19)/(C4+C5+C6+C7+C8+C9+C10+C11+C12+C13+C14+C15+C16+C17+C18+C19+G4+G5+G6+G7+G8+G9+G10+G11+G12+G13+G14+G15+G16+G17+G18+G19)) -> 12.372624 | Q19: =SUM((L3+L4+L5+L6+L7+L8+L9+L10+L11+L12+L13+L14+L15+L16+L17+L18+L19)/(K3+K4+K5+K6+K7+K8+K9+K10+K11+K12+K13+K14+K15+K16+K17+K18+K19)) -> 12.346572
B20: =SUM(B19+7) -> 46394 | K20: =SUM(C20+G20) -> 0 | L20: =SUM(D20+H20) -> 0 | M20: =SUM(D20/C20) -> #DIV/0! | N20: =SUM(H20/G20) -> #DIV/0! | O20: =SUM(L20/K20) -> #DIV/0! | P20: =SUM((D4+D5+D6+D7+D8+D9+D10+D11+D12+D13+D14+D15+D16+D17+D18+D19+D20+H4+H5+H6+H7+H8+H9+H10+H11+H12+H13+H14+H15+H16+H17+H18+H19+H20)/(C4+C5+C6+C7+C8+C9+C10+C11+C12+C13+C14+C15+C16+C17+C18+C19+C20+G4+G5+G6+G7+G8+G9+G10+G11+G12+G13+G14+G15+G16+G17+G18+G19+G20)) -> 12.372624 | Q20: =SUM((L3+L4+L5+L6+L7+L8+L9+L10+L11+L12+L13+L14+L15+L16+L17+L18+L19+L20)/(K3+K4+K5+K6+K7+K8+K9+K10+K11+K12+K13+K14+K15+K16+K17+K18+K19+K20)) -> 12.346572
B21: =SUM(B20+7) -> 46401 | K21: =SUM(C21+G21) -> 0 | L21: =SUM(D21+H21) -> 0 | M21: =SUM(D21/C21) -> #DIV/0! | N21: =SUM(H21/G21) -> #DIV/0! | O21: =SUM(L21/K21) -> #DIV/0! | P21: =SUM((D4+D5+D6+D7+D8+D9+D10+D11+D12+D13+D14+D15+D16+D17+D18+D19+D20+D21+H4+H5+H6+H7+H8+H9+H10+H11+H12+H13+H14+H15+H16+H17+H18+H19+H20+H21)/(C4+C5+C6+C7+C8+C9+C10+C11+C12+C13+C14+C15+C16+C17+C18+C19+C20+C21+G4+G5+G6+G7+G8+G9+G10+G11+G12+G13+G14+G15+G16+G17+G18+G19+G20+G21)) -> 12.372624 | Q21: =SUM((L3+L4+L5+L6+L7+L8+L9+L10+L11+L12+L13+L14+L15+L16+L17+L18+L19+L20+L21)/(K3+K4+K5+K6+K7+K8+K9+K10+K11+K12+K13+K14+K15+K16+K17+K18+K19+K20+K21)) -> 12.346572
B22: =SUM(B21+7) -> 46408 | K22: =SUM(C22+G22) -> 0 | L22: =SUM(D22+H22) -> 0 | M22: =SUM(D22/C22) -> #DIV/0! | N22: =SUM(H22/G22) -> #DIV/0! | O22: =SUM(L22/K22) -> #DIV/0! | P22: =SUM((D4+D5+D6+D7+D8+D9+D10+D11+D12+D13+D14+D15+D16+D17+D18+D19+D20+D21+D22+H4+H5+H6+H7+H8+H9+H10+H11+H12+H13+H14+H15+H16+H17+H18+H19+H20+H21+H22)/(C4+C5+C6+C7+C8+C9+C10+C11+C12+C13+C14+C15+C16+C17+C18+C19+C20+C21+C22+G4+G5+G6+G7+G8+G9+G10+G11+G12+G13+G14+G15+G16+G17+G18+G19+G20+G21+G22)) -> 12.372624 | Q22: =SUM((L3+L4+L5+L6+L7+L8+L9+L10+L11+L12+L13+L14+L15+L16+L17+L18+L19+L20+L21+L22)/(K3+K4+K5+K6+K7+K8+K9+K10+K11+K12+K13+K14+K15+K16+K17+K18+K19+K20+K21+K22)) -> 12.346572
B23: =SUM(B22+7) -> 46415 | K23: =SUM(C23+G23) -> 0 | L23: =SUM(D23+H23) -> 0 | M23: =SUM(D23/C23) -> #DIV/0! | N23: =SUM(H23/G23) -> #DIV/0! | O23: =SUM(L23/K23) -> #DIV/0! | P23: =SUM((D4+D5+D6+D7+D8+D9+D10+D11+D12+D13+D14+D15+D16+D17+D18+D19+D20+D21+D22+D23+H4+H5+H6+H7+H8+H9+H10+H11+H12+H13+H14+H15+H16+H17+H18+H19+H20+H21+H22+H23)/(C4+C5+C6+C7+C8+C9+C10+C11+C12+C13+C14+C15+C16+C17+C18+C19+C20+C21+C22+C23+G4+G5+G6+G7+G8+G9+G10+G11+G12+G13+G14+G15+G16+G17+G18+G19+G20+G21+G22+G23)) -> 12.372624 | Q23: =SUM((L3+L4+L5+L6+L7+L8+L9+L10+L11+L12+L13+L14+L15+L16+L17+L18+L19+L20+L21+L22+L23)/(K3+K4+K5+K6+K7+K8+K9+K10+K11+K12+K13+K14+K15+K16+K17+K18+K19+K20+K21+K22+K23)) -> 12.346572
K24: =SUM(C24+G24) -> 0 | L24: =SUM(D24+H24) -> 0 | M24: =SUM(D24/C24) -> #DIV/0! | N24: =SUM(H24/G24) -> #DIV/0! | O24: =SUM(L24/K24) -> #DIV/0! | P24: =SUM((D4+D5+D6+D7+D8+D9+D10+D11+D12+D13+D14+D15+D16+D17+D18+D19+D20+D21+D22+D23+D24+H4+H5+H6+H7+H8+H9+H10+H11+H12+H13+H14+H15+H16+H17+H18+H19+H20+H21+H22+H23+H24)/(C4+C5+C6+C7+C8+C9+C10+C11+C12+C13+C14+C15+C16+C17+C18+C19+C20+C21+C22+C23+C24+G4+G5+G6+G7+G8+G9+G10+G11+G12+G13+G14+G15+G16+G17+G18+G19+G20+G21+G22+G23+G24)) -> 12.372624 | Q24: =SUM((L3+L4+L5+L6+L7+L8+L9+L10+L11+L12+L13+L14+L15+L16+L17+L18+L19+L20+L21+L22+L23+L24)/(K3+K4+K5+K6+K7+K8+K9+K10+K11+K12+K13+K14+K15+K16+K17+K18+K19+K20+K21+K22+K23+K24)) -> 12.346572
K25: =SUM(C25+G25) -> 0 | L25: =SUM(D25+H25) -> 0 | M25: =SUM(D25/C25) -> #DIV/0! | N25: =SUM(H25/G25) -> #DIV/0! | O25: =SUM(L25/K25) -> #DIV/0! | P25: =SUM((D4+D5+D6+D7+D8+D9+D10+D11+D12+D13+D14+D15+D16+D17+D18+D19+D20+D21+D22+D23+D24+D25+H4+H5+H6+H7+H8+H9+H10+H11+H12+H13+H14+H15+H16+H17+H18+H19+H20+H21+H22+H23+H24+H25)/(C4+C5+C6+C7+C8+C9+C10+C11+C12+C13+C14+C15+C16+C17+C18+C19+C20+C21+C22+C23+C24+C25+G4+G5+G6+G7+G8+G9+G10+G11+G12+G13+G14+G15+G16+G17+G18+G19+G20+G21+G22+G23+G24+G25)) -> 12.372624 | Q25: =SUM((L3+L4+L5+L6+L7+L8+L9+L10+L11+L12+L13+L14+L15+L16+L17+L18+L19+L20+L21+L22+L23+L24+L25)/(K3+K4+K5+K6+K7+K8+K9+K10+K11+K12+K13+K14+K15+K16+K17+K18+K19+K20+K21+K22+K23+K24+K25)) -> 12.346572
K26: =SUM(C26+G26) -> 0 | L26: =SUM(D26+H26) -> 0 | M26: =SUM(D26/C26) -> #DIV/0! | N26: =SUM(H26/G26) -> #DIV/0! | O26: =SUM(L26/K26) -> #DIV/0! | P26: =SUM((D4+D5+D6+D7+D8+D9+D10+D11+D12+D13+D14+D15+D16+D17+D18+D19+D20+D21+D22+D23+D24+D25+D26+H4+H5+H6+H7+H8+H9+H10+H11+H12+H13+H14+H15+H16+H17+H18+H19+H20+H21+H22+H23+H24+H25+H26)/(C4+C5+C6+C7+C8+C9+C10+C11+C12+C13+C14+C15+C16+C17+C18+C19+C20+C21+C22+C23+C24+C25+C26+G4+G5+G6+G7+G8+G9+G10+G11+G12+G13+G14+G15+G16+G17+G18+G19+G20+G21+G22+G23+G24+G25+G26)) -> 12.372624 | Q26: =SUM((L3+L4+L5+L6+L7+L8+L9+L10+L11+L12+L13+L14+L15+L16+L17+L18+L19+L20+L21+L22+L23+L24+L25+L26)/(K3+K4+K5+K6+K7+K8+K9+K10+K11+K12+K13+K14+K15+K16+K17+K18+K19+K20+K21+K22+K23+K24+K25+K26)) -> 12.346572
K27: =SUM(C27+G27) -> 0 | L27: =SUM(D27+H27) -> 0 | M27: =SUM(D27/C27) -> #DIV/0! | N27: =SUM(H27/G27) -> #DIV/0! | O27: =SUM(L27/K27) -> #DIV/0! | P27: =SUM((D4+D5+D6+D7+D8+D9+D10+D11+D12+D13+D14+D15+D16+D17+D18+D19+D20+D21+D22+D23+D24+D25+D26+D27+H4+H5+H6+H7+H8+H9+H10+H11+H12+H13+H14+H15+H16+H17+H18+H19+H20+H21+H22+H23+H24+H25+H26+H27)/(C4+C5+C6+C7+C8+C9+C10+C11+C12+C13+C14+C15+C16+C17+C18+C19+C20+C21+C22+C23+C24+C25+C26+C27+G4+G5+G6+G7+G8+G9+G10+G11+G12+G13+G14+G15+G16+G17+G18+G19+G20+G21+G22+G23+G24+G25+G26+G27)) -> 12.372624 | Q27: =SUM((L3+L4+L5+L6+L7+L8+L9+L10+L11+L12+L13+L14+L15+L16+L17+L18+L19+L20+L21+L22+L23+L24+L25+L26+L27)/(K3+K4+K5+K6+K7+K8+K9+K10+K11+K12+K13+K14+K15+K16+K17+K18+K19+K20+K21+K22+K23+K24+K25+K26+K27)) -> 12.346572
K28: =SUM(C28+G28) -> 0 | L28: =SUM(D28+H28) -> 0 | M28: =SUM(D28/C28) -> #DIV/0! | N28: =SUM(H28/G28) -> #DIV/0! | O28: =SUM(L28/K28) -> #DIV/0! | P28: =SUM((D4+D5+D6+D7+D8+D9+D10+D11+D12+D13+D14+D15+D16+D17+D18+D19+D20+D21+D22+D23+D24+D25+D26+D27+D28+H4+H5+H6+H7+H8+H9+H10+H11+H12+H13+H14+H15+H16+H17+H18+H19+H20+H21+H22+H23+H24+H25+H26+H27+H28)/(C4+C5+C6+C7+C8+C9+C10+C11+C12+C13+C14+C15+C16+C17+C18+C19+C20+C21+C22+C23+C24+C25+C26+C27+C28+G4+G5+G6+G7+G8+G9+G10+G11+G12+G13+G14+G15+G16+G17+G18+G19+G20+G21+G22+G23+G24+G25+G26+G27+G28)) -> 12.372624 | Q28: =SUM((L3+L4+L5+L6+L7+L8+L9+L10+L11+L12+L13+L14+L15+L16+L17+L18+L19+L20+L21+L22+L23+L24+L25+L26+L27+L28)/(K3+K4+K5+K6+K7+K8+K9+K10+K11+K12+K13+K14+K15+K16+K17+K18+K19+K20+K21+K22+K23+K24+K25+K26+K27+K28)) -> 12.346572
K29: =SUM(C29+G29) -> 0 | L29: =SUM(D29+H29) -> 0 | M29: =SUM(D29/C29) -> #DIV/0! | N29: =SUM(H29/G29) -> #DIV/0! | O29: =SUM(L29/K29) -> #DIV/0! | P29: =SUM((D4+D5+D6+D7+D8+D9+D10+D11+D12+D13+D14+D15+D16+D17+D18+D19+D20+D21+D22+D23+D24+D25+D26+D27+D28+D29+H4+H5+H6+H7+H8+H9+H10+H11+H12+H13+H14+H15+H16+H17+H18+H19+H20+H21+H22+H23+H24+H25+H26+H27+H28+H29)/(C4+C5+C6+C7+C8+C9+C10+C11+C12+C13+C14+C15+C16+C17+C18+C19+C20+C21+C22+C23+C24+C25+C26+C27+C28+C29+G4+G5+G6+G7+G8+G9+G10+G11+G12+G13+G14+G15+G16+G17+G18+G19+G20+G21+G22+G23+G24+G25+G26+G27+G28+G29)) -> 12.372624 | Q29: =SUM((L3+L4+L5+L6+L7+L8+L9+L10+L11+L12+L13+L14+L15+L16+L17+L18+L19+L20+L21+L22+L23+L24+L25+L26+L27+L28+L29)/(K3+K4+K5+K6+K7+K8+K9+K10+K11+K12+K13+K14+K15+K16+K17+K18+K19+K20+K21+K22+K23+K24+K25+K26+K27+K28+K29)) -> 12.346572
K30: =SUM(C30+G30) -> 0 | L30: =SUM(D30+H30) -> 0 | M30: =SUM(D30/C30) -> #DIV/0! | N30: =SUM(H30/G30) -> #DIV/0! | O30: =SUM(L30/K30) -> #DIV/0! | P30: =SUM((D4+D5+D6+D7+D8+D9+D10+D11+D12+D13+D14+D15+D16+D17+D18+D19+D20+D21+D22+D23+D24+D25+D26+D27+D28+D29+D30+H4+H5+H6+H7+H8+H9+H10+H11+H12+H13+H14+H15+H16+H17+H18+H19+H20+H21+H22+H23+H24+H25+H26+H27+H28+H29+H30)/(C4+C5+C6+C7+C8+C9+C10+C11+C12+C13+C14+C15+C16+C17+C18+C19+C20+C21+C22+C23+C24+C25+C26+C27+C28+C29+C30+G4+G5+G6+G7+G8+G9+G10+G11+G12+G13+G14+G15+G16+G17+G18+G19+G20+G21+G22+G23+G24+G25+G26+G27+G28+G29+G30)) -> 12.372624 | Q30: =SUM((L3+L4+L5+L6+L7+L8+L9+L10+L11+L12+L13+L14+L15+L16+L17+L18+L19+L20+L21+L22+L23+L24+L25+L26+L27+L28+L29+L30)/(K3+K4+K5+K6+K7+K8+K9+K10+K11+K12+K13+K14+K15+K16+K17+K18+K19+K20+K21+K22+K23+K24+K25+K26+K27+K28+K29+K30)) -> 12.346572
A33: LEAGUE AVERAGE | C33: =Q30 -> 12.346572 | E33: =COUNTA(E4:E30) -> 1 | F33: =COUNTA(F4:F30) -> 3 | I33: =COUNTA(I4:I30) -> 3 | J33: =COUNTA(J4:J30) -> 1 | K33: =SUM(K3:K30) -> 304.133 | L33: =SUM(L3:L30) -> 3755
A35: Kyle Smith
B36: Beginning Avg | C36: =SUM(D36/9.42) -> 53.184713 | D36: 501 | K36: =C36 -> 53.184713 | L36: 501 | M36: =SUM(D36/C36) -> 9.42 | N36: =SUM(H36/G36) -> #DIV/0! | O36: =SUM(L36/K36) -> 9.42 | P36: =SUM((D36+H36)/(C36+G36)) -> 9.42 | Q36: =SUM(L36/K36) -> 9.42
B37: 46282 | C37: 65 | D37: 501 | E37: X | G37: 33 | H37: 301 | I37: X | K37: =SUM(C37+G37) -> 98 | L37: =SUM(D37+H37) -> 802 | M37: =SUM(D37/C37) -> 7.7076923 | N37: =SUM(H37/G37) -> 9.1212121 | O37: =SUM(L37/K37) -> 8.1836735 | P37: =SUM((D37+H37)/(C37+G37)) -> 8.1836735 | Q37: =SUM((L36+L37)/(K36+K37)) -> 8.6185962
B38: =SUM(B37+7) -> 46289 | C38: 39 | D38: 440 | F38: X | G38: 45 | H38: 318 | J38: X | K38: =SUM(C38+G38) -> 84 | L38: =SUM(D38+H38) -> 758 | M38: =SUM(D38/C38) -> 11.282051 | N38: =SUM(H38/G38) -> 7.0666667 | O38: =SUM(L38/K38) -> 9.0238095 | P38: =SUM((D37+D38+H37+H38)/(C37+C38+G37+G38)) -> 8.5714286 | Q38: =SUM((L36+L37+L38)/(K36+K37+K38)) -> 8.7633247
B39: =SUM(B38+7) -> 46296 | C39: 43 | D39: 501 | E39: X | G39: 18 | H39: 271 | J39: X | K39: =SUM(C39+G39) -> 61 | L39: =SUM(D39+H39) -> 772 | M39: =SUM(D39/C39) -> 11.651163 | N39: =SUM(H39/G39) -> 15.055556 | O39: =SUM(L39/K39) -> 12.655738 | P39: =SUM((D37+D38+D39+H37+H38+H39)/(C37+C38+C39+G37+G38+G39)) -> 9.5967078 | Q39: =SUM((L36+L37+L38+L39)/(K36+K37+K38+K39)) -> 9.5649771
B40: =SUM(B39+7) -> 46303 | C40: 33 | D40: 492 | F40: X | G40: 30 | H40: 293 | J40: X | K40: =SUM(C40+G40) -> 63 | L40: =SUM(D40+H40) -> 785 | M40: =SUM(D40/C40) -> 14.909091 | N40: =SUM(H40/G40) -> 9.7666667 | O40: =SUM(L40/K40) -> 12.460317 | P40: =SUM((D37+D38+D39+D40+H37+H38+H39+H40)/(C37+C38+C39+C40+G37+G38+G39+G40)) -> 10.186275 | Q40: =SUM((L36+L37+L38+L39+L40)/(K36+K37+K38+K39+K40)) -> 10.072812
B41: =SUM(B40+7) -> 46310 | C41: 36 | D41: 501 | E41: X | G41: 21 | H41: 291 | J41: X | K41: =SUM(C41+G41) -> 57 | L41: =SUM(D41+H41) -> 792 | M41: =SUM(D41/C41) -> 13.916667 | N41: =SUM(H41/G41) -> 13.857143 | O41: =SUM(L41/K41) -> 13.894737 | P41: =SUM((D37+D38+D39+D40+D41+H37+H38+H39+H40+H41)/(C37+C38+C39+C40+C41+G37+G38+G39+G40+G41)) -> 10.768595 | Q41: =SUM((L36+L37+L38+L39+L40+L41)/(K36+K37+K38+K39+K40+K41)) -> 10.596257
B42: =SUM(B41+7) -> 46317 | C42: 42 | D42: 572 | F42: X | G42: 31 | H42: 337 | I42: X | K42: =SUM(C42+G42) -> 73 | L42: =SUM(D42+H42) -> 909 | M42: =SUM(D42/C42) -> 13.619048 | N42: =SUM(H42/G42) -> 10.870968 | O42: =SUM(L42/K42) -> 12.452055 | P42: =SUM((D37+D38+D39+D40+D41+D42+H37+H38+H39+H40+H41+H42)/(C37+C38+C39+C40+C41+C42+G37+G38+G39+G40+G41+G42)) -> 11.050459 | Q42: =SUM((L36+L37+L38+L39+L40+L41+L42)/(K36+K37+K38+K39+K40+K41+K42)) -> 10.873193
B43: =SUM(B42+7) -> 46324 | K43: =SUM(C43+G43) -> 0 | L43: =SUM(D43+H43) -> 0 | M43: =SUM(D43/C43) -> #DIV/0! | N43: =SUM(H43/G43) -> #DIV/0! | O43: =SUM(L43/K43) -> #DIV/0! | P43: =SUM((D37+D38+D39+D40+D41+D42+D43+H37+H38+H39+H40+H41+H42+H43)/(C37+C38+C39+C40+C41+C42+C43+G37+G38+G39+G40+G41+G42+G43)) -> 11.050459 | Q43: =SUM((L36+L37+L38+L39+L40+L41+L42+L43)/(K36+K37+K38+K39+K40+K41+K42+K43)) -> 10.873193
B44: =SUM(B43+7) -> 46331 | K44: =SUM(C44+G44) -> 0 | L44: =SUM(D44+H44) -> 0 | M44: =SUM(D44/C44) -> #DIV/0! | N44: =SUM(H44/G44) -> #DIV/0! | O44: =SUM(L44/K44) -> #DIV/0! | P44: =SUM((D37+D38+D39+D40+D41+D42+D43+D44+H37+H38+H39+H40+H41+H42+H43+H44)/(C37+C38+C39+C40+C41+C42+C43+C44+G37+G38+G39+G40+G41+G42+G43+G44)) -> 11.050459 | Q44: =SUM((L36+L37+L38+L39+L40+L41+L42+L43+L44)/(K36+K37+K38+K39+K40+K41+K42+K43+K44)) -> 10.873193
B45: =SUM(B44+7) -> 46338 | K45: =SUM(C45+G45) -> 0 | L45: =SUM(D45+H45) -> 0 | M45: =SUM(D45/C45) -> #DIV/0! | N45: =SUM(H45/G45) -> #DIV/0! | O45: =SUM(L45/K45) -> #DIV/0! | P45: =SUM((D37+D38+D39+D40+D41+D42+D43+D44+D45+H37+H38+H39+H40+H41+H42+H43+H44+H45)/(C37+C38+C39+C40+C41+C42+C43+C44+C45+G37+G38+G39+G40+G41+G42+G43+G44+G45)) -> 11.050459 | Q45: =SUM((L36+L37+L38+L39+L40+L41+L42+L43+L44+L45)/(K36+K37+K38+K39+K40+K41+K42+K43+K44+K45)) -> 10.873193
B46: =SUM(B45+7) -> 46345 | K46: =SUM(C46+G46) -> 0 | L46: =SUM(D46+H46) -> 0 | M46: =SUM(D46/C46) -> #DIV/0! | N46: =SUM(H46/G46) -> #DIV/0! | O46: =SUM(L46/K46) -> #DIV/0! | P46: =SUM((D37+D38+D39+D40+D41+D42+D43+D44+D45+D46+H37+H38+H39+H40+H41+H42+H43+H44+H45+H46)/(C37+C38+C39+C40+C41+C42+C43+C44+C45+C46+G37+G38+G39+G40+G41+G42+G43+G44+G45+G46)) -> 11.050459 | Q46: =SUM((L36+L37+L38+L39+L40+L41+L42+L43+L44+L45+L46)/(K36+K37+K38+K39+K40+K41+K42+K43+K44+K45+K46)) -> 10.873193
B47: =SUM(B46+7) -> 46352 | K47: =SUM(C47+G47) -> 0 | L47: =SUM(D47+H47) -> 0 | M47: =SUM(D47/C47) -> #DIV/0! | N47: =SUM(H47/G47) -> #DIV/0! | O47: =SUM(L47/K47) -> #DIV/0! | P47: =SUM((D37+D38+D39+D40+D41+D42+D43+D44+D45+D46+D47+H37+H38+H39+H40+H41+H42+H43+H44+H45+H46+H47)/(C37+C38+C39+C40+C41+C42+C43+C44+C45+C46+C47+G37+G38+G39+G40+G41+G42+G43+G44+G45+G46+G47)) -> 11.050459 | Q47: =SUM((L36+L37+L38+L39+L40+L41+L42+L43+L44+L45+L46+L47)/(K36+K37+K38+K39+K40+K41+K42+K43+K44+K45+K46+K47)) -> 10.873193
B48: =SUM(B47+7) -> 46359 | K48: =SUM(C48+G48) -> 0 | L48: =SUM(D48+H48) -> 0 | M48: =SUM(D48/C48) -> #DIV/0! | N48: =SUM(H48/G48) -> #DIV/0! | O48: =SUM(L48/K48) -> #DIV/0! | P48: =SUM((D37+D38+D39+D40+D41+D42+D43+D44+D45+D46+D47+D48+H37+H38+H39+H40+H41+H42+H43+H44+H45+H46+H47+H48)/(C37+C38+C39+C40+C41+C42+C43+C44+C45+C46+C47+C48+G37+G38+G39+G40+G41+G42+G43+G44+G45+G46+G47+G48)) -> 11.050459 | Q48: =SUM((L36+L37+L38+L39+L40+L41+L42+L43+L44+L45+L46+L47+L48)/(K36+K37+K38+K39+K40+K41+K42+K43+K44+K45+K46+K47+K48)) -> 10.873193
B49: =SUM(B48+7) -> 46366 | K49: =SUM(C49+G49) -> 0 | L49: =SUM(D49+H49) -> 0 | M49: =SUM(D49/C49) -> #DIV/0! | N49: =SUM(H49/G49) -> #DIV/0! | O49: =SUM(L49/K49) -> #DIV/0! | P49: =SUM((D37+D38+D39+D40+D41+D42+D43+D44+D45+D46+D47+D48+D49+H37+H38+H39+H40+H41+H42+H43+H44+H45+H46+H47+H48+H49)/(C37+C38+C39+C40+C41+C42+C43+C44+C45+C46+C47+C48+C49+G37+G38+G39+G40+G41+G42+G43+G44+G45+G46+G47+G48+G49)) -> 11.050459 | Q49: =SUM((L36+L37+L38+L39+L40+L41+L42+L43+L44+L45+L46+L47+L48+L49)/(K36+K37+K38+K39+K40+K41+K42+K43+K44+K45+K46+K47+K48+K49)) -> 10.873193
B50: =SUM(B49+7) -> 46373 | K50: =SUM(C50+G50) -> 0 | L50: =SUM(D50+H50) -> 0 | M50: =SUM(D50/C50) -> #DIV/0! | N50: =SUM(H50/G50) -> #DIV/0! | O50: =SUM(L50/K50) -> #DIV/0! | P50: =SUM((D37+D38+D39+D40+D41+D42+D43+D44+D45+D46+D47+D48+D49+D50+H37+H38+H39+H40+H41+H42+H43+H44+H45+H46+H47+H48+H49+H50)/(C37+C38+C39+C40+C41+C42+C43+C44+C45+C46+C47+C48+C49+C50+G37+G38+G39+G40+G41+G42+G43+G44+G45+G46+G47+G48+G49+G50)) -> 11.050459 | Q50: =SUM((L36+L37+L38+L39+L40+L41+L42+L43+L44+L45+L46+L47+L48+L49+L50)/(K36+K37+K38+K39+K40+K41+K42+K43+K44+K45+K46+K47+K48+K49+K50)) -> 10.873193
B51: =SUM(B50+7) -> 46380 | K51: =SUM(C51+G51) -> 0 | L51: =SUM(D51+H51) -> 0 | M51: =SUM(D51/C51) -> #DIV/0! | N51: =SUM(H51/G51) -> #DIV/0! | O51: =SUM(L51/K51) -> #DIV/0! | P51: =SUM((D37+D38+D39+D40+D41+D42+D43+D44+D45+D46+D47+D48+D49+D50+D51+H37+H38+H39+H40+H41+H42+H43+H44+H45+H46+H47+H48+H49+H50+H51)/(C37+C38+C39+C40+C41+C42+C43+C44+C45+C46+C47+C48+C49+C50+C51+G37+G38+G39+G40+G41+G42+G43+G44+G45+G46+G47+G48+G49+G50+G51)) -> 11.050459 | Q51: =SUM((L36+L37+L38+L39+L40+L41+L42+L43+L44+L45+L46+L47+L48+L49+L50+L51)/(K36+K37+K38+K39+K40+K41+K42+K43+K44+K45+K46+K47+K48+K49+K50+K51)) -> 10.873193
B52: =SUM(B51+7) -> 46387 | K52: =SUM(C52+G52) -> 0 | L52: =SUM(D52+H52) -> 0 | M52: =SUM(D52/C52) -> #DIV/0! | N52: =SUM(H52/G52) -> #DIV/0! | O52: =SUM(L52/K52) -> #DIV/0! | P52: =SUM((D37+D38+D39+D40+D41+D42+D43+D44+D45+D46+D47+D48+D49+D50+D51+D52+H37+H38+H39+H40+H41+H42+H43+H44+H45+H46+H47+H48+H49+H50+H51+H52)/(C37+C38+C39+C40+C41+C42+C43+C44+C45+C46+C47+C48+C49+C50+C51+C52+G37+G38+G39+G40+G41+G42+G43+G44+G45+G46+G47+G48+G49+G50+G51+G52)) -> 11.050459 | Q52: =SUM((L36+L37+L38+L39+L40+L41+L42+L43+L44+L45+L46+L47+L48+L49+L50+L51+L52)/(K36+K37+K38+K39+K40+K41+K42+K43+K44+K45+K46+K47+K48+K49+K50+K51+K52)) -> 10.873193
B53: =SUM(B52+7) -> 46394 | K53: =SUM(C53+G53) -> 0 | L53: =SUM(D53+H53) -> 0 | M53: =SUM(D53/C53) -> #DIV/0! | N53: =SUM(H53/G53) -> #DIV/0! | O53: =SUM(L53/K53) -> #DIV/0! | P53: =SUM((D37+D38+D39+D40+D41+D42+D43+D44+D45+D46+D47+D48+D49+D50+D51+D52+D53+H37+H38+H39+H40+H41+H42+H43+H44+H45+H46+H47+H48+H49+H50+H51+H52+H53)/(C37+C38+C39+C40+C41+C42+C43+C44+C45+C46+C47+C48+C49+C50+C51+C52+C53+G37+G38+G39+G40+G41+G42+G43+G44+G45+G46+G47+G48+G49+G50+G51+G52+G53)) -> 11.050459 | Q53: =SUM((L36+L37+L38+L39+L40+L41+L42+L43+L44+L45+L46+L47+L48+L49+L50+L51+L52+L53)/(K36+K37+K38+K39+K40+K41+K42+K43+K44+K45+K46+K47+K48+K49+K50+K51+K52+K53)) -> 10.873193
B54: =SUM(B53+7) -> 46401 | K54: =SUM(C54+G54) -> 0 | L54: =SUM(D54+H54) -> 0 | M54: =SUM(D54/C54) -> #DIV/0! | N54: =SUM(H54/G54) -> #DIV/0! | O54: =SUM(L54/K54) -> #DIV/0! | P54: =SUM((D37+D38+D39+D40+D41+D42+D43+D44+D45+D46+D47+D48+D49+D50+D51+D52+D53+D54+H37+H38+H39+H40+H41+H42+H43+H44+H45+H46+H47+H48+H49+H50+H51+H52+H53+H54)/(C37+C38+C39+C40+C41+C42+C43+C44+C45+C46+C47+C48+C49+C50+C51+C52+C53+C54+G37+G38+G39+G40+G41+G42+G43+G44+G45+G46+G47+G48+G49+G50+G51+G52+G53+G54)) -> 11.050459 | Q54: =SUM((L36+L37+L38+L39+L40+L41+L42+L43+L44+L45+L46+L47+L48+L49+L50+L51+L52+L53+L54)/(K36+K37+K38+K39+K40+K41+K42+K43+K44+K45+K46+K47+K48+K49+K50+K51+K52+K53+K54)) -> 10.873193
B55: =SUM(B54+7) -> 46408 | K55: =SUM(C55+G55) -> 0 | L55: =SUM(D55+H55) -> 0 | M55: =SUM(D55/C55) -> #DIV/0! | N55: =SUM(H55/G55) -> #DIV/0! | O55: =SUM(L55/K55) -> #DIV/0! | P55: =SUM((D37+D38+D39+D40+D41+D42+D43+D44+D45+D46+D47+D48+D49+D50+D51+D52+D53+D54+D55+H37+H38+H39+H40+H41+H42+H43+H44+H45+H46+H47+H48+H49+H50+H51+H52+H53+H54+H55)/(C37+C38+C39+C40+C41+C42+C43+C44+C45+C46+C47+C48+C49+C50+C51+C52+C53+C54+C55+G37+G38+G39+G40+G41+G42+G43+G44+G45+G46+G47+G48+G49+G50+G51+G52+G53+G54+G55)) -> 11.050459 | Q55: =SUM((L36+L37+L38+L39+L40+L41+L42+L43+L44+L45+L46+L47+L48+L49+L50+L51+L52+L53+L54+L55)/(K36+K37+K38+K39+K40+K41+K42+K43+K44+K45+K46+K47+K48+K49+K50+K51+K52+K53+K54+K55)) -> 10.873193
B56: =SUM(B55+7) -> 46415 | K56: =SUM(C56+G56) -> 0 | L56: =SUM(D56+H56) -> 0 | M56: =SUM(D56/C56) -> #DIV/0! | N56: =SUM(H56/G56) -> #DIV/0! | O56: =SUM(L56/K56) -> #DIV/0! | P56: =SUM((D37+D38+D39+D40+D41+D42+D43+D44+D45+D46+D47+D48+D49+D50+D51+D52+D53+D54+D55+D56+H37+H38+H39+H40+H41+H42+H43+H44+H45+H46+H47+H48+H49+H50+H51+H52+H53+H54+H55+H56)/(C37+C38+C39+C40+C41+C42+C43+C44+C45+C46+C47+C48+C49+C50+C51+C52+C53+C54+C55+C56+G37+G38+G39+G40+G41+G42+G43+G44+G45+G46+G47+G48+G49+G50+G51+G52+G53+G54+G55+G56)) -> 11.050459 | Q56: =SUM((L36+L37+L38+L39+L40+L41+L42+L43+L44+L45+L46+L47+L48+L49+L50+L51+L52+L53+L54+L55+L56)/(K36+K37+K38+K39+K40+K41+K42+K43+K44+K45+K46+K47+K48+K49+K50+K51+K52+K53+K54+K55+K56)) -> 10.873193
K57: =SUM(C57+G57) -> 0 | L57: =SUM(D57+H57) -> 0 | M57: =SUM(D57/C57) -> #DIV/0! | N57: =SUM(H57/G57) -> #DIV/0! | O57: =SUM(L57/K57) -> #DIV/0! | P57: =SUM((D37+D38+D39+D40+D41+D42+D43+D44+D45+D46+D47+D48+D49+D50+D51+D52+D53+D54+D55+D56+D57+H37+H38+H39+H40+H41+H42+H43+H44+H45+H46+H47+H48+H49+H50+H51+H52+H53+H54+H55+H56+H57)/(C37+C38+C39+C40+C41+C42+C43+C44+C45+C46+C47+C48+C49+C50+C51+C52+C53+C54+C55+C56+C57+G37+G38+G39+G40+G41+G42+G43+G44+G45+G46+G47+G48+G49+G50+G51+G52+G53+G54+G55+G56+G57)) -> 11.050459 | Q57: =SUM((L36+L37+L38+L39+L40+L41+L42+L43+L44+L45+L46+L47+L48+L49+L50+L51+L52+L53+L54+L55+L56+L57)/(K36+K37+K38+K39+K40+K41+K42+K43+K44+K45+K46+K47+K48+K49+K50+K51+K52+K53+K54+K55+K56+K57)) -> 10.873193
K58: =SUM(C58+G58) -> 0 | L58: =SUM(D58+H58) -> 0 | M58: =SUM(D58/C58) -> #DIV/0! | N58: =SUM(H58/G58) -> #DIV/0! | O58: =SUM(L58/K58) -> #DIV/0! | P58: =SUM((D37+D38+D39+D40+D41+D42+D43+D44+D45+D46+D47+D48+D49+D50+D51+D52+D53+D54+D55+D56+D57+D58+H37+H38+H39+H40+H41+H42+H43+H44+H45+H46+H47+H48+H49+H50+H51+H52+H53+H54+H55+H56+H57+H58)/(C37+C38+C39+C40+C41+C42+C43+C44+C45+C46+C47+C48+C49+C50+C51+C52+C53+C54+C55+C56+C57+C58+G37+G38+G39+G40+G41+G42+G43+G44+G45+G46+G47+G48+G49+G50+G51+G52+G53+G54+G55+G56+G57+G58)) -> 11.050459 | Q58: =SUM((L36+L37+L38+L39+L40+L41+L42+L43+L44+L45+L46+L47+L48+L49+L50+L51+L52+L53+L54+L55+L56+L57+L58)/(K36+K37+K38+K39+K40+K41+K42+K43+K44+K45+K46+K47+K48+K49+K50+K51+K52+K53+K54+K55+K56+K57+K58)) -> 10.873193
K59: =SUM(C59+G59) -> 0 | L59: =SUM(D59+H59) -> 0 | M59: =SUM(D59/C59) -> #DIV/0! | N59: =SUM(H59/G59) -> #DIV/0! | O59: =SUM(L59/K59) -> #DIV/0! | P59: =SUM((D37+D38+D39+D40+D41+D42+D43+D44+D45+D46+D47+D48+D49+D50+D51+D52+D53+D54+D55+D56+D57+D58+D59+H37+H38+H39+H40+H41+H42+H43+H44+H45+H46+H47+H48+H49+H50+H51+H52+H53+H54+H55+H56+H57+H58+H59)/(C37+C38+C39+C40+C41+C42+C43+C44+C45+C46+C47+C48+C49+C50+C51+C52+C53+C54+C55+C56+C57+C58+C59+G37+G38+G39+G40+G41+G42+G43+G44+G45+G46+G47+G48+G49+G50+G51+G52+G53+G54+G55+G56+G57+G58+G59)) -> 11.050459 | Q59: =SUM((L36+L37+L38+L39+L40+L41+L42+L43+L44+L45+L46+L47+L48+L49+L50+L51+L52+L53+L54+L55+L56+L57+L58+L59)/(K36+K37+K38+K39+K40+K41+K42+K43+K44+K45+K46+K47+K48+K49+K50+K51+K52+K53+K54+K55+K56+K57+K58+K59)) -> 10.873193
K60: =SUM(C60+G60) -> 0 | L60: =SUM(D60+H60) -> 0 | M60: =SUM(D60/C60) -> #DIV/0! | N60: =SUM(H60/G60) -> #DIV/0! | O60: =SUM(L60/K60) -> #DIV/0! | P60: =SUM((D37+D38+D39+D40+D41+D42+D43+D44+D45+D46+D47+D48+D49+D50+D51+D52+D53+D54+D55+D56+D57+D58+D59+D60+H37+H38+H39+H40+H41+H42+H43+H44+H45+H46+H47+H48+H49+H50+H51+H52+H53+H54+H55+H56+H57+H58+H59+H60)/(C37+C38+C39+C40+C41+C42+C43+C44+C45+C46+C47+C48+C49+C50+C51+C52+C53+C54+C55+C56+C57+C58+C59+C60+G37+G38+G39+G40+G41+G42+G43+G44+G45+G46+G47+G48+G49+G50+G51+G52+G53+G54+G55+G56+G57+G58+G59+G60)) -> 11.050459 | Q60: =SUM((L36+L37+L38+L39+L40+L41+L42+L43+L44+L45+L46+L47+L48+L49+L50+L51+L52+L53+L54+L55+L56+L57+L58+L59+L60)/(K36+K37+K38+K39+K40+K41+K42+K43+K44+K45+K46+K47+K48+K49+K50+K51+K52+K53+K54+K55+K56+K57+K58+K59+K60)) -> 10.873193
K61: =SUM(C61+G61) -> 0 | L61: =SUM(D61+H61) -> 0 | M61: =SUM(D61/C61) -> #DIV/0! | N61: =SUM(H61/G61) -> #DIV/0! | O61: =SUM(L61/K61) -> #DIV/0! | P61: =SUM((D37+D38+D39+D40+D41+D42+D43+D44+D45+D46+D47+D48+D49+D50+D51+D52+D53+D54+D55+D56+D57+D58+D59+D60+D61+H37+H38+H39+H40+H41+H42+H43+H44+H45+H46+H47+H48+H49+H50+H51+H52+H53+H54+H55+H56+H57+H58+H59+H60+H61)/(C37+C38+C39+C40+C41+C42+C43+C44+C45+C46+C47+C48+C49+C50+C51+C52+C53+C54+C55+C56+C57+C58+C59+C60+C61+G37+G38+G39+G40+G41+G42+G43+G44+G45+G46+G47+G48+G49+G50+G51+G52+G53+G54+G55+G56+G57+G58+G59+G60+G61)) -> 11.050459 | Q61: =SUM((L36+L37+L38+L39+L40+L41+L42+L43+L44+L45+L46+L47+L48+L49+L50+L51+L52+L53+L54+L55+L56+L57+L58+L59+L60+L61)/(K36+K37+K38+K39+K40+K41+K42+K43+K44+K45+K46+K47+K48+K49+K50+K51+K52+K53+K54+K55+K56+K57+K58+K59+K60+K61)) -> 10.873193
K62: =SUM(C62+G62) -> 0 | L62: =SUM(D62+H62) -> 0 | M62: =SUM(D62/C62) -> #DIV/0! | N62: =SUM(H62/G62) -> #DIV/0! | O62: =SUM(L62/K62) -> #DIV/0! | P62: =SUM((D37+D38+D39+D40+D41+D42+D43+D44+D45+D46+D47+D48+D49+D50+D51+D52+D53+D54+D55+D56+D57+D58+D59+D60+D61+D62+H37+H38+H39+H40+H41+H42+H43+H44+H45+H46+H47+H48+H49+H50+H51+H52+H53+H54+H55+H56+H57+H58+H59+H60+H61+H62)/(C37+C38+C39+C40+C41+C42+C43+C44+C45+C46+C47+C48+C49+C50+C51+C52+C53+C54+C55+C56+C57+C58+C59+C60+C61+C62+G37+G38+G39+G40+G41+G42+G43+G44+G45+G46+G47+G48+G49+G50+G51+G52+G53+G54+G55+G56+G57+G58+G59+G60+G61+G62)) -> 11.050459 | Q62: =SUM((L36+L37+L38+L39+L40+L41+L42+L43+L44+L45+L46+L47+L48+L49+L50+L51+L52+L53+L54+L55+L56+L57+L58+L59+L60+L61+L62)/(K36+K37+K38+K39+K40+K41+K42+K43+K44+K45+K46+K47+K48+K49+K50+K51+K52+K53+K54+K55+K56+K57+K58+K59+K60+K61+K62)) -> 10.873193
K63: =SUM(C63+G63) -> 0 | L63: =SUM(D63+H63) -> 0 | M63: =SUM(D63/C63) -> #DIV/0! | N63: =SUM(H63/G63) -> #DIV/0! | O63: =SUM(L63/K63) -> #DIV/0! | P63: =SUM((D37+D38+D39+D40+D41+D42+D43+D44+D45+D46+D47+D48+D49+D50+D51+D52+D53+D54+D55+D56+D57+D58+D59+D60+D61+D62+D63+H37+H38+H39+H40+H41+H42+H43+H44+H45+H46+H47+H48+H49+H50+H51+H52+H53+H54+H55+H56+H57+H58+H59+H60+H61+H62+H63)/(C37+C38+C39+C40+C41+C42+C43+C44+C45+C46+C47+C48+C49+C50+C51+C52+C53+C54+C55+C56+C57+C58+C59+C60+C61+C62+C63+G37+G38+G39+G40+G41+G42+G43+G44+G45+G46+G47+G48+G49+G50+G51+G52+G53+G54+G55+G56+G57+G58+G59+G60+G61+G62+G63)) -> 11.050459 | Q63: =SUM((L36+L37+L38+L39+L40+L41+L42+L43+L44+L45+L46+L47+L48+L49+L50+L51+L52+L53+L54+L55+L56+L57+L58+L59+L60+L61+L62+L63)/(K36+K37+K38+K39+K40+K41+K42+K43+K44+K45+K46+K47+K48+K49+K50+K51+K52+K53+K54+K55+K56+K57+K58+K59+K60+K61+K62+K63)) -> 10.873193
A66: LEAGUE AVERAGE | C66: =Q63 -> 10.873193 | E66: =COUNTA(E37:E63) -> 3 | F66: =COUNTA(F37:F63) -> 3 | I66: =COUNTA(I37:I63) -> 2 | J66: =COUNTA(J37:J63) -> 4 | K66: =SUM(K36:K63) -> 489.18471 | L66: =SUM(L36:L63) -> 5319
A68: Katerina Hill
B69: Beginning Avg | C69: =SUM(D69/9.68) -> 51.756198 | D69: 501 | K69: =C69 -> 51.756198 | L69: 501 | M69: =SUM(D69/C69) -> 9.68 | N69: =SUM(H69/G69) -> #DIV/0! | O69: =SUM(L69/K69) -> 9.68 | P69: =SUM((D69+H69)/(C69+G69)) -> 9.68 | Q69: =SUM(L69/K69) -> 9.68
B70: 46282 | C70: 33 | D70: 465 | F70: X | G70: 33 | H70: 301 | I70: X | K70: =SUM(C70+G70) -> 66 | L70: =SUM(D70+H70) -> 766 | M70: =SUM(D70/C70) -> 14.090909 | N70: =SUM(H70/G70) -> 9.1212121 | O70: =SUM(L70/K70) -> 11.606061 | P70: =SUM((D70+H70)/(C70+G70)) -> 11.606061 | Q70: =SUM((L69+L70)/(K69+K70)) -> 10.759519
B71: =SUM(B70+7) -> 46289 | G71: 29 | H71: 301 | I71: X | K71: =SUM(C71+G71) -> 29 | L71: =SUM(D71+H71) -> 301 | M71: =SUM(D71/C71) -> #DIV/0! | N71: =SUM(H71/G71) -> 10.37931 | O71: =SUM(L71/K71) -> 10.37931 | P71: =SUM((D70+D71+H70+H71)/(C70+C71+G70+G71)) -> 11.231579 | Q71: =SUM((L69+L70+L71)/(K69+K70+K71)) -> 10.684387
B72: =SUM(B71+7) -> 46296 | C72: 69 | D72: 605 | F72: X | G72: 30 | H72: 86 | J72: X | K72: =SUM(C72+G72) -> 99 | L72: =SUM(D72+H72) -> 691 | M72: =SUM(D72/C72) -> 8.7681159 | N72: =SUM(H72/G72) -> 2.8666667 | O72: =SUM(L72/K72) -> 6.979798 | P72: =SUM((D70+D71+D72+H70+H71+H72)/(C70+C71+C72+G70+G71+G72)) -> 9.0618557 | Q72: =SUM((L69+L70+L71+L72)/(K69+K70+K71+K72)) -> 9.1920367
B73: =SUM(B72+7) -> 46303 | C73: 69 | D73: 492 | F73: X | G73: 27 | H73: 0 | J73: X | K73: =SUM(C73+G73) -> 96 | L73: =SUM(D73+H73) -> 492 | M73: =SUM(D73/C73) -> 7.1304348 | N73: =SUM(H73/G73) -> 0 | O73: =SUM(L73/K73) -> 5.125 | P73: =SUM((D70+D71+D72+D73+H70+H71+H72+H73)/(C70+C71+C72+C73+G70+G71+G72+G73)) -> 7.7586207 | Q73: =SUM((L69+L70+L71+L72+L73)/(K69+K70+K71+K72+K73)) -> 8.049598
B74: =SUM(B73+7) -> 46310 | G74: 33 | H74: 295 | J74: X | K74: =SUM(C74+G74) -> 33 | L74: =SUM(D74+H74) -> 295 | M74: =SUM(D74/C74) -> #DIV/0! | N74: =SUM(H74/G74) -> 8.9393939 | O74: =SUM(L74/K74) -> 8.9393939 | P74: =SUM((D70+D71+D72+D73+D74+H70+H71+H72+H73+H74)/(C70+C71+C72+C73+C74+G70+G71+G72+G73+G74)) -> 7.879257 | Q74: =SUM((L69+L70+L71+L72+L73+L74)/(K69+K70+K71+K72+K73+K74)) -> 8.127951
B75: =SUM(B74+7) -> 46317 | C75: 42 | D75: 464 | F75: X | G75: 21 | H75: 181 | J75: X | K75: =SUM(C75+G75) -> 63 | L75: =SUM(D75+H75) -> 645 | M75: =SUM(D75/C75) -> 11.047619 | N75: =SUM(H75/G75) -> 8.6190476 | O75: =SUM(L75/K75) -> 10.238095 | P75: =SUM((D70+D71+D72+D73+D74+D75+H70+H71+H72+H73+H74+H75)/(C70+C71+C72+C73+C74+C75+G70+G71+G72+G73+G74+G75)) -> 8.2642487 | Q75: =SUM((L69+L70+L71+L72+L73+L74+L75)/(K69+K70+K71+K72+K73+K74+K75)) -> 8.4316339
B76: =SUM(B75+7) -> 46324 | K76: =SUM(C76+G76) -> 0 | L76: =SUM(D76+H76) -> 0 | M76: =SUM(D76/C76) -> #DIV/0! | N76: =SUM(H76/G76) -> #DIV/0! | O76: =SUM(L76/K76) -> #DIV/0! | P76: =SUM((D70+D71+D72+D73+D74+D75+D76+H70+H71+H72+H73+H74+H75+H76)/(C70+C71+C72+C73+C74+C75+C76+G70+G71+G72+G73+G74+G75+G76)) -> 8.2642487 | Q76: =SUM((L69+L70+L71+L72+L73+L74+L75+L76)/(K69+K70+K71+K72+K73+K74+K75+K76)) -> 8.4316339
B77: =SUM(B76+7) -> 46331 | K77: =SUM(C77+G77) -> 0 | L77: =SUM(D77+H77) -> 0 | M77: =SUM(D77/C77) -> #DIV/0! | N77: =SUM(H77/G77) -> #DIV/0! | O77: =SUM(L77/K77) -> #DIV/0! | P77: =SUM((D70+D71+D72+D73+D74+D75+D76+D77+H70+H71+H72+H73+H74+H75+H76+H77)/(C70+C71+C72+C73+C74+C75+C76+C77+G70+G71+G72+G73+G74+G75+G76+G77)) -> 8.2642487 | Q77: =SUM((L69+L70+L71+L72+L73+L74+L75+L76+L77)/(K69+K70+K71+K72+K73+K74+K75+K76+K77)) -> 8.4316339
B78: =SUM(B77+7) -> 46338 | K78: =SUM(C78+G78) -> 0 | L78: =SUM(D78+H78) -> 0 | M78: =SUM(D78/C78) -> #DIV/0! | N78: =SUM(H78/G78) -> #DIV/0! | O78: =SUM(L78/K78) -> #DIV/0! | P78: =SUM((D70+D71+D72+D73+D74+D75+D76+D77+D78+H70+H71+H72+H73+H74+H75+H76+H77+H78)/(C70+C71+C72+C73+C74+C75+C76+C77+C78+G70+G71+G72+G73+G74+G75+G76+G77+G78)) -> 8.2642487 | Q78: =SUM((L69+L70+L71+L72+L73+L74+L75+L76+L77+L78)/(K69+K70+K71+K72+K73+K74+K75+K76+K77+K78)) -> 8.4316339
B79: =SUM(B78+7) -> 46345 | K79: =SUM(C79+G79) -> 0 | L79: =SUM(D79+H79) -> 0 | M79: =SUM(D79/C79) -> #DIV/0! | N79: =SUM(H79/G79) -> #DIV/0! | O79: =SUM(L79/K79) -> #DIV/0! | P79: =SUM((D70+D71+D72+D73+D74+D75+D76+D77+D78+D79+H70+H71+H72+H73+H74+H75+H76+H77+H78+H79)/(C70+C71+C72+C73+C74+C75+C76+C77+C78+C79+G70+G71+G72+G73+G74+G75+G76+G77+G78+G79)) -> 8.2642487 | Q79: =SUM((L69+L70+L71+L72+L73+L74+L75+L76+L77+L78+L79)/(K69+K70+K71+K72+K73+K74+K75+K76+K77+K78+K79)) -> 8.4316339
B80: =SUM(B79+7) -> 46352 | K80: =SUM(C80+G80) -> 0 | L80: =SUM(D80+H80) -> 0 | M80: =SUM(D80/C80) -> #DIV/0! | N80: =SUM(H80/G80) -> #DIV/0! | O80: =SUM(L80/K80) -> #DIV/0! | P80: =SUM((D70+D71+D72+D73+D74+D75+D76+D77+D78+D79+D80+H70+H71+H72+H73+H74+H75+H76+H77+H78+H79+H80)/(C70+C71+C72+C73+C74+C75+C76+C77+C78+C79+C80+G70+G71+G72+G73+G74+G75+G76+G77+G78+G79+G80)) -> 8.2642487 | Q80: =SUM((L69+L70+L71+L72+L73+L74+L75+L76+L77+L78+L79+L80)/(K69+K70+K71+K72+K73+K74+K75+K76+K77+K78+K79+K80)) -> 8.4316339
B81: =SUM(B80+7) -> 46359 | K81: =SUM(C81+G81) -> 0 | L81: =SUM(D81+H81) -> 0 | M81: =SUM(D81/C81) -> #DIV/0! | N81: =SUM(H81/G81) -> #DIV/0! | O81: =SUM(L81/K81) -> #DIV/0! | P81: =SUM((D70+D71+D72+D73+D74+D75+D76+D77+D78+D79+D80+D81+H70+H71+H72+H73+H74+H75+H76+H77+H78+H79+H80+H81)/(C70+C71+C72+C73+C74+C75+C76+C77+C78+C79+C80+C81+G70+G71+G72+G73+G74+G75+G76+G77+G78+G79+G80+G81)) -> 8.2642487 | Q81: =SUM((L69+L70+L71+L72+L73+L74+L75+L76+L77+L78+L79+L80+L81)/(K69+K70+K71+K72+K73+K74+K75+K76+K77+K78+K79+K80+K81)) -> 8.4316339
B82: =SUM(B81+7) -> 46366 | K82: =SUM(C82+G82) -> 0 | L82: =SUM(D82+H82) -> 0 | M82: =SUM(D82/C82) -> #DIV/0! | N82: =SUM(H82/G82) -> #DIV/0! | O82: =SUM(L82/K82) -> #DIV/0! | P82: =SUM((D70+D71+D72+D73+D74+D75+D76+D77+D78+D79+D80+D81+D82+H70+H71+H72+H73+H74+H75+H76+H77+H78+H79+H80+H81+H82)/(C70+C71+C72+C73+C74+C75+C76+C77+C78+C79+C80+C81+C82+G70+G71+G72+G73+G74+G75+G76+G77+G78+G79+G80+G81+G82)) -> 8.2642487 | Q82: =SUM((L69+L70+L71+L72+L73+L74+L75+L76+L77+L78+L79+L80+L81+L82)/(K69+K70+K71+K72+K73+K74+K75+K76+K77+K78+K79+K80+K81+K82)) -> 8.4316339
B83: =SUM(B82+7) -> 46373 | K83: =SUM(C83+G83) -> 0 | L83: =SUM(D83+H83) -> 0 | M83: =SUM(D83/C83) -> #DIV/0! | N83: =SUM(H83/G83) -> #DIV/0! | O83: =SUM(L83/K83) -> #DIV/0! | P83: =SUM((D70+D71+D72+D73+D74+D75+D76+D77+D78+D79+D80+D81+D82+D83+H70+H71+H72+H73+H74+H75+H76+H77+H78+H79+H80+H81+H82+H83)/(C70+C71+C72+C73+C74+C75+C76+C77+C78+C79+C80+C81+C82+C83+G70+G71+G72+G73+G74+G75+G76+G77+G78+G79+G80+G81+G82+G83)) -> 8.2642487 | Q83: =SUM((L69+L70+L71+L72+L73+L74+L75+L76+L77+L78+L79+L80+L81+L82+L83)/(K69+K70+K71+K72+K73+K74+K75+K76+K77+K78+K79+K80+K81+K82+K83)) -> 8.4316339
B84: =SUM(B83+7) -> 46380 | K84: =SUM(C84+G84) -> 0 | L84: =SUM(D84+H84) -> 0 | M84: =SUM(D84/C84) -> #DIV/0! | N84: =SUM(H84/G84) -> #DIV/0! | O84: =SUM(L84/K84) -> #DIV/0! | P84: =SUM((D70+D71+D72+D73+D74+D75+D76+D77+D78+D79+D80+D81+D82+D83+D84+H70+H71+H72+H73+H74+H75+H76+H77+H78+H79+H80+H81+H82+H83+H84)/(C70+C71+C72+C73+C74+C75+C76+C77+C78+C79+C80+C81+C82+C83+C84+G70+G71+G72+G73+G74+G75+G76+G77+G78+G79+G80+G81+G82+G83+G84)) -> 8.2642487 | Q84: =SUM((L69+L70+L71+L72+L73+L74+L75+L76+L77+L78+L79+L80+L81+L82+L83+L84)/(K69+K70+K71+K72+K73+K74+K75+K76+K77+K78+K79+K80+K81+K82+K83+K84)) -> 8.4316339
B85: =SUM(B84+7) -> 46387 | K85: =SUM(C85+G85) -> 0 | L85: =SUM(D85+H85) -> 0 | M85: =SUM(D85/C85) -> #DIV/0! | N85: =SUM(H85/G85) -> #DIV/0! | O85: =SUM(L85/K85) -> #DIV/0! | P85: =SUM((D70+D71+D72+D73+D74+D75+D76+D77+D78+D79+D80+D81+D82+D83+D84+D85+H70+H71+H72+H73+H74+H75+H76+H77+H78+H79+H80+H81+H82+H83+H84+H85)/(C70+C71+C72+C73+C74+C75+C76+C77+C78+C79+C80+C81+C82+C83+C84+C85+G70+G71+G72+G73+G74+G75+G76+G77+G78+G79+G80+G81+G82+G83+G84+G85)) -> 8.2642487 | Q85: =SUM((L69+L70+L71+L72+L73+L74+L75+L76+L77+L78+L79+L80+L81+L82+L83+L84+L85)/(K69+K70+K71+K72+K73+K74+K75+K76+K77+K78+K79+K80+K81+K82+K83+K84+K85)) -> 8.4316339
B86: =SUM(B85+7) -> 46394 | K86: =SUM(C86+G86) -> 0 | L86: =SUM(D86+H86) -> 0 | M86: =SUM(D86/C86) -> #DIV/0! | N86: =SUM(H86/G86) -> #DIV/0! | O86: =SUM(L86/K86) -> #DIV/0! | P86: =SUM((D70+D71+D72+D73+D74+D75+D76+D77+D78+D79+D80+D81+D82+D83+D84+D85+D86+H70+H71+H72+H73+H74+H75+H76+H77+H78+H79+H80+H81+H82+H83+H84+H85+H86)/(C70+C71+C72+C73+C74+C75+C76+C77+C78+C79+C80+C81+C82+C83+C84+C85+C86+G70+G71+G72+G73+G74+G75+G76+G77+G78+G79+G80+G81+G82+G83+G84+G85+G86)) -> 8.2642487 | Q86: =SUM((L69+L70+L71+L72+L73+L74+L75+L76+L77+L78+L79+L80+L81+L82+L83+L84+L85+L86)/(K69+K70+K71+K72+K73+K74+K75+K76+K77+K78+K79+K80+K81+K82+K83+K84+K85+K86)) -> 8.4316339
B87: =SUM(B86+7) -> 46401 | K87: =SUM(C87+G87) -> 0 | L87: =SUM(D87+H87) -> 0 | M87: =SUM(D87/C87) -> #DIV/0! | N87: =SUM(H87/G87) -> #DIV/0! | O87: =SUM(L87/K87) -> #DIV/0! | P87: =SUM((D70+D71+D72+D73+D74+D75+D76+D77+D78+D79+D80+D81+D82+D83+D84+D85+D86+D87+H70+H71+H72+H73+H74+H75+H76+H77+H78+H79+H80+H81+H82+H83+H84+H85+H86+H87)/(C70+C71+C72+C73+C74+C75+C76+C77+C78+C79+C80+C81+C82+C83+C84+C85+C86+C87+G70+G71+G72+G73+G74+G75+G76+G77+G78+G79+G80+G81+G82+G83+G84+G85+G86+G87)) -> 8.2642487 | Q87: =SUM((L69+L70+L71+L72+L73+L74+L75+L76+L77+L78+L79+L80+L81+L82+L83+L84+L85+L86+L87)/(K69+K70+K71+K72+K73+K74+K75+K76+K77+K78+K79+K80+K81+K82+K83+K84+K85+K86+K87)) -> 8.4316339
B88: =SUM(B87+7) -> 46408 | K88: =SUM(C88+G88) -> 0 | L88: =SUM(D88+H88) -> 0 | M88: =SUM(D88/C88) -> #DIV/0! | N88: =SUM(H88/G88) -> #DIV/0! | O88: =SUM(L88/K88) -> #DIV/0! | P88: =SUM((D70+D71+D72+D73+D74+D75+D76+D77+D78+D79+D80+D81+D82+D83+D84+D85+D86+D87+D88+H70+H71+H72+H73+H74+H75+H76+H77+H78+H79+H80+H81+H82+H83+H84+H85+H86+H87+H88)/(C70+C71+C72+C73+C74+C75+C76+C77+C78+C79+C80+C81+C82+C83+C84+C85+C86+C87+C88+G70+G71+G72+G73+G74+G75+G76+G77+G78+G79+G80+G81+G82+G83+G84+G85+G86+G87+G88)) -> 8.2642487 | Q88: =SUM((L69+L70+L71+L72+L73+L74+L75+L76+L77+L78+L79+L80+L81+L82+L83+L84+L85+L86+L87+L88)/(K69+K70+K71+K72+K73+K74+K75+K76+K77+K78+K79+K80+K81+K82+K83+K84+K85+K86+K87+K88)) -> 8.4316339
B89: =SUM(B88+7) -> 46415 | K89: =SUM(C89+G89) -> 0 | L89: =SUM(D89+H89) -> 0 | M89: =SUM(D89/C89) -> #DIV/0! | N89: =SUM(H89/G89) -> #DIV/0! | O89: =SUM(L89/K89) -> #DIV/0! | P89: =SUM((D70+D71+D72+D73+D74+D75+D76+D77+D78+D79+D80+D81+D82+D83+D84+D85+D86+D87+D88+D89+H70+H71+H72+H73+H74+H75+H76+H77+H78+H79+H80+H81+H82+H83+H84+H85+H86+H87+H88+H89)/(C70+C71+C72+C73+C74+C75+C76+C77+C78+C79+C80+C81+C82+C83+C84+C85+C86+C87+C88+C89+G70+G71+G72+G73+G74+G75+G76+G77+G78+G79+G80+G81+G82+G83+G84+G85+G86+G87+G88+G89)) -> 8.2642487 | Q89: =SUM((L69+L70+L71+L72+L73+L74+L75+L76+L77+L78+L79+L80+L81+L82+L83+L84+L85+L86+L87+L88+L89)/(K69+K70+K71+K72+K73+K74+K75+K76+K77+K78+K79+K80+K81+K82+K83+K84+K85+K86+K87+K88+K89)) -> 8.4316339
K90: =SUM(C90+G90) -> 0 | L90: =SUM(D90+H90) -> 0 | M90: =SUM(D90/C90) -> #DIV/0! | N90: =SUM(H90/G90) -> #DIV/0! | O90: =SUM(L90/K90) -> #DIV/0! | P90: =SUM((D70+D71+D72+D73+D74+D75+D76+D77+D78+D79+D80+D81+D82+D83+D84+D85+D86+D87+D88+D89+D90+H70+H71+H72+H73+H74+H75+H76+H77+H78+H79+H80+H81+H82+H83+H84+H85+H86+H87+H88+H89+H90)/(C70+C71+C72+C73+C74+C75+C76+C77+C78+C79+C80+C81+C82+C83+C84+C85+C86+C87+C88+C89+C90+G70+G71+G72+G73+G74+G75+G76+G77+G78+G79+G80+G81+G82+G83+G84+G85+G86+G87+G88+G89+G90)) -> 8.2642487 | Q90: =SUM((L69+L70+L71+L72+L73+L74+L75+L76+L77+L78+L79+L80+L81+L82+L83+L84+L85+L86+L87+L88+L89+L90)/(K69+K70+K71+K72+K73+K74+K75+K76+K77+K78+K79+K80+K81+K82+K83+K84+K85+K86+K87+K88+K89+K90)) -> 8.4316339
K91: =SUM(C91+G91) -> 0 | L91: =SUM(D91+H91) -> 0 | M91: =SUM(D91/C91) -> #DIV/0! | N91: =SUM(H91/G91) -> #DIV/0! | O91: =SUM(L91/K91) -> #DIV/0! | P91: =SUM((D70+D71+D72+D73+D74+D75+D76+D77+D78+D79+D80+D81+D82+D83+D84+D85+D86+D87+D88+D89+D90+D91+H70+H71+H72+H73+H74+H75+H76+H77+H78+H79+H80+H81+H82+H83+H84+H85+H86+H87+H88+H89+H90+H91)/(C70+C71+C72+C73+C74+C75+C76+C77+C78+C79+C80+C81+C82+C83+C84+C85+C86+C87+C88+C89+C90+C91+G70+G71+G72+G73+G74+G75+G76+G77+G78+G79+G80+G81+G82+G83+G84+G85+G86+G87+G88+G89+G90+G91)) -> 8.2642487 | Q91: =SUM((L69+L70+L71+L72+L73+L74+L75+L76+L77+L78+L79+L80+L81+L82+L83+L84+L85+L86+L87+L88+L89+L90+L91)/(K69+K70+K71+K72+K73+K74+K75+K76+K77+K78+K79+K80+K81+K82+K83+K84+K85+K86+K87+K88+K89+K90+K91)) -> 8.4316339
K92: =SUM(C92+G92) -> 0 | L92: =SUM(D92+H92) -> 0 | M92: =SUM(D92/C92) -> #DIV/0! | N92: =SUM(H92/G92) -> #DIV/0! | O92: =SUM(L92/K92) -> #DIV/0! | P92: =SUM((D70+D71+D72+D73+D74+D75+D76+D77+D78+D79+D80+D81+D82+D83+D84+D85+D86+D87+D88+D89+D90+D91+D92+H70+H71+H72+H73+H74+H75+H76+H77+H78+H79+H80+H81+H82+H83+H84+H85+H86+H87+H88+H89+H90+H91+H92)/(C70+C71+C72+C73+C74+C75+C76+C77+C78+C79+C80+C81+C82+C83+C84+C85+C86+C87+C88+C89+C90+C91+C92+G70+G71+G72+G73+G74+G75+G76+G77+G78+G79+G80+G81+G82+G83+G84+G85+G86+G87+G88+G89+G90+G91+G92)) -> 8.2642487 | Q92: =SUM((L69+L70+L71+L72+L73+L74+L75+L76+L77+L78+L79+L80+L81+L82+L83+L84+L85+L86+L87+L88+L89+L90+L91+L92)/(K69+K70+K71+K72+K73+K74+K75+K76+K77+K78+K79+K80+K81+K82+K83+K84+K85+K86+K87+K88+K89+K90+K91+K92)) -> 8.4316339
K93: =SUM(C93+G93) -> 0 | L93: =SUM(D93+H93) -> 0 | M93: =SUM(D93/C93) -> #DIV/0! | N93: =SUM(H93/G93) -> #DIV/0! | O93: =SUM(L93/K93) -> #DIV/0! | P93: =SUM((D70+D71+D72+D73+D74+D75+D76+D77+D78+D79+D80+D81+D82+D83+D84+D85+D86+D87+D88+D89+D90+D91+D92+D93+H70+H71+H72+H73+H74+H75+H76+H77+H78+H79+H80+H81+H82+H83+H84+H85+H86+H87+H88+H89+H90+H91+H92+H93)/(C70+C71+C72+C73+C74+C75+C76+C77+C78+C79+C80+C81+C82+C83+C84+C85+C86+C87+C88+C89+C90+C91+C92+C93+G70+G71+G72+G73+G74+G75+G76+G77+G78+G79+G80+G81+G82+G83+G84+G85+G86+G87+G88+G89+G90+G91+G92+G93)) -> 8.2642487 | Q93: =SUM((L69+L70+L71+L72+L73+L74+L75+L76+L77+L78+L79+L80+L81+L82+L83+L84+L85+L86+L87+L88+L89+L90+L91+L92+L93)/(K69+K70+K71+K72+K73+K74+K75+K76+K77+K78+K79+K80+K81+K82+K83+K84+K85+K86+K87+K88+K89+K90+K91+K92+K93)) -> 8.4316339
K94: =SUM(C94+G94) -> 0 | L94: =SUM(D94+H94) -> 0 | M94: =SUM(D94/C94) -> #DIV/0! | N94: =SUM(H94/G94) -> #DIV/0! | O94: =SUM(L94/K94) -> #DIV/0! | P94: =SUM((D70+D71+D72+D73+D74+D75+D76+D77+D78+D79+D80+D81+D82+D83+D84+D85+D86+D87+D88+D89+D90+D91+D92+D93+D94+H70+H71+H72+H73+H74+H75+H76+H77+H78+H79+H80+H81+H82+H83+H84+H85+H86+H87+H88+H89+H90+H91+H92+H93+H94)/(C70+C71+C72+C73+C74+C75+C76+C77+C78+C79+C80+C81+C82+C83+C84+C85+C86+C87+C88+C89+C90+C91+C92+C93+C94+G70+G71+G72+G73+G74+G75+G76+G77+G78+G79+G80+G81+G82+G83+G84+G85+G86+G87+G88+G89+G90+G91+G92+G93+G94)) -> 8.2642487 | Q94: =SUM((L69+L70+L71+L72+L73+L74+L75+L76+L77+L78+L79+L80+L81+L82+L83+L84+L85+L86+L87+L88+L89+L90+L91+L92+L93+L94)/(K69+K70+K71+K72+K73+K74+K75+K76+K77+K78+K79+K80+K81+K82+K83+K84+K85+K86+K87+K88+K89+K90+K91+K92+K93+K94)) -> 8.4316339
K95: =SUM(C95+G95) -> 0 | L95: =SUM(D95+H95) -> 0 | M95: =SUM(D95/C95) -> #DIV/0! | N95: =SUM(H95/G95) -> #DIV/0! | O95: =SUM(L95/K95) -> #DIV/0! | P95: =SUM((D70+D71+D72+D73+D74+D75+D76+D77+D78+D79+D80+D81+D82+D83+D84+D85+D86+D87+D88+D89+D90+D91+D92+D93+D94+D95+H70+H71+H72+H73+H74+H75+H76+H77+H78+H79+H80+H81+H82+H83+H84+H85+H86+H87+H88+H89+H90+H91+H92+H93+H94+H95)/(C70+C71+C72+C73+C74+C75+C76+C77+C78+C79+C80+C81+C82+C83+C84+C85+C86+C87+C88+C89+C90+C91+C92+C93+C94+C95+G70+G71+G72+G73+G74+G75+G76+G77+G78+G79+G80+G81+G82+G83+G84+G85+G86+G87+G88+G89+G90+G91+G92+G93+G94+G95)) -> 8.2642487 | Q95: =SUM((L69+L70+L71+L72+L73+L74+L75+L76+L77+L78+L79+L80+L81+L82+L83+L84+L85+L86+L87+L88+L89+L90+L91+L92+L93+L94+L95)/(K69+K70+K71+K72+K73+K74+K75+K76+K77+K78+K79+K80+K81+K82+K83+K84+K85+K86+K87+K88+K89+K90+K91+K92+K93+K94+K95)) -> 8.4316339
K96: =SUM(C96+G96) -> 0 | L96: =SUM(D96+H96) -> 0 | M96: =SUM(D96/C96) -> #DIV/0! | N96: =SUM(H96/G96) -> #DIV/0! | O96: =SUM(L96/K96) -> #DIV/0! | P96: =SUM((D70+D71+D72+D73+D74+D75+D76+D77+D78+D79+D80+D81+D82+D83+D84+D85+D86+D87+D88+D89+D90+D91+D92+D93+D94+D95+D96+H70+H71+H72+H73+H74+H75+H76+H77+H78+H79+H80+H81+H82+H83+H84+H85+H86+H87+H88+H89+H90+H91+H92+H93+H94+H95+H96)/(C70+C71+C72+C73+C74+C75+C76+C77+C78+C79+C80+C81+C82+C83+C84+C85+C86+C87+C88+C89+C90+C91+C92+C93+C94+C95+C96+G70+G71+G72+G73+G74+G75+G76+G77+G78+G79+G80+G81+G82+G83+G84+G85+G86+G87+G88+G89+G90+G91+G92+G93+G94+G95+G96)) -> 8.2642487 | Q96: =SUM((L69+L70+L71+L72+L73+L74+L75+L76+L77+L78+L79+L80+L81+L82+L83+L84+L85+L86+L87+L88+L89+L90+L91+L92+L93+L94+L95+L96)/(K69+K70+K71+K72+K73+K74+K75+K76+K77+K78+K79+K80+K81+K82+K83+K84+K85+K86+K87+K88+K89+K90+K91+K92+K93+K94+K95+K96)) -> 8.4316339
A99: LEAGUE AVERAGE | C99: =Q96 -> 8.4316339 | E99: =COUNTA(E70:E96) -> 0 | F99: =COUNTA(F70:F96) -> 4 | I99: =COUNTA(I70:I96) -> 2 | J99: =COUNTA(J70:J96) -> 4 | K99: =SUM(K69:K96) -> 437.7562 | L99: =SUM(L69:L96) -> 3691
A101: Andy White
B102: Beginning Avg | C102: =SUM(D102/8.32) -> 60.216346 | D102: 501 | K102: =C102 -> 60.216346 | L102: 501 | M102: =SUM(D102/C102) -> 8.32 | N102: =SUM(H102/G102) -> #DIV/0! | O102: =SUM(L102/K102) -> 8.32 | P102: =SUM((D102+H102)/(C102+G102)) -> 8.32 | Q102: =SUM(L102/K102) -> 8.32
B103: 46282 | C103: 34 | D103: 501 | E103: X | K103: =SUM(C103+G103) -> 34 | L103: =SUM(D103+H103) -> 501 | M103: =SUM(D103/C103) -> 14.735294 | N103: =SUM(H103/G103) -> #DIV/0! | O103: =SUM(L103/K103) -> 14.735294 | P103: =SUM((D103+H103)/(C103+G103)) -> 14.735294 | Q103: =SUM((L102+L103)/(K102+K103)) -> 10.635097
B104: =SUM(B103+7) -> 46289 | C104: 36 | D104: 415 | F104: X | G104: 27 | H104: 373 | I104: X | K104: =SUM(C104+G104) -> 63 | L104: =SUM(D104+H104) -> 788 | M104: =SUM(D104/C104) -> 11.527778 | N104: =SUM(H104/G104) -> 13.814815 | O104: =SUM(L104/K104) -> 12.507937 | P104: =SUM((D103+D104+H103+H104)/(C103+C104+G103+G104)) -> 13.28866 | Q104: =SUM((L102+L103+L104)/(K102+K103+K104)) -> 11.385585
B105: =SUM(B104+7) -> 46296 | C105: 27 | D105: 351 | F105: X | G105: 23 | H105: 313 | I105: X | K105: =SUM(C105+G105) -> 50 | L105: =SUM(D105+H105) -> 664 | M105: =SUM(D105/C105) -> 13 | N105: =SUM(H105/G105) -> 13.608696 | O105: =SUM(L105/K105) -> 13.28 | P105: =SUM((D103+D104+D105+H103+H104+H105)/(C103+C104+C105+G103+G104+G105)) -> 13.285714 | Q105: =SUM((L102+L103+L104+L105)/(K102+K103+K104+K105)) -> 11.842695
B106: =SUM(B105+7) -> 46303 | C106: 42 | D106: 495 | F106: X | G106: 39 | H106: 299 | J106: X | K106: =SUM(C106+G106) -> 81 | L106: =SUM(D106+H106) -> 794 | M106: =SUM(D106/C106) -> 11.785714 | N106: =SUM(H106/G106) -> 7.6666667 | O106: =SUM(L106/K106) -> 9.8024691 | P106: =SUM((D103+D104+D105+D106+H103+H104+H105+H106)/(C103+C104+C105+C106+G103+G104+G105+G106)) -> 12.048246 | Q106: =SUM((L102+L103+L104+L105+L106)/(K102+K103+K104+K105+K106)) -> 11.269312
B107: =SUM(B106+7) -> 46310 | C107: 45 | D107: 495 | F107: X | G107: 31 | H107: 313 | I107: X | K107: =SUM(C107+G107) -> 76 | L107: =SUM(D107+H107) -> 808 | M107: =SUM(D107/C107) -> 11 | N107: =SUM(H107/G107) -> 10.096774 | O107: =SUM(L107/K107) -> 10.631579 | P107: =SUM((D103+D104+D105+D106+D107+H103+H104+H105+H106+H107)/(C103+C104+C105+C106+C107+G103+G104+G105+G106+G107)) -> 11.694079 | Q107: =SUM((L102+L103+L104+L105+L106+L107)/(K102+K103+K104+K105+K106+K107)) -> 11.136238
B108: =SUM(B107+7) -> 46317 | G108: 39 | H108: 292 | J108: X | K108: =SUM(C108+G108) -> 39 | L108: =SUM(D108+H108) -> 292 | M108: =SUM(D108/C108) -> #DIV/0! | N108: =SUM(H108/G108) -> 7.4871795 | O108: =SUM(L108/K108) -> 7.4871795 | P108: =SUM((D103+D104+D105+D106+D107+D108+H103+H104+H105+H106+H107+H108)/(C103+C104+C105+C106+C107+C108+G103+G104+G105+G106+G107+G108)) -> 11.215743 | Q108: =SUM((L102+L103+L104+L105+L106+L107+L108)/(K102+K103+K104+K105+K106+K107+K108)) -> 10.783293
B109: =SUM(B108+7) -> 46324 | K109: =SUM(C109+G109) -> 0 | L109: =SUM(D109+H109) -> 0 | M109: =SUM(D109/C109) -> #DIV/0! | N109: =SUM(H109/G109) -> #DIV/0! | O109: =SUM(L109/K109) -> #DIV/0! | P109: =SUM((D103+D104+D105+D106+D107+D108+D109+H103+H104+H105+H106+H107+H108+H109)/(C103+C104+C105+C106+C107+C108+C109+G103+G104+G105+G106+G107+G108+G109)) -> 11.215743 | Q109: =SUM((L102+L103+L104+L105+L106+L107+L108+L109)/(K102+K103+K104+K105+K106+K107+K108+K109)) -> 10.783293
...

Sheet Dartin and Boozin
A1: NAME | B1: DATE | C1: 501 DARTS THROWN | D1: 501 POINTS | E1: WIN? | F1: LOSS? | G1: 301 DARTS THROWN | H1: 301 POINTS | I1: WIN? | J1: LOSS? | K1: TOTAL DARTS THROWN | L1: TOTAL POINTS | M1: 501 AVERAGE | N1: 301 AVERAGE | O1: MATCH AVERAGE | P1: WEEKLY AVERAGE | Q1: RAW HANDICAP
A2: Brittney Pratt
B3: Beginning Avg | C3: =SUM(D3/10.57) -> 47.398297 | D3: 501 | K3: =C3 -> 47.398297 | L3: 501 | M3: =SUM(D3/C3) -> 10.57 | N3: =SUM(H3/G3) -> #DIV/0! | O3: =SUM(L3/K3) -> 10.57 | P3: =SUM((D3+H3)/(C3+G3)) -> 10.57 | Q3: =SUM(L3/K3) -> 10.57
B4: 46282 | C4: 40 | D4: 501 | E4: X | G4: 45 | H4: 297 | J4: X | K4: =SUM(C4+G4) -> 85 | L4: =SUM(D4+H4) -> 798 | M4: =SUM(D4/C4) -> 12.525 | N4: =SUM(H4/G4) -> 6.6 | O4: =SUM(L4/K4) -> 9.3882353 | P4: =SUM((D4+H4)/(C4+G4)) -> 9.3882353 | Q4: =SUM((L3+L4)/(K3+K4)) -> 9.8113044
B5: =SUM(B4+7) -> 46289 | C5: 33 | D5: 442 | F5: X | G5: 48 | H5: 299 | J5: X | K5: =SUM(C5+G5) -> 81 | L5: =SUM(D5+H5) -> 741 | M5: =SUM(D5/C5) -> 13.393939 | N5: =SUM(H5/G5) -> 6.2291667 | O5: =SUM(L5/K5) -> 9.1481481 | P5: =SUM((D4+D5+H4+H5)/(C4+C5+G4+G5)) -> 9.2710843 | Q5: =SUM((L3+L4+L5)/(K3+K4+K5)) -> 9.5595889
B6: =SUM(B5+7) -> 46296 | C6: 54 | D6: 501 | E6: X | G6: 51 | H6: 305 | J6: X | K6: =SUM(C6+G6) -> 105 | L6: =SUM(D6+H6) -> 806 | M6: =SUM(D6/C6) -> 9.2777778 | N6: =SUM(H6/G6) -> 5.9803922 | O6: =SUM(L6/K6) -> 7.6761905 | P6: =SUM((D4+D5+D6+H4+H5+H6)/(C4+C5+C6+G4+G5+G6)) -> 8.6531365 | Q6: =SUM((L3+L4+L5+L6)/(K3+K4+K5+K6)) -> 8.93849
B7: =SUM(B6+7) -> 46303 | C7: 30 | D7: 501 | E7: X | G7: 36 | H7: 301 | I7: X | K7: =SUM(C7+G7) -> 66 | L7: =SUM(D7+H7) -> 802 | M7: =SUM(D7/C7) -> 16.7 | N7: =SUM(H7/G7) -> 8.3611111 | O7: =SUM(L7/K7) -> 12.151515 | P7: =SUM((D4+D5+D6+D7+H4+H5+H6+H7)/(C4+C5+C6+C7+G4+G5+G6+G7)) -> 9.3382789 | Q7: =SUM((L3+L4+L5+L6+L7)/(K3+K4+K5+K6+K7)) -> 9.4901565
B8: =SUM(B7+7) -> 46310 | C8: 33 | D8: 501 | E8: X | G8: 19 | H8: 301 | I8: X | K8: =SUM(C8+G8) -> 52 | L8: =SUM(D8+H8) -> 802 | M8: =SUM(D8/C8) -> 15.181818 | N8: =SUM(H8/G8) -> 15.842105 | O8: =SUM(L8/K8) -> 15.423077 | P8: =SUM((D4+D5+D6+D7+D8+H4+H5+H6+H7+H8)/(C4+C5+C6+C7+C8+G4+G5+G6+G7+G8)) -> 10.151671 | Q8: =SUM((L3+L4+L5+L6+L7+L8)/(K3+K4+K5+K6+K7+K8)) -> 10.197107
B9: =SUM(B8+7) -> 46317 | C9: 42 | D9: 581 | E9: X | G9: 22 | H9: 301 | I9: X | K9: =SUM(C9+G9) -> 64 | L9: =SUM(D9+H9) -> 882 | M9: =SUM(D9/C9) -> 13.833333 | N9: =SUM(H9/G9) -> 13.681818 | O9: =SUM(L9/K9) -> 13.78125 | P9: =SUM((D4+D5+D6+D7+D8+D9+H4+H5+H6+H7+H8+H9)/(C4+C5+C6+C7+C8+C9+G4+G5+G6+G7+G8+G9)) -> 10.664459 | Q9: =SUM((L3+L4+L5+L6+L7+L8+L9)/(K3+K4+K5+K6+K7+K8+K9)) -> 10.655512
B10: =SUM(B9+7) -> 46324 | K10: =SUM(C10+G10) -> 0 | L10: =SUM(D10+H10) -> 0 | M10: =SUM(D10/C10) -> #DIV/0! | N10: =SUM(H10/G10) -> #DIV/0! | O10: =SUM(L10/K10) -> #DIV/0! | P10: =SUM((D4+D5+D6+D7+D8+D9+D10+H4+H5+H6+H7+H8+H9+H10)/(C4+C5+C6+C7+C8+C9+C10+G4+G5+G6+G7+G8+G9+G10)) -> 10.664459 | Q10: =SUM((L3+L4+L5+L6+L7+L8+L9+L10)/(K3+K4+K5+K6+K7+K8+K9+K10)) -> 10.655512
B11: =SUM(B10+7) -> 46331 | K11: =SUM(C11+G11) -> 0 | L11: =SUM(D11+H11) -> 0 | M11: =SUM(D11/C11) -> #DIV/0! | N11: =SUM(H11/G11) -> #DIV/0! | O11: =SUM(L11/K11) -> #DIV/0! | P11: =SUM((D4+D5+D6+D7+D8+D9+D10+D11+H4+H5+H6+H7+H8+H9+H10+H11)/(C4+C5+C6+C7+C8+C9+C10+C11+G4+G5+G6+G7+G8+G9+G10+G11)) -> 10.664459 | Q11: =SUM((L3+L4+L5+L6+L7+L8+L9+L10+L11)/(K3+K4+K5+K6+K7+K8+K9+K10+K11)) -> 10.655512
B12: =SUM(B11+7) -> 46338 | K12: =SUM(C12+G12) -> 0 | L12: =SUM(D12+H12) -> 0 | M12: =SUM(D12/C12) -> #DIV/0! | N12: =SUM(H12/G12) -> #DIV/0! | O12: =SUM(L12/K12) -> #DIV/0! | P12: =SUM((D4+D5+D6+D7+D8+D9+D10+D11+D12+H4+H5+H6+H7+H8+H9+H10+H11+H12)/(C4+C5+C6+C7+C8+C9+C10+C11+C12+G4+G5+G6+G7+G8+G9+G10+G11+G12)) -> 10.664459 | Q12: =SUM((L3+L4+L5+L6+L7+L8+L9+L10+L11+L12)/(K3+K4+K5+K6+K7+K8+K9+K10+K11+K12)) -> 10.655512
B13: =SUM(B12+7) -> 46345 | K13: =SUM(C13+G13) -> 0 | L13: =SUM(D13+H13) -> 0 | M13: =SUM(D13/C13) -> #DIV/0! | N13: =SUM(H13/G13) -> #DIV/0! | O13: =SUM(L13/K13) -> #DIV/0! | P13: =SUM((D4+D5+D6+D7+D8+D9+D10+D11+D12+D13+H4+H5+H6+H7+H8+H9+H10+H11+H12+H13)/(C4+C5+C6+C7+C8+C9+C10+C11+C12+C13+G4+G5+G6+G7+G8+G9+G10+G11+G12+G13)) -> 10.664459 | Q13: =SUM((L3+L4+L5+L6+L7+L8+L9+L10+L11+L12+L13)/(K3+K4+K5+K6+K7+K8+K9+K10+K11+K12+K13)) -> 10.655512
B14: =SUM(B13+7) -> 46352 | K14: =SUM(C14+G14) -> 0 | L14: =SUM(D14+H14) -> 0 | M14: =SUM(D14/C14) -> #DIV/0! | N14: =SUM(H14/G14) -> #DIV/0! | O14: =SUM(L14/K14) -> #DIV/0! | P14: =SUM((D4+D5+D6+D7+D8+D9+D10+D11+D12+D13+D14+H4+H5+H6+H7+H8+H9+H10+H11+H12+H13+H14)/(C4+C5+C6+C7+C8+C9+C10+C11+C12+C13+C14+G4+G5+G6+G7+G8+G9+G10+G11+G12+G13+G14)) -> 10.664459 | Q14: =SUM((L3+L4+L5+L6+L7+L8+L9+L10+L11+L12+L13+L14)/(K3+K4+K5+K6+K7+K8+K9+K10+K11+K12+K13+K14)) -> 10.655512
B15: =SUM(B14+7) -> 46359 | K15: =SUM(C15+G15) -> 0 | L15: =SUM(D15+H15) -> 0 | M15: =SUM(D15/C15) -> #DIV/0! | N15: =SUM(H15/G15) -> #DIV/0! | O15: =SUM(L15/K15) -> #DIV/0! | P15: =SUM((D4+D5+D6+D7+D8+D9+D10+D11+D12+D13+D14+D15+H4+H5+H6+H7+H8+H9+H10+H11+H12+H13+H14+H15)/(C4+C5+C6+C7+C8+C9+C10+C11+C12+C13+C14+C15+G4+G5+G6+G7+G8+G9+G10+G11+G12+G13+G14+G15)) -> 10.664459 | Q15: =SUM((L3+L4+L5+L6+L7+L8+L9+L10+L11+L12+L13+L14+L15)/(K3+K4+K5+K6+K7+K8+K9+K10+K11+K12+K13+K14+K15)) -> 10.655512
B16: =SUM(B15+7) -> 46366 | K16: =SUM(C16+G16) -> 0 | L16: =SUM(D16+H16) -> 0 | M16: =SUM(D16/C16) -> #DIV/0! | N16: =SUM(H16/G16) -> #DIV/0! | O16: =SUM(L16/K16) -> #DIV/0! | P16: =SUM((D4+D5+D6+D7+D8+D9+D10+D11+D12+D13+D14+D15+D16+H4+H5+H6+H7+H8+H9+H10+H11+H12+H13+H14+H15+H16)/(C4+C5+C6+C7+C8+C9+C10+C11+C12+C13+C14+C15+C16+G4+G5+G6+G7+G8+G9+G10+G11+G12+G13+G14+G15+G16)) -> 10.664459 | Q16: =SUM((L3+L4+L5+L6+L7+L8+L9+L10+L11+L12+L13+L14+L15+L16)/(K3+K4+K5+K6+K7+K8+K9+K10+K11+K12+K13+K14+K15+K16)) -> 10.655512
B17: =SUM(B16+7) -> 46373 | K17: =SUM(C17+G17) -> 0 | L17: =SUM(D17+H17) -> 0 | M17: =SUM(D17/C17) -> #DIV/0! | N17: =SUM(H17/G17) -> #DIV/0! | O17: =SUM(L17/K17) -> #DIV/0! | P17: =SUM((D4+D5+D6+D7+D8+D9+D10+D11+D12+D13+D14+D15+D16+D17+H4+H5+H6+H7+H8+H9+H10+H11+H12+H13+H14+H15+H16+H17)/(C4+C5+C6+C7+C8+C9+C10+C11+C12+C13+C14+C15+C16+C17+G4+G5+G6+G7+G8+G9+G10+G11+G12+G13+G14+G15+G16+G17)) -> 10.664459 | Q17: =SUM((L3+L4+L5+L6+L7+L8+L9+L10+L11+L12+L13+L14+L15+L16+L17)/(K3+K4+K5+K6+K7+K8+K9+K10+K11+K12+K13+K14+K15+K16+K17)) -> 10.655512
B18: =SUM(B17+7) -> 46380 | K18: =SUM(C18+G18) -> 0 | L18: =SUM(D18+H18) -> 0 | M18: =SUM(D18/C18) -> #DIV/0! | N18: =SUM(H18/G18) -> #DIV/0! | O18: =SUM(L18/K18) -> #DIV/0! | P18: =SUM((D4+D5+D6+D7+D8+D9+D10+D11+D12+D13+D14+D15+D16+D17+D18+H4+H5+H6+H7+H8+H9+H10+H11+H12+H13+H14+H15+H16+H17+H18)/(C4+C5+C6+C7+C8+C9+C10+C11+C12+C13+C14+C15+C16+C17+C18+G4+G5+G6+G7+G8+G9+G10+G11+G12+G13+G14+G15+G16+G17+G18)) -> 10.664459 | Q18: =SUM((L3+L4+L5+L6+L7+L8+L9+L10+L11+L12+L13+L14+L15+L16+L17+L18)/(K3+K4+K5+K6+K7+K8+K9+K10+K11+K12+K13+K14+K15+K16+K17+K18)) -> 10.655512
B19: =SUM(B18+7) -> 46387 | K19: =SUM(C19+G19) -> 0 | L19: =SUM(D19+H19) -> 0 | M19: =SUM(D19/C19) -> #DIV/0! | N19: =SUM(H19/G19) -> #DIV/0! | O19: =SUM(L19/K19) -> #DIV/0! | P19: =SUM((D4+D5+D6+D7+D8+D9+D10+D11+D12+D13+D14+D15+D16+D17+D18+D19+H4+H5+H6+H7+H8+H9+H10+H11+H12+H13+H14+H15+H16+H17+H18+H19)/(C4+C5+C6+C7+C8+C9+C10+C11+C12+C13+C14+C15+C16+C17+C18+C19+G4+G5+G6+G7+G8+G9+G10+G11+G12+G13+G14+G15+G16+G17+G18+G19)) -> 10.664459 | Q19: =SUM((L3+L4+L5+L6+L7+L8+L9+L10+L11+L12+L13+L14+L15+L16+L17+L18+L19)/(K3+K4+K5+K6+K7+K8+K9+K10+K11+K12+K13+K14+K15+K16+K17+K18+K19)) -> 10.655512
B20: =SUM(B19+7) -> 46394 | K20: =SUM(C20+G20) -> 0 | L20: =SUM(D20+H20) -> 0 | M20: =SUM(D20/C20) -> #DIV/0! | N20: =SUM(H20/G20) -> #DIV/0! | O20: =SUM(L20/K20) -> #DIV/0! | P20: =SUM((D4+D5+D6+D7+D8+D9+D10+D11+D12+D13+D14+D15+D16+D17+D18+D19+D20+H4+H5+H6+H7+H8+H9+H10+H11+H12+H13+H14+H15+H16+H17+H18+H19+H20)/(C4+C5+C6+C7+C8+C9+C10+C11+C12+C13+C14+C15+C16+C17+C18+C19+C20+G4+G5+G6+G7+G8+G9+G10+G11+G12+G13+G14+G15+G16+G17+G18+G19+G20)) -> 10.664459 | Q20: =SUM((L3+L4+L5+L6+L7+L8+L9+L10+L11+L12+L13+L14+L15+L16+L17+L18+L19+L20)/(K3+K4+K5+K6+K7+K8+K9+K10+K11+K12+K13+K14+K15+K16+K17+K18+K19+K20)) -> 10.655512
B21: =SUM(B20+7) -> 46401 | K21: =SUM(C21+G21) -> 0 | L21: =SUM(D21+H21) -> 0 | M21: =SUM(D21/C21) -> #DIV/0! | N21: =SUM(H21/G21) -> #DIV/0! | O21: =SUM(L21/K21) -> #DIV/0! | P21: =SUM((D4+D5+D6+D7+D8+D9+D10+D11+D12+D13+D14+D15+D16+D17+D18+D19+D20+D21+H4+H5+H6+H7+H8+H9+H10+H11+H12+H13+H14+H15+H16+H17+H18+H19+H20+H21)/(C4+C5+C6+C7+C8+C9+C10+C11+C12+C13+C14+C15+C16+C17+C18+C19+C20+C21+G4+G5+G6+G7+G8+G9+G10+G11+G12+G13+G14+G15+G16+G17+G18+G19+G20+G21)) -> 10.664459 | Q21: =SUM((L3+L4+L5+L6+L7+L8+L9+L10+L11+L12+L13+L14+L15+L16+L17+L18+L19+L20+L21)/(K3+K4+K5+K6+K7+K8+K9+K10+K11+K12+K13+K14+K15+K16+K17+K18+K19+K20+K21)) -> 10.655512
B22: =SUM(B21+7) -> 46408 | K22: =SUM(C22+G22) -> 0 | L22: =SUM(D22+H22) -> 0 | M22: =SUM(D22/C22) -> #DIV/0! | N22: =SUM(H22/G22) -> #DIV/0! | O22: =SUM(L22/K22) -> #DIV/0! | P22: =SUM((D4+D5+D6+D7+D8+D9+D10+D11+D12+D13+D14+D15+D16+D17+D18+D19+D20+D21+D22+H4+H5+H6+H7+H8+H9+H10+H11+H12+H13+H14+H15+H16+H17+H18+H19+H20+H21+H22)/(C4+C5+C6+C7+C8+C9+C10+C11+C12+C13+C14+C15+C16+C17+C18+C19+C20+C21+C22+G4+G5+G6+G7+G8+G9+G10+G11+G12+G13+G14+G15+G16+G17+G18+G19+G20+G21+G22)) -> 10.664459 | Q22: =SUM((L3+L4+L5+L6+L7+L8+L9+L10+L11+L12+L13+L14+L15+L16+L17+L18+L19+L20+L21+L22)/(K3+K4+K5+K6+K7+K8+K9+K10+K11+K12+K13+K14+K15+K16+K17+K18+K19+K20+K21+K22)) -> 10.655512
B23: =SUM(B22+7) -> 46415 | K23: =SUM(C23+G23) -> 0 | L23: =SUM(D23+H23) -> 0 | M23: =SUM(D23/C23) -> #DIV/0! | N23: =SUM(H23/G23) -> #DIV/0! | O23: =SUM(L23/K23) -> #DIV/0! | P23: =SUM((D4+D5+D6+D7+D8+D9+D10+D11+D12+D13+D14+D15+D16+D17+D18+D19+D20+D21+D22+D23+H4+H5+H6+H7+H8+H9+H10+H11+H12+H13+H14+H15+H16+H17+H18+H19+H20+H21+H22+H23)/(C4+C5+C6+C7+C8+C9+C10+C11+C12+C13+C14+C15+C16+C17+C18+C19+C20+C21+C22+C23+G4+G5+G6+G7+G8+G9+G10+G11+G12+G13+G14+G15+G16+G17+G18+G19+G20+G21+G22+G23)) -> 10.664459 | Q23: =SUM((L3+L4+L5+L6+L7+L8+L9+L10+L11+L12+L13+L14+L15+L16+L17+L18+L19+L20+L21+L22+L23)/(K3+K4+K5+K6+K7+K8+K9+K10+K11+K12+K13+K14+K15+K16+K17+K18+K19+K20+K21+K22+K23)) -> 10.655512
K24: =SUM(C24+G24) -> 0 | L24: =SUM(D24+H24) -> 0 | M24: =SUM(D24/C24) -> #DIV/0! | N24: =SUM(H24/G24) -> #DIV/0! | O24: =SUM(L24/K24) -> #DIV/0! | P24: =SUM((D4+D5+D6+D7+D8+D9+D10+D11+D12+D13+D14+D15+D16+D17+D18+D19+D20+D21+D22+D23+D24+H4+H5+H6+H7+H8+H9+H10+H11+H12+H13+H14+H15+H16+H17+H18+H19+H20+H21+H22+H23+H24)/(C4+C5+C6+C7+C8+C9+C10+C11+C12+C13+C14+C15+C16+C17+C18+C19+C20+C21+C22+C23+C24+G4+G5+G6+G7+G8+G9+G10+G11+G12+G13+G14+G15+G16+G17+G18+G19+G20+G21+G22+G23+G24)) -> 10.664459 | Q24: =SUM((L3+L4+L5+L6+L7+L8+L9+L10+L11+L12+L13+L14+L15+L16+L17+L18+L19+L20+L21+L22+L23+L24)/(K3+K4+K5+K6+K7+K8+K9+K10+K11+K12+K13+K14+K15+K16+K17+K18+K19+K20+K21+K22+K23+K24)) -> 10.655512
K25: =SUM(C25+G25) -> 0 | L25: =SUM(D25+H25) -> 0 | M25: =SUM(D25/C25) -> #DIV/0! | N25: =SUM(H25/G25) -> #DIV/0! | O25: =SUM(L25/K25) -> #DIV/0! | P25: =SUM((D4+D5+D6+D7+D8+D9+D10+D11+D12+D13+D14+D15+D16+D17+D18+D19+D20+D21+D22+D23+D24+D25+H4+H5+H6+H7+H8+H9+H10+H11+H12+H13+H14+H15+H16+H17+H18+H19+H20+H21+H22+H23+H24+H25)/(C4+C5+C6+C7+C8+C9+C10+C11+C12+C13+C14+C15+C16+C17+C18+C19+C20+C21+C22+C23+C24+C25+G4+G5+G6+G7+G8+G9+G10+G11+G12+G13+G14+G15+G16+G17+G18+G19+G20+G21+G22+G23+G24+G25)) -> 10.664459 | Q25: =SUM((L3+L4+L5+L6+L7+L8+L9+L10+L11+L12+L13+L14+L15+L16+L17+L18+L19+L20+L21+L22+L23+L24+L25)/(K3+K4+K5+K6+K7+K8+K9+K10+K11+K12+K13+K14+K15+K16+K17+K18+K19+K20+K21+K22+K23+K24+K25)) -> 10.655512
K26: =SUM(C26+G26) -> 0 | L26: =SUM(D26+H26) -> 0 | M26: =SUM(D26/C26) -> #DIV/0! | N26: =SUM(H26/G26) -> #DIV/0! | O26: =SUM(L26/K26) -> #DIV/0! | P26: =SUM((D4+D5+D6+D7+D8+D9+D10+D11+D12+D13+D14+D15+D16+D17+D18+D19+D20+D21+D22+D23+D24+D25+D26+H4+H5+H6+H7+H8+H9+H10+H11+H12+H13+H14+H15+H16+H17+H18+H19+H20+H21+H22+H23+H24+H25+H26)/(C4+C5+C6+C7+C8+C9+C10+C11+C12+C13+C14+C15+C16+C17+C18+C19+C20+C21+C22+C23+C24+C25+C26+G4+G5+G6+G7+G8+G9+G10+G11+G12+G13+G14+G15+G16+G17+G18+G19+G20+G21+G22+G23+G24+G25+G26)) -> 10.664459 | Q26: =SUM((L3+L4+L5+L6+L7+L8+L9+L10+L11+L12+L13+L14+L15+L16+L17+L18+L19+L20+L21+L22+L23+L24+L25+L26)/(K3+K4+K5+K6+K7+K8+K9+K10+K11+K12+K13+K14+K15+K16+K17+K18+K19+K20+K21+K22+K23+K24+K25+K26)) -> 10.655512
K27: =SUM(C27+G27) -> 0 | L27: =SUM(D27+H27) -> 0 | M27: =SUM(D27/C27) -> #DIV/0! | N27: =SUM(H27/G27) -> #DIV/0! | O27: =SUM(L27/K27) -> #DIV/0! | P27: =SUM((D4+D5+D6+D7+D8+D9+D10+D11+D12+D13+D14+D15+D16+D17+D18+D19+D20+D21+D22+D23+D24+D25+D26+D27+H4+H5+H6+H7+H8+H9+H10+H11+H12+H13+H14+H15+H16+H17+H18+H19+H20+H21+H22+H23+H24+H25+H26+H27)/(C4+C5+C6+C7+C8+C9+C10+C11+C12+C13+C14+C15+C16+C17+C18+C19+C20+C21+C22+C23+C24+C25+C26+C27+G4+G5+G6+G7+G8+G9+G10+G11+G12+G13+G14+G15+G16+G17+G18+G19+G20+G21+G22+G23+G24+G25+G26+G27)) -> 10.664459 | Q27: =SUM((L3+L4+L5+L6+L7+L8+L9+L10+L11+L12+L13+L14+L15+L16+L17+L18+L19+L20+L21+L22+L23+L24+L25+L26+L27)/(K3+K4+K5+K6+K7+K8+K9+K10+K11+K12+K13+K14+K15+K16+K17+K18+K19+K20+K21+K22+K23+K24+K25+K26+K27)) -> 10.655512
K28: =SUM(C28+G28) -> 0 | L28: =SUM(D28+H28) -> 0 | M28: =SUM(D28/C28) -> #DIV/0! | N28: =SUM(H28/G28) -> #DIV/0! | O28: =SUM(L28/K28) -> #DIV/0! | P28: =SUM((D4+D5+D6+D7+D8+D9+D10+D11+D12+D13+D14+D15+D16+D17+D18+D19+D20+D21+D22+D23+D24+D25+D26+D27+D28+H4+H5+H6+H7+H8+H9+H10+H11+H12+H13+H14+H15+H16+H17+H18+H19+H20+H21+H22+H23+H24+H25+H26+H27+H28)/(C4+C5+C6+C7+C8+C9+C10+C11+C12+C13+C14+C15+C16+C17+C18+C19+C20+C21+C22+C23+C24+C25+C26+C27+C28+G4+G5+G6+G7+G8+G9+G10+G11+G12+G13+G14+G15+G16+G17+G18+G19+G20+G21+G22+G23+G24+G25+G26+G27+G28)) -> 10.664459 | Q28: =SUM((L3+L4+L5+L6+L7+L8+L9+L10+L11+L12+L13+L14+L15+L16+L17+L18+L19+L20+L21+L22+L23+L24+L25+L26+L27+L28)/(K3+K4+K5+K6+K7+K8+K9+K10+K11+K12+K13+K14+K15+K16+K17+K18+K19+K20+K21+K22+K23+K24+K25+K26+K27+K28)) -> 10.655512
K29: =SUM(C29+G29) -> 0 | L29: =SUM(D29+H29) -> 0 | M29: =SUM(D29/C29) -> #DIV/0! | N29: =SUM(H29/G29) -> #DIV/0! | O29: =SUM(L29/K29) -> #DIV/0! | P29: =SUM((D4+D5+D6+D7+D8+D9+D10+D11+D12+D13+D14+D15+D16+D17+D18+D19+D20+D21+D22+D23+D24+D25+D26+D27+D28+D29+H4+H5+H6+H7+H8+H9+H10+H11+H12+H13+H14+H15+H16+H17+H18+H19+H20+H21+H22+H23+H24+H25+H26+H27+H28+H29)/(C4+C5+C6+C7+C8+C9+C10+C11+C12+C13+C14+C15+C16+C17+C18+C19+C20+C21+C22+C23+C24+C25+C26+C27+C28+C29+G4+G5+G6+G7+G8+G9+G10+G11+G12+G13+G14+G15+G16+G17+G18+G19+G20+G21+G22+G23+G24+G25+G26+G27+G28+G29)) -> 10.664459 | Q29: =SUM((L3+L4+L5+L6+L7+L8+L9+L10+L11+L12+L13+L14+L15+L16+L17+L18+L19+L20+L21+L22+L23+L24+L25+L26+L27+L28+L29)/(K3+K4+K5+K6+K7+K8+K9+K10+K11+K12+K13+K14+K15+K16+K17+K18+K19+K20+K21+K22+K23+K24+K25+K26+K27+K28+K29)) -> 10.655512
K30: =SUM(C30+G30) -> 0 | L30: =SUM(D30+H30) -> 0 | M30: =SUM(D30/C30) -> #DIV/0! | N30: =SUM(H30/G30) -> #DIV/0! | O30: =SUM(L30/K30) -> #DIV/0! | P30: =SUM((D4+D5+D6+D7+D8+D9+D10+D11+D12+D13+D14+D15+D16+D17+D18+D19+D20+D21+D22+D23+D24+D25+D26+D27+D28+D29+D30+H4+H5+H6+H7+H8+H9+H10+H11+H12+H13+H14+H15+H16+H17+H18+H19+H20+H21+H22+H23+H24+H25+H26+H27+H28+H29+H30)/(C4+C5+C6+C7+C8+C9+C10+C11+C12+C13+C14+C15+C16+C17+C18+C19+C20+C21+C22+C23+C24+C25+C26+C27+C28+C29+C30+G4+G5+G6+G7+G8+G9+G10+G11+G12+G13+G14+G15+G16+G17+G18+G19+G20+G21+G22+G23+G24+G25+G26+G27+G28+G29+G30)) -> 10.664459 | Q30: =SUM((L3+L4+L5+L6+L7+L8+L9+L10+L11+L12+L13+L14+L15+L16+L17+L18+L19+L20+L21+L22+L23+L24+L25+L26+L27+L28+L29+L30)/(K3+K4+K5+K6+K7+K8+K9+K10+K11+K12+K13+K14+K15+K16+K17+K18+K19+K20+K21+K22+K23+K24+K25+K26+K27+K28+K29+K30)) -> 10.655512
A33: LEAGUE AVERAGE | C33: =Q30 -> 10.655512 | E33: =COUNTA(E4:E30) -> 5 | F33: =COUNTA(F4:F30) -> 1 | I33: =COUNTA(I4:I30) -> 3 | J33: =COUNTA(J4:J30) -> 3 | K33: =SUM(K3:K30) -> 500.3983 | L33: =SUM(L3:L30) -> 5332
A35: William Lyden
B36: Beginning Avg | C36: =SUM(D36/11.82) -> 42.385787 | D36: 501 | K36: =C36 -> 42.385787 | L36: 501 | M36: =SUM(D36/C36) -> 11.82 | N36: =SUM(H36/G36) -> #DIV/0! | O36: =SUM(L36/K36) -> 11.82 | P36: =SUM((D36+H36)/(C36+G36)) -> 11.82 | Q36: =SUM(L36/K36) -> 11.82
B37: 46282 | C37: 45 | D37: 549 | F37: X | G37: 30 | H37: 361 | I37: X | K37: =SUM(C37+G37) -> 75 | L37: =SUM(D37+H37) -> 910 | M37: =SUM(D37/C37) -> 12.2 | N37: =SUM(H37/G37) -> 12.033333 | O37: =SUM(L37/K37) -> 12.133333 | P37: =SUM((D37+H37)/(C37+G37)) -> 12.133333 | Q37: =SUM((L36+L37)/(K36+K37)) -> 12.020195
B38: =SUM(B37+7) -> 46289 | C38: 48 | D38: 469 | F38: X | G38: 30 | H38: 313 | I38: X | K38: =SUM(C38+G38) -> 78 | L38: =SUM(D38+H38) -> 782 | M38: =SUM(D38/C38) -> 9.7708333 | N38: =SUM(H38/G38) -> 10.433333 | O38: =SUM(L38/K38) -> 10.025641 | P38: =SUM((D37+D38+H37+H38)/(C37+C38+G37+G38)) -> 11.058824 | Q38: =SUM((L36+L37+L38)/(K36+K37+K38)) -> 11.223948
B39: =SUM(B38+7) -> 46296 | C39: 33 | D39: 581 | E39: X | G39: 36 | H39: 293 | J39: X | K39: =SUM(C39+G39) -> 69 | L39: =SUM(D39+H39) -> 874 | M39: =SUM(D39/C39) -> 17.606061 | N39: =SUM(H39/G39) -> 8.1388889 | O39: =SUM(L39/K39) -> 12.666667 | P39: =SUM((D37+D38+D39+H37+H38+H39)/(C37+C38+C39+G37+G38+G39)) -> 11.558559 | Q39: =SUM((L36+L37+L38+L39)/(K36+K37+K38+K39)) -> 11.600472
B40: =SUM(B39+7) -> 46303 | C40: 36 | D40: 501 | F40: X | G40: 58 | H40: 397 | I40: X | K40: =SUM(C40+G40) -> 94 | L40: =SUM(D40+H40) -> 898 | M40: =SUM(D40/C40) -> 13.916667 | N40: =SUM(H40/G40) -> 6.8448276 | O40: =SUM(L40/K40) -> 9.5531915 | P40: =SUM((D37+D38+D39+D40+H37+H38+H39+H40)/(C37+C38+C39+C40+G37+G38+G39+G40)) -> 10.962025 | Q40: =SUM((L36+L37+L38+L39+L40)/(K36+K37+K38+K39+K40)) -> 11.063497
B41: =SUM(B40+7) -> 46310 | C41: 47 | D41: 501 | E41: X | G41: 18 | H41: 191 | J41: X | K41: =SUM(C41+G41) -> 65 | L41: =SUM(D41+H41) -> 692 | M41: =SUM(D41/C41) -> 10.659574 | N41: =SUM(H41/G41) -> 10.611111 | O41: =SUM(L41/K41) -> 10.646154 | P41: =SUM((D37+D38+D39+D40+D41+H37+H38+H39+H40+H41)/(C37+C38+C39+C40+C41+G37+G38+G39+G40+G41)) -> 10.908136 | Q41: =SUM((L36+L37+L38+L39+L40+L41)/(K36+K37+K38+K39+K40+K41)) -> 10.999425
B42: =SUM(B41+7) -> 46317 | C42: 42 | D42: 533 | F42: X | G42: 37 | H42: 325 | I42: X | K42: =SUM(C42+G42) -> 79 | L42: =SUM(D42+H42) -> 858 | M42: =SUM(D42/C42) -> 12.690476 | N42: =SUM(H42/G42) -> 8.7837838 | O42: =SUM(L42/K42) -> 10.860759 | P42: =SUM((D37+D38+D39+D40+D41+D42+H37+H38+H39+H40+H41+H42)/(C37+C38+C39+C40+C41+C42+G37+G38+G39+G40+G41+G42)) -> 10.9 | Q42: =SUM((L36+L37+L38+L39+L40+L41+L42)/(K36+K37+K38+K39+K40+K41+K42)) -> 10.977619
B43: =SUM(B42+7) -> 46324 | K43: =SUM(C43+G43) -> 0 | L43: =SUM(D43+H43) -> 0 | M43: =SUM(D43/C43) -> #DIV/0! | N43: =SUM(H43/G43) -> #DIV/0! | O43: =SUM(L43/K43) -> #DIV/0! | P43: =SUM((D37+D38+D39+D40+D41+D42+D43+H37+H38+H39+H40+H41+H42+H43)/(C37+C38+C39+C40+C41+C42+C43+G37+G38+G39+G40+G41+G42+G43)) -> 10.9 | Q43: =SUM((L36+L37+L38+L39+L40+L41+L42+L43)/(K36+K37+K38+K39+K40+K41+K42+K43)) -> 10.977619
B44: =SUM(B43+7) -> 46331 | K44: =SUM(C44+G44) -> 0 | L44: =SUM(D44+H44) -> 0 | M44: =SUM(D44/C44) -> #DIV/0! | N44: =SUM(H44/G44) -> #DIV/0! | O44: =SUM(L44/K44) -> #DIV/0! | P44: =SUM((D37+D38+D39+D40+D41+D42+D43+D44+H37+H38+H39+H40+H41+H42+H43+H44)/(C37+C38+C39+C40+C41+C42+C43+C44+G37+G38+G39+G40+G41+G42+G43+G44)) -> 10.9 | Q44: =SUM((L36+L37+L38+L39+L40+L41+L42+L43+L44)/(K36+K37+K38+K39+K40+K41+K42+K43+K44)) -> 10.977619
B45: =SUM(B44+7) -> 46338 | K45: =SUM(C45+G45) -> 0 | L45: =SUM(D45+H45) -> 0 | M45: =SUM(D45/C45) -> #DIV/0! | N45: =SUM(H45/G45) -> #DIV/0! | O45: =SUM(L45/K45) -> #DIV/0! | P45: =SUM((D37+D38+D39+D40+D41+D42+D43+D44+D45+H37+H38+H39+H40+H41+H42+H43+H44+H45)/(C37+C38+C39+C40+C41+C42+C43+C44+C45+G37+G38+G39+G40+G41+G42+G43+G44+G45)) -> 10.9 | Q45: =SUM((L36+L37+L38+L39+L40+L41+L42+L43+L44+L45)/(K36+K37+K38+K39+K40+K41+K42+K43+K44+K45)) -> 10.977619
B46: =SUM(B45+7) -> 46345 | K46: =SUM(C46+G46) -> 0 | L46: =SUM(D46+H46) -> 0 | M46: =SUM(D46/C46) -> #DIV/0! | N46: =SUM(H46/G46) -> #DIV/0! | O46: =SUM(L46/K46) -> #DIV/0! | P46: =SUM((D37+D38+D39+D40+D41+D42+D43+D44+D45+D46+H37+H38+H39+H40+H41+H42+H43+H44+H45+H46)/(C37+C38+C39+C40+C41+C42+C43+C44+C45+C46+G37+G38+G39+G40+G41+G42+G43+G44+G45+G46)) -> 10.9 | Q46: =SUM((L36+L37+L38+L39+L40+L41+L42+L43+L44+L45+L46)/(K36+K37+K38+K39+K40+K41+K42+K43+K44+K45+K46)) -> 10.977619
B47: =SUM(B46+7) -> 46352 | K47: =SUM(C47+G47) -> 0 | L47: =SUM(D47+H47) -> 0 | M47: =SUM(D47/C47) -> #DIV/0! | N47: =SUM(H47/G47) -> #DIV/0! | O47: =SUM(L47/K47) -> #DIV/0! | P47: =SUM((D37+D38+D39+D40+D41+D42+D43+D44+D45+D46+D47+H37+H38+H39+H40+H41+H42+H43+H44+H45+H46+H47)/(C37+C38+C39+C40+C41+C42+C43+C44+C45+C46+C47+G37+G38+G39+G40+G41+G42+G43+G44+G45+G46+G47)) -> 10.9 | Q47: =SUM((L36+L37+L38+L39+L40+L41+L42+L43+L44+L45+L46+L47)/(K36+K37+K38+K39+K40+K41+K42+K43+K44+K45+K46+K47)) -> 10.977619
B48: =SUM(B47+7) -> 46359 | K48: =SUM(C48+G48) -> 0 | L48: =SUM(D48+H48) -> 0 | M48: =SUM(D48/C48) -> #DIV/0! | N48: =SUM(H48/G48) -> #DIV/0! | O48: =SUM(L48/K48) -> #DIV/0! | P48: =SUM((D37+D38+D39+D40+D41+D42+D43+D44+D45+D46+D47+D48+H37+H38+H39+H40+H41+H42+H43+H44+H45+H46+H47+H48)/(C37+C38+C39+C40+C41+C42+C43+C44+C45+C46+C47+C48+G37+G38+G39+G40+G41+G42+G43+G44+G45+G46+G47+G48)) -> 10.9 | Q48: =SUM((L36+L37+L38+L39+L40+L41+L42+L43+L44+L45+L46+L47+L48)/(K36+K37+K38+K39+K40+K41+K42+K43+K44+K45+K46+K47+K48)) -> 10.977619
B49: =SUM(B48+7) -> 46366 | K49: =SUM(C49+G49) -> 0 | L49: =SUM(D49+H49) -> 0 | M49: =SUM(D49/C49) -> #DIV/0! | N49: =SUM(H49/G49) -> #DIV/0! | O49: =SUM(L49/K49) -> #DIV/0! | P49: =SUM((D37+D38+D39+D40+D41+D42+D43+D44+D45+D46+D47+D48+D49+H37+H38+H39+H40+H41+H42+H43+H44+H45+H46+H47+H48+H49)/(C37+C38+C39+C40+C41+C42+C43+C44+C45+C46+C47+C48+C49+G37+G38+G39+G40+G41+G42+G43+G44+G45+G46+G47+G48+G49)) -> 10.9 | Q49: =SUM((L36+L37+L38+L39+L40+L41+L42+L43+L44+L45+L46+L47+L48+L49)/(K36+K37+K38+K39+K40+K41+K42+K43+K44+K45+K46+K47+K48+K49)) -> 10.977619
B50: =SUM(B49+7) -> 46373 | K50: =SUM(C50+G50) -> 0 | L50: =SUM(D50+H50) -> 0 | M50: =SUM(D50/C50) -> #DIV/0! | N50: =SUM(H50/G50) -> #DIV/0! | O50: =SUM(L50/K50) -> #DIV/0! | P50: =SUM((D37+D38+D39+D40+D41+D42+D43+D44+D45+D46+D47+D48+D49+D50+H37+H38+H39+H40+H41+H42+H43+H44+H45+H46+H47+H48+H49+H50)/(C37+C38+C39+C40+C41+C42+C43+C44+C45+C46+C47+C48+C49+C50+G37+G38+G39+G40+G41+G42+G43+G44+G45+G46+G47+G48+G49+G50)) -> 10.9 | Q50: =SUM((L36+L37+L38+L39+L40+L41+L42+L43+L44+L45+L46+L47+L48+L49+L50)/(K36+K37+K38+K39+K40+K41+K42+K43+K44+K45+K46+K47+K48+K49+K50)) -> 10.977619
B51: =SUM(B50+7) -> 46380 | K51: =SUM(C51+G51) -> 0 | L51: =SUM(D51+H51) -> 0 | M51: =SUM(D51/C51) -> #DIV/0! | N51: =SUM(H51/G51) -> #DIV/0! | O51: =SUM(L51/K51) -> #DIV/0! | P51: =SUM((D37+D38+D39+D40+D41+D42+D43+D44+D45+D46+D47+D48+D49+D50+D51+H37+H38+H39+H40+H41+H42+H43+H44+H45+H46+H47+H48+H49+H50+H51)/(C37+C38+C39+C40+C41+C42+C43+C44+C45+C46+C47+C48+C49+C50+C51+G37+G38+G39+G40+G41+G42+G43+G44+G45+G46+G47+G48+G49+G50+G51)) -> 10.9 | Q51: =SUM((L36+L37+L38+L39+L40+L41+L42+L43+L44+L45+L46+L47+L48+L49+L50+L51)/(K36+K37+K38+K39+K40+K41+K42+K43+K44+K45+K46+K47+K48+K49+K50+K51)) -> 10.977619
B52: =SUM(B51+7) -> 46387 | K52: =SUM(C52+G52) -> 0 | L52: =SUM(D52+H52) -> 0 | M52: =SUM(D52/C52) -> #DIV/0! | N52: =SUM(H52/G52) -> #DIV/0! | O52: =SUM(L52/K52) -> #DIV/0! | P52: =SUM((D37+D38+D39+D40+D41+D42+D43+D44+D45+D46+D47+D48+D49+D50+D51+D52+H37+H38+H39+H40+H41+H42+H43+H44+H45+H46+H47+H48+H49+H50+H51+H52)/(C37+C38+C39+C40+C41+C42+C43+C44+C45+C46+C47+C48+C49+C50+C51+C52+G37+G38+G39+G40+G41+G42+G43+G44+G45+G46+G47+G48+G49+G50+G51+G52)) -> 10.9 | Q52: =SUM((L36+L37+L38+L39+L40+L41+L42+L43+L44+L45+L46+L47+L48+L49+L50+L51+L52)/(K36+K37+K38+K39+K40+K41+K42+K43+K44+K45+K46+K47+K48+K49+K50+K51+K52)) -> 10.977619
B53: =SUM(B52+7) -> 46394 | K53: =SUM(C53+G53) -> 0 | L53: =SUM(D53+H53) -> 0 | M53: =SUM(D53/C53) -> #DIV/0! | N53: =SUM(H53/G53) -> #DIV/0! | O53: =SUM(L53/K53) -> #DIV/0! | P53: =SUM((D37+D38+D39+D40+D41+D42+D43+D44+D45+D46+D47+D48+D49+D50+D51+D52+D53+H37+H38+H39+H40+H41+H42+H43+H44+H45+H46+H47+H48+H49+H50+H51+H52+H53)/(C37+C38+C39+C40+C41+C42+C43+C44+C45+C46+C47+C48+C49+C50+C51+C52+C53+G37+G38+G39+G40+G41+G42+G43+G44+G45+G46+G47+G48+G49+G50+G51+G52+G53)) -> 10.9 | Q53: =SUM((L36+L37+L38+L39+L40+L41+L42+L43+L44+L45+L46+L47+L48+L49+L50+L51+L52+L53)/(K36+K37+K38+K39+K40+K41+K42+K43+K44+K45+K46+K47+K48+K49+K50+K51+K52+K53)) -> 10.977619
B54: =SUM(B53+7) -> 46401 | K54: =SUM(C54+G54) -> 0 | L54: =SUM(D54+H54) -> 0 | M54: =SUM(D54/C54) -> #DIV/0! | N54: =SUM(H54/G54) -> #DIV/0! | O54: =SUM(L54/K54) -> #DIV/0! | P54: =SUM((D37+D38+D39+D40+D41+D42+D43+D44+D45+D46+D47+D48+D49+D50+D51+D52+D53+D54+H37+H38+H39+H40+H41+H42+H43+H44+H45+H46+H47+H48+H49+H50+H51+H52+H53+H54)/(C37+C38+C39+C40+C41+C42+C43+C44+C45+C46+C47+C48+C49+C50+C51+C52+C53+C54+G37+G38+G39+G40+G41+G42+G43+G44+G45+G46+G47+G48+G49+G50+G51+G52+G53+G54)) -> 10.9 | Q54: =SUM((L36+L37+L38+L39+L40+L41+L42+L43+L44+L45+L46+L47+L48+L49+L50+L51+L52+L53+L54)/(K36+K37+K38+K39+K40+K41+K42+K43+K44+K45+K46+K47+K48+K49+K50+K51+K52+K53+K54)) -> 10.977619
B55: =SUM(B54+7) -> 46408 | K55: =SUM(C55+G55) -> 0 | L55: =SUM(D55+H55) -> 0 | M55: =SUM(D55/C55) -> #DIV/0! | N55: =SUM(H55/G55) -> #DIV/0! | O55: =SUM(L55/K55) -> #DIV/0! | P55: =SUM((D37+D38+D39+D40+D41+D42+D43+D44+D45+D46+D47+D48+D49+D50+D51+D52+D53+D54+D55+H37+H38+H39+H40+H41+H42+H43+H44+H45+H46+H47+H48+H49+H50+H51+H52+H53+H54+H55)/(C37+C38+C39+C40+C41+C42+C43+C44+C45+C46+C47+C48+C49+C50+C51+C52+C53+C54+C55+G37+G38+G39+G40+G41+G42+G43+G44+G45+G46+G47+G48+G49+G50+G51+G52+G53+G54+G55)) -> 10.9 | Q55: =SUM((L36+L37+L38+L39+L40+L41+L42+L43+L44+L45+L46+L47+L48+L49+L50+L51+L52+L53+L54+L55)/(K36+K37+K38+K39+K40+K41+K42+K43+K44+K45+K46+K47+K48+K49+K50+K51+K52+K53+K54+K55)) -> 10.977619
B56: =SUM(B55+7) -> 46415 | K56: =SUM(C56+G56) -> 0 | L56: =SUM(D56+H56) -> 0 | M56: =SUM(D56/C56) -> #DIV/0! | N56: =SUM(H56/G56) -> #DIV/0! | O56: =SUM(L56/K56) -> #DIV/0! | P56: =SUM((D37+D38+D39+D40+D41+D42+D43+D44+D45+D46+D47+D48+D49+D50+D51+D52+D53+D54+D55+D56+H37+H38+H39+H40+H41+H42+H43+H44+H45+H46+H47+H48+H49+H50+H51+H52+H53+H54+H55+H56)/(C37+C38+C39+C40+C41+C42+C43+C44+C45+C46+C47+C48+C49+C50+C51+C52+C53+C54+C55+C56+G37+G38+G39+G40+G41+G42+G43+G44+G45+G46+G47+G48+G49+G50+G51+G52+G53+G54+G55+G56)) -> 10.9 | Q56: =SUM((L36+L37+L38+L39+L40+L41+L42+L43+L44+L45+L46+L47+L48+L49+L50+L51+L52+L53+L54+L55+L56)/(K36+K37+K38+K39+K40+K41+K42+K43+K44+K45+K46+K47+K48+K49+K50+K51+K52+K53+K54+K55+K56)) -> 10.977619
K57: =SUM(C57+G57) -> 0 | L57: =SUM(D57+H57) -> 0 | M57: =SUM(D57/C57) -> #DIV/0! | N57: =SUM(H57/G57) -> #DIV/0! | O57: =SUM(L57/K57) -> #DIV/0! | P57: =SUM((D37+D38+D39+D40+D41+D42+D43+D44+D45+D46+D47+D48+D49+D50+D51+D52+D53+D54+D55+D56+D57+H37+H38+H39+H40+H41+H42+H43+H44+H45+H46+H47+H48+H49+H50+H51+H52+H53+H54+H55+H56+H57)/(C37+C38+C39+C40+C41+C42+C43+C44+C45+C46+C47+C48+C49+C50+C51+C52+C53+C54+C55+C56+C57+G37+G38+G39+G40+G41+G42+G43+G44+G45+G46+G47+G48+G49+G50+G51+G52+G53+G54+G55+G56+G57)) -> 10.9 | Q57: =SUM((L36+L37+L38+L39+L40+L41+L42+L43+L44+L45+L46+L47+L48+L49+L50+L51+L52+L53+L54+L55+L56+L57)/(K36+K37+K38+K39+K40+K41+K42+K43+K44+K45+K46+K47+K48+K49+K50+K51+K52+K53+K54+K55+K56+K57)) -> 10.977619
K58: =SUM(C58+G58) -> 0 | L58: =SUM(D58+H58) -> 0 | M58: =SUM(D58/C58) -> #DIV/0! | N58: =SUM(H58/G58) -> #DIV/0! | O58: =SUM(L58/K58) -> #DIV/0! | P58: =SUM((D37+D38+D39+D40+D41+D42+D43+D44+D45+D46+D47+D48+D49+D50+D51+D52+D53+D54+D55+D56+D57+D58+H37+H38+H39+H40+H41+H42+H43+H44+H45+H46+H47+H48+H49+H50+H51+H52+H53+H54+H55+H56+H57+H58)/(C37+C38+C39+C40+C41+C42+C43+C44+C45+C46+C47+C48+C49+C50+C51+C52+C53+C54+C55+C56+C57+C58+G37+G38+G39+G40+G41+G42+G43+G44+G45+G46+G47+G48+G49+G50+G51+G52+G53+G54+G55+G56+G57+G58)) -> 10.9 | Q58: =SUM((L36+L37+L38+L39+L40+L41+L42+L43+L44+L45+L46+L47+L48+L49+L50+L51+L52+L53+L54+L55+L56+L57+L58)/(K36+K37+K38+K39+K40+K41+K42+K43+K44+K45+K46+K47+K48+K49+K50+K51+K52+K53+K54+K55+K56+K57+K58)) -> 10.977619
K59: =SUM(C59+G59) -> 0 | L59: =SUM(D59+H59) -> 0 | M59: =SUM(D59/C59) -> #DIV/0! | N59: =SUM(H59/G59) -> #DIV/0! | O59: =SUM(L59/K59) -> #DIV/0! | P59: =SUM((D37+D38+D39+D40+D41+D42+D43+D44+D45+D46+D47+D48+D49+D50+D51+D52+D53+D54+D55+D56+D57+D58+D59+H37+H38+H39+H40+H41+H42+H43+H44+H45+H46+H47+H48+H49+H50+H51+H52+H53+H54+H55+H56+H57+H58+H59)/(C37+C38+C39+C40+C41+C42+C43+C44+C45+C46+C47+C48+C49+C50+C51+C52+C53+C54+C55+C56+C57+C58+C59+G37+G38+G39+G40+G41+G42+G43+G44+G45+G46+G47+G48+G49+G50+G51+G52+G53+G54+G55+G56+G57+G58+G59)) -> 10.9 | Q59: =SUM((L36+L37+L38+L39+L40+L41+L42+L43+L44+L45+L46+L47+L48+L49+L50+L51+L52+L53+L54+L55+L56+L57+L58+L59)/(K36+K37+K38+K39+K40+K41+K42+K43+K44+K45+K46+K47+K48+K49+K50+K51+K52+K53+K54+K55+K56+K57+K58+K59)) -> 10.977619
K60: =SUM(C60+G60) -> 0 | L60: =SUM(D60+H60) -> 0 | M60: =SUM(D60/C60) -> #DIV/0! | N60: =SUM(H60/G60) -> #DIV/0! | O60: =SUM(L60/K60) -> #DIV/0! | P60: =SUM((D37+D38+D39+D40+D41+D42+D43+D44+D45+D46+D47+D48+D49+D50+D51+D52+D53+D54+D55+D56+D57+D58+D59+D60+H37+H38+H39+H40+H41+H42+H43+H44+H45+H46+H47+H48+H49+H50+H51+H52+H53+H54+H55+H56+H57+H58+H59+H60)/(C37+C38+C39+C40+C41+C42+C43+C44+C45+C46+C47+C48+C49+C50+C51+C52+C53+C54+C55+C56+C57+C58+C59+C60+G37+G38+G39+G40+G41+G42+G43+G44+G45+G46+G47+G48+G49+G50+G51+G52+G53+G54+G55+G56+G57+G58+G59+G60)) -> 10.9 | Q60: =SUM((L36+L37+L38+L39+L40+L41+L42+L43+L44+L45+L46+L47+L48+L49+L50+L51+L52+L53+L54+L55+L56+L57+L58+L59+L60)/(K36+K37+K38+K39+K40+K41+K42+K43+K44+K45+K46+K47+K48+K49+K50+K51+K52+K53+K54+K55+K56+K57+K58+K59+K60)) -> 10.977619
K61: =SUM(C61+G61) -> 0 | L61: =SUM(D61+H61) -> 0 | M61: =SUM(D61/C61) -> #DIV/0! | N61: =SUM(H61/G61) -> #DIV/0! | O61: =SUM(L61/K61) -> #DIV/0! | P61: =SUM((D37+D38+D39+D40+D41+D42+D43+D44+D45+D46+D47+D48+D49+D50+D51+D52+D53+D54+D55+D56+D57+D58+D59+D60+D61+H37+H38+H39+H40+H41+H42+H43+H44+H45+H46+H47+H48+H49+H50+H51+H52+H53+H54+H55+H56+H57+H58+H59+H60+H61)/(C37+C38+C39+C40+C41+C42+C43+C44+C45+C46+C47+C48+C49+C50+C51+C52+C53+C54+C55+C56+C57+C58+C59+C60+C61+G37+G38+G39+G40+G41+G42+G43+G44+G45+G46+G47+G48+G49+G50+G51+G52+G53+G54+G55+G56+G57+G58+G59+G60+G61)) -> 10.9 | Q61: =SUM((L36+L37+L38+L39+L40+L41+L42+L43+L44+L45+L46+L47+L48+L49+L50+L51+L52+L53+L54+L55+L56+L57+L58+L59+L60+L61)/(K36+K37+K38+K39+K40+K41+K42+K43+K44+K45+K46+K47+K48+K49+K50+K51+K52+K53+K54+K55+K56+K57+K58+K59+K60+K61)) -> 10.977619
K62: =SUM(C62+G62) -> 0 | L62: =SUM(D62+H62) -> 0 | M62: =SUM(D62/C62) -> #DIV/0! | N62: =SUM(H62/G62) -> #DIV/0! | O62: =SUM(L62/K62) -> #DIV/0! | P62: =SUM((D37+D38+D39+D40+D41+D42+D43+D44+D45+D46+D47+D48+D49+D50+D51+D52+D53+D54+D55+D56+D57+D58+D59+D60+D61+D62+H37+H38+H39+H40+H41+H42+H43+H44+H45+H46+H47+H48+H49+H50+H51+H52+H53+H54+H55+H56+H57+H58+H59+H60+H61+H62)/(C37+C38+C39+C40+C41+C42+C43+C44+C45+C46+C47+C48+C49+C50+C51+C52+C53+C54+C55+C56+C57+C58+C59+C60+C61+C62+G37+G38+G39+G40+G41+G42+G43+G44+G45+G46+G47+G48+G49+G50+G51+G52+G53+G54+G55+G56+G57+G58+G59+G60+G61+G62)) -> 10.9 | Q62: =SUM((L36+L37+L38+L39+L40+L41+L42+L43+L44+L45+L46+L47+L48+L49+L50+L51+L52+L53+L54+L55+L56+L57+L58+L59+L60+L61+L62)/(K36+K37+K38+K39+K40+K41+K42+K43+K44+K45+K46+K47+K48+K49+K50+K51+K52+K53+K54+K55+K56+K57+K58+K59+K60+K61+K62)) -> 10.977619
K63: =SUM(C63+G63) -> 0 | L63: =SUM(D63+H63) -> 0 | M63: =SUM(D63/C63) -> #DIV/0! | N63: =SUM(H63/G63) -> #DIV/0! | O63: =SUM(L63/K63) -> #DIV/0! | P63: =SUM((D37+D38+D39+D40+D41+D42+D43+D44+D45+D46+D47+D48+D49+D50+D51+D52+D53+D54+D55+D56+D57+D58+D59+D60+D61+D62+D63+H37+H38+H39+H40+H41+H42+H43+H44+H45+H46+H47+H48+H49+H50+H51+H52+H53+H54+H55+H56+H57+H58+H59+H60+H61+H62+H63)/(C37+C38+C39+C40+C41+C42+C43+C44+C45+C46+C47+C48+C49+C50+C51+C52+C53+C54+C55+C56+C57+C58+C59+C60+C61+C62+C63+G37+G38+G39+G40+G41+G42+G43+G44+G45+G46+G47+G48+G49+G50+G51+G52+G53+G54+G55+G56+G57+G58+G59+G60+G61+G62+G63)) -> 10.9 | Q63: =SUM((L36+L37+L38+L39+L40+L41+L42+L43+L44+L45+L46+L47+L48+L49+L50+L51+L52+L53+L54+L55+L56+L57+L58+L59+L60+L61+L62+L63)/(K36+K37+K38+K39+K40+K41+K42+K43+K44+K45+K46+K47+K48+K49+K50+K51+K52+K53+K54+K55+K56+K57+K58+K59+K60+K61+K62+K63)) -> 10.977619
A66: LEAGUE AVERAGE | C66: =Q63 -> 10.977619 | E66: =COUNTA(E37:E63) -> 2 | F66: =COUNTA(F37:F63) -> 4 | I66: =COUNTA(I37:I63) -> 4 | J66: =COUNTA(J37:J63) -> 2 | K66: =SUM(K36:K63) -> 502.38579 | L66: =SUM(L36:L63) -> 5515
A68: Kristen Sumner
B69: Beginning Avg | C69: =SUM(D69/8.88) -> 56.418919 | D69: 501 | K69: =C69 -> 56.418919 | L69: 501 | M69: =SUM(D69/C69) -> 8.88 | N69: =SUM(H69/G69) -> #DIV/0! | O69: =SUM(L69/K69) -> 8.88 | P69: =SUM((D69+H69)/(C69+G69)) -> 8.88 | Q69: =SUM(L69/K69) -> 8.88
B70: 46282 | C70: 81 | D70: 501 | E70: X | G70: 38 | H70: 301 | I70: X | K70: =SUM(C70+G70) -> 119 | L70: =SUM(D70+H70) -> 802 | M70: =SUM(D70/C70) -> 6.1851852 | N70: =SUM(H70/G70) -> 7.9210526 | O70: =SUM(L70/K70) -> 6.7394958 | P70: =SUM((D70+H70)/(C70+G70)) -> 6.7394958 | Q70: =SUM((L69+L70)/(K69+K70)) -> 7.4279331
B71: =SUM(B70+7) -> 46289 | C71: 25 | D71: 501 | E71: X | G71: 36 | H71: 297 | J71: X | K71: =SUM(C71+G71) -> 61 | L71: =SUM(D71+H71) -> 798 | M71: =SUM(D71/C71) -> 20.04 | N71: =SUM(H71/G71) -> 8.25 | O71: =SUM(L71/K71) -> 13.081967 | P71: =SUM((D70+D71+H70+H71)/(C70+C71+G70+G71)) -> 8.8888889 | Q71: =SUM((L69+L70+L71)/(K69+K70+K71)) -> 8.8867676
B72: =SUM(B71+7) -> 46296 | C72: 51 | D72: 495 | F72: X | G72: 61 | H72: 301 | I72: X | K72: =SUM(C72+G72) -> 112 | L72: =SUM(D72+H72) -> 796 | M72: =SUM(D72/C72) -> 9.7058824 | N72: =SUM(H72/G72) -> 4.9344262 | O72: =SUM(L72/K72) -> 7.1071429 | P72: =SUM((D70+D71+D72+H70+H71+H72)/(C70+C71+C72+G70+G71+G72)) -> 8.2054795 | Q72: =SUM((L69+L70+L71+L72)/(K69+K70+K71+K72)) -> 8.3147035
B73: =SUM(B72+7) -> 46303 | C73: 45 | D73: 475 | F73: X | G73: 30 | H73: 192 | J73: X | K73: =SUM(C73+G73) -> 75 | L73: =SUM(D73+H73) -> 667 | M73: =SUM(D73/C73) -> 10.555556 | N73: =SUM(H73/G73) -> 6.4 | O73: =SUM(L73/K73) -> 8.8933333 | P73: =SUM((D70+D71+D72+D73+H70+H71+H72+H73)/(C70+C71+C72+C73+G70+G71+G72+G73)) -> 8.346049 | Q73: =SUM((L69+L70+L71+L72+L73)/(K69+K70+K71+K72+K73)) -> 8.4171959
B74: =SUM(B73+7) -> 46310 | C74: 35 | D74: 501 | E74: X | G74: 32 | H74: 301 | I74: X | K74: =SUM(C74+G74) -> 67 | L74: =SUM(D74+H74) -> 802 | M74: =SUM(D74/C74) -> 14.314286 | N74: =SUM(H74/G74) -> 9.40625 | O74: =SUM(L74/K74) -> 11.970149 | P74: =SUM((D70+D71+D72+D73+D74+H70+H71+H72+H73+H74)/(C70+C71+C72+C73+C74+G70+G71+G72+G73+G74)) -> 8.90553 | Q74: =SUM((L69+L70+L71+L72+L73+L74)/(K69+K70+K71+K72+K73+K74)) -> 8.9025929
B75: =SUM(B74+7) -> 46317 | C75: 42 | D75: 521 | E75: X | G75: 27 | H75: 283 | J75: X | K75: =SUM(C75+G75) -> 69 | L75: =SUM(D75+H75) -> 804 | M75: =SUM(D75/C75) -> 12.404762 | N75: =SUM(H75/G75) -> 10.481481 | O75: =SUM(L75/K75) -> 11.652174 | P75: =SUM((D70+D71+D72+D73+D74+D75+H70+H71+H72+H73+H74+H75)/(C70+C71+C72+C73+C74+C75+G70+G71+G72+G73+G74+G75)) -> 9.2823062 | Q75: =SUM((L69+L70+L71+L72+L73+L74+L75)/(K69+K70+K71+K72+K73+K74+K75)) -> 9.2417325
B76: =SUM(B75+7) -> 46324 | K76: =SUM(C76+G76) -> 0 | L76: =SUM(D76+H76) -> 0 | M76: =SUM(D76/C76) -> #DIV/0! | N76: =SUM(H76/G76) -> #DIV/0! | O76: =SUM(L76/K76) -> #DIV/0! | P76: =SUM((D70+D71+D72+D73+D74+D75+D76+H70+H71+H72+H73+H74+H75+H76)/(C70+C71+C72+C73+C74+C75+C76+G70+G71+G72+G73+G74+G75+G76)) -> 9.2823062 | Q76: =SUM((L69+L70+L71+L72+L73+L74+L75+L76)/(K69+K70+K71+K72+K73+K74+K75+K76)) -> 9.2417325
B77: =SUM(B76+7) -> 46331 | K77: =SUM(C77+G77) -> 0 | L77: =SUM(D77+H77) -> 0 | M77: =SUM(D77/C77) -> #DIV/0! | N77: =SUM(H77/G77) -> #DIV/0! | O77: =SUM(L77/K77) -> #DIV/0! | P77: =SUM((D70+D71+D72+D73+D74+D75+D76+D77+H70+H71+H72+H73+H74+H75+H76+H77)/(C70+C71+C72+C73+C74+C75+C76+C77+G70+G71+G72+G73+G74+G75+G76+G77)) -> 9.2823062 | Q77: =SUM((L69+L70+L71+L72+L73+L74+L75+L76+L77)/(K69+K70+K71+K72+K73+K74+K75+K76+K77)) -> 9.2417325
B78: =SUM(B77+7) -> 46338 | K78: =SUM(C78+G78) -> 0 | L78: =SUM(D78+H78) -> 0 | M78: =SUM(D78/C78) -> #DIV/0! | N78: =SUM(H78/G78) -> #DIV/0! | O78: =SUM(L78/K78) -> #DIV/0! | P78: =SUM((D70+D71+D72+D73+D74+D75+D76+D77+D78+H70+H71+H72+H73+H74+H75+H76+H77+H78)/(C70+C71+C72+C73+C74+C75+C76+C77+C78+G70+G71+G72+G73+G74+G75+G76+G77+G78)) -> 9.2823062 | Q78: =SUM((L69+L70+L71+L72+L73+L74+L75+L76+L77+L78)/(K69+K70+K71+K72+K73+K74+K75+K76+K77+K78)) -> 9.2417325
B79: =SUM(B78+7) -> 46345 | K79: =SUM(C79+G79) -> 0 | L79: =SUM(D79+H79) -> 0 | M79: =SUM(D79/C79) -> #DIV/0! | N79: =SUM(H79/G79) -> #DIV/0! | O79: =SUM(L79/K79) -> #DIV/0! | P79: =SUM((D70+D71+D72+D73+D74+D75+D76+D77+D78+D79+H70+H71+H72+H73+H74+H75+H76+H77+H78+H79)/(C70+C71+C72+C73+C74+C75+C76+C77+C78+C79+G70+G71+G72+G73+G74+G75+G76+G77+G78+G79)) -> 9.2823062 | Q79: =SUM((L69+L70+L71+L72+L73+L74+L75+L76+L77+L78+L79)/(K69+K70+K71+K72+K73+K74+K75+K76+K77+K78+K79)) -> 9.2417325
B80: =SUM(B79+7) -> 46352 | K80: =SUM(C80+G80) -> 0 | L80: =SUM(D80+H80) -> 0 | M80: =SUM(D80/C80) -> #DIV/0! | N80: =SUM(H80/G80) -> #DIV/0! | O80: =SUM(L80/K80) -> #DIV/0! | P80: =SUM((D70+D71+D72+D73+D74+D75+D76+D77+D78+D79+D80+H70+H71+H72+H73+H74+H75+H76+H77+H78+H79+H80)/(C70+C71+C72+C73+C74+C75+C76+C77+C78+C79+C80+G70+G71+G72+G73+G74+G75+G76+G77+G78+G79+G80)) -> 9.2823062 | Q80: =SUM((L69+L70+L71+L72+L73+L74+L75+L76+L77+L78+L79+L80)/(K69+K70+K71+K72+K73+K74+K75+K76+K77+K78+K79+K80)) -> 9.2417325
B81: =SUM(B80+7) -> 46359 | K81: =SUM(C81+G81) -> 0 | L81: =SUM(D81+H81) -> 0 | M81: =SUM(D81/C81) -> #DIV/0! | N81: =SUM(H81/G81) -> #DIV/0! | O81: =SUM(L81/K81) -> #DIV/0! | P81: =SUM((D70+D71+D72+D73+D74+D75+D76+D77+D78+D79+D80+D81+H70+H71+H72+H73+H74+H75+H76+H77+H78+H79+H80+H81)/(C70+C71+C72+C73+C74+C75+C76+C77+C78+C79+C80+C81+G70+G71+G72+G73+G74+G75+G76+G77+G78+G79+G80+G81)) -> 9.2823062 | Q81: =SUM((L69+L70+L71+L72+L73+L74+L75+L76+L77+L78+L79+L80+L81)/(K69+K70+K71+K72+K73+K74+K75+K76+K77+K78+K79+K80+K81)) -> 9.2417325
B82: =SUM(B81+7) -> 46366 | K82: =SUM(C82+G82) -> 0 | L82: =SUM(D82+H82) -> 0 | M82: =SUM(D82/C82) -> #DIV/0! | N82: =SUM(H82/G82) -> #DIV/0! | O82: =SUM(L82/K82) -> #DIV/0! | P82: =SUM((D70+D71+D72+D73+D74+D75+D76+D77+D78+D79+D80+D81+D82+H70+H71+H72+H73+H74+H75+H76+H77+H78+H79+H80+H81+H82)/(C70+C71+C72+C73+C74+C75+C76+C77+C78+C79+C80+C81+C82+G70+G71+G72+G73+G74+G75+G76+G77+G78+G79+G80+G81+G82)) -> 9.2823062 | Q82: =SUM((L69+L70+L71+L72+L73+L74+L75+L76+L77+L78+L79+L80+L81+L82)/(K69+K70+K71+K72+K73+K74+K75+K76+K77+K78+K79+K80+K81+K82)) -> 9.2417325
B83: =SUM(B82+7) -> 46373 | K83: =SUM(C83+G83) -> 0 | L83: =SUM(D83+H83) -> 0 | M83: =SUM(D83/C83) -> #DIV/0! | N83: =SUM(H83/G83) -> #DIV/0! | O83: =SUM(L83/K83) -> #DIV/0! | P83: =SUM((D70+D71+D72+D73+D74+D75+D76+D77+D78+D79+D80+D81+D82+D83+H70+H71+H72+H73+H74+H75+H76+H77+H78+H79+H80+H81+H82+H83)/(C70+C71+C72+C73+C74+C75+C76+C77+C78+C79+C80+C81+C82+C83+G70+G71+G72+G73+G74+G75+G76+G77+G78+G79+G80+G81+G82+G83)) -> 9.2823062 | Q83: =SUM((L69+L70+L71+L72+L73+L74+L75+L76+L77+L78+L79+L80+L81+L82+L83)/(K69+K70+K71+K72+K73+K74+K75+K76+K77+K78+K79+K80+K81+K82+K83)) -> 9.2417325
B84: =SUM(B83+7) -> 46380 | K84: =SUM(C84+G84) -> 0 | L84: =SUM(D84+H84) -> 0 | M84: =SUM(D84/C84) -> #DIV/0! | N84: =SUM(H84/G84) -> #DIV/0! | O84: =SUM(L84/K84) -> #DIV/0! | P84: =SUM((D70+D71+D72+D73+D74+D75+D76+D77+D78+D79+D80+D81+D82+D83+D84+H70+H71+H72+H73+H74+H75+H76+H77+H78+H79+H80+H81+H82+H83+H84)/(C70+C71+C72+C73+C74+C75+C76+C77+C78+C79+C80+C81+C82+C83+C84+G70+G71+G72+G73+G74+G75+G76+G77+G78+G79+G80+G81+G82+G83+G84)) -> 9.2823062 | Q84: =SUM((L69+L70+L71+L72+L73+L74+L75+L76+L77+L78+L79+L80+L81+L82+L83+L84)/(K69+K70+K71+K72+K73+K74+K75+K76+K77+K78+K79+K80+K81+K82+K83+K84)) -> 9.2417325
B85: =SUM(B84+7) -> 46387 | K85: =SUM(C85+G85) -> 0 | L85: =SUM(D85+H85) -> 0 | M85: =SUM(D85/C85) -> #DIV/0! | N85: =SUM(H85/G85) -> #DIV/0! | O85: =SUM(L85/K85) -> #DIV/0! | P85: =SUM((D70+D71+D72+D73+D74+D75+D76+D77+D78+D79+D80+D81+D82+D83+D84+D85+H70+H71+H72+H73+H74+H75+H76+H77+H78+H79+H80+H81+H82+H83+H84+H85)/(C70+C71+C72+C73+C74+C75+C76+C77+C78+C79+C80+C81+C82+C83+C84+C85+G70+G71+G72+G73+G74+G75+G76+G77+G78+G79+G80+G81+G82+G83+G84+G85)) -> 9.2823062 | Q85: =SUM((L69+L70+L71+L72+L73+L74+L75+L76+L77+L78+L79+L80+L81+L82+L83+L84+L85)/(K69+K70+K71+K72+K73+K74+K75+K76+K77+K78+K79+K80+K81+K82+K83+K84+K85)) -> 9.2417325
B86: =SUM(B85+7) -> 46394 | K86: =SUM(C86+G86) -> 0 | L86: =SUM(D86+H86) -> 0 | M86: =SUM(D86/C86) -> #DIV/0! | N86: =SUM(H86/G86) -> #DIV/0! | O86: =SUM(L86/K86) -> #DIV/0! | P86: =SUM((D70+D71+D72+D73+D74+D75+D76+D77+D78+D79+D80+D81+D82+D83+D84+D85+D86+H70+H71+H72+H73+H74+H75+H76+H77+H78+H79+H80+H81+H82+H83+H84+H85+H86)/(C70+C71+C72+C73+C74+C75+C76+C77+C78+C79+C80+C81+C82+C83+C84+C85+C86+G70+G71+G72+G73+G74+G75+G76+G77+G78+G79+G80+G81+G82+G83+G84+G85+G86)) -> 9.2823062 | Q86: =SUM((L69+L70+L71+L72+L73+L74+L75+L76+L77+L78+L79+L80+L81+L82+L83+L84+L85+L86)/(K69+K70+K71+K72+K73+K74+K75+K76+K77+K78+K79+K80+K81+K82+K83+K84+K85+K86)) -> 9.2417325
B87: =SUM(B86+7) -> 46401 | K87: =SUM(C87+G87) -> 0 | L87: =SUM(D87+H87) -> 0 | M87: =SUM(D87/C87) -> #DIV/0! | N87: =SUM(H87/G87) -> #DIV/0! | O87: =SUM(L87/K87) -> #DIV/0! | P87: =SUM((D70+D71+D72+D73+D74+D75+D76+D77+D78+D79+D80+D81+D82+D83+D84+D85+D86+D87+H70+H71+H72+H73+H74+H75+H76+H77+H78+H79+H80+H81+H82+H83+H84+H85+H86+H87)/(C70+C71+C72+C73+C74+C75+C76+C77+C78+C79+C80+C81+C82+C83+C84+C85+C86+C87+G70+G71+G72+G73+G74+G75+G76+G77+G78+G79+G80+G81+G82+G83+G84+G85+G86+G87)) -> 9.2823062 | Q87: =SUM((L69+L70+L71+L72+L73+L74+L75+L76+L77+L78+L79+L80+L81+L82+L83+L84+L85+L86+L87)/(K69+K70+K71+K72+K73+K74+K75+K76+K77+K78+K79+K80+K81+K82+K83+K84+K85+K86+K87)) -> 9.2417325
B88: =SUM(B87+7) -> 46408 | K88: =SUM(C88+G88) -> 0 | L88: =SUM(D88+H88) -> 0 | M88: =SUM(D88/C88) -> #DIV/0! | N88: =SUM(H88/G88) -> #DIV/0! | O88: =SUM(L88/K88) -> #DIV/0! | P88: =SUM((D70+D71+D72+D73+D74+D75+D76+D77+D78+D79+D80+D81+D82+D83+D84+D85+D86+D87+D88+H70+H71+H72+H73+H74+H75+H76+H77+H78+H79+H80+H81+H82+H83+H84+H85+H86+H87+H88)/(C70+C71+C72+C73+C74+C75+C76+C77+C78+C79+C80+C81+C82+C83+C84+C85+C86+C87+C88+G70+G71+G72+G73+G74+G75+G76+G77+G78+G79+G80+G81+G82+G83+G84+G85+G86+G87+G88)) -> 9.2823062 | Q88: =SUM((L69+L70+L71+L72+L73+L74+L75+L76+L77+L78+L79+L80+L81+L82+L83+L84+L85+L86+L87+L88)/(K69+K70+K71+K72+K73+K74+K75+K76+K77+K78+K79+K80+K81+K82+K83+K84+K85+K86+K87+K88)) -> 9.2417325
B89: =SUM(B88+7) -> 46415 | K89: =SUM(C89+G89) -> 0 | L89: =SUM(D89+H89) -> 0 | M89: =SUM(D89/C89) -> #DIV/0! | N89: =SUM(H89/G89) -> #DIV/0! | O89: =SUM(L89/K89) -> #DIV/0! | P89: =SUM((D70+D71+D72+D73+D74+D75+D76+D77+D78+D79+D80+D81+D82+D83+D84+D85+D86+D87+D88+D89+H70+H71+H72+H73+H74+H75+H76+H77+H78+H79+H80+H81+H82+H83+H84+H85+H86+H87+H88+H89)/(C70+C71+C72+C73+C74+C75+C76+C77+C78+C79+C80+C81+C82+C83+C84+C85+C86+C87+C88+C89+G70+G71+G72+G73+G74+G75+G76+G77+G78+G79+G80+G81+G82+G83+G84+G85+G86+G87+G88+G89)) -> 9.2823062 | Q89: =SUM((L69+L70+L71+L72+L73+L74+L75+L76+L77+L78+L79+L80+L81+L82+L83+L84+L85+L86+L87+L88+L89)/(K69+K70+K71+K72+K73+K74+K75+K76+K77+K78+K79+K80+K81+K82+K83+K84+K85+K86+K87+K88+K89)) -> 9.2417325
K90: =SUM(C90+G90) -> 0 | L90: =SUM(D90+H90) -> 0 | M90: =SUM(D90/C90) -> #DIV/0! | N90: =SUM(H90/G90) -> #DIV/0! | O90: =SUM(L90/K90) -> #DIV/0! | P90: =SUM((D70+D71+D72+D73+D74+D75+D76+D77+D78+D79+D80+D81+D82+D83+D84+D85+D86+D87+D88+D89+D90+H70+H71+H72+H73+H74+H75+H76+H77+H78+H79+H80+H81+H82+H83+H84+H85+H86+H87+H88+H89+H90)/(C70+C71+C72+C73+C74+C75+C76+C77+C78+C79+C80+C81+C82+C83+C84+C85+C86+C87+C88+C89+C90+G70+G71+G72+G73+G74+G75+G76+G77+G78+G79+G80+G81+G82+G83+G84+G85+G86+G87+G88+G89+G90)) -> 9.2823062 | Q90: =SUM((L69+L70+L71+L72+L73+L74+L75+L76+L77+L78+L79+L80+L81+L82+L83+L84+L85+L86+L87+L88+L89+L90)/(K69+K70+K71+K72+K73+K74+K75+K76+K77+K78+K79+K80+K81+K82+K83+K84+K85+K86+K87+K88+K89+K90)) -> 9.2417325
K91: =SUM(C91+G91) -> 0 | L91: =SUM(D91+H91) -> 0 | M91: =SUM(D91/C91) -> #DIV/0! | N91: =SUM(H91/G91) -> #DIV/0! | O91: =SUM(L91/K91) -> #DIV/0! | P91: =SUM((D70+D71+D72+D73+D74+D75+D76+D77+D78+D79+D80+D81+D82+D83+D84+D85+D86+D87+D88+D89+D90+D91+H70+H71+H72+H73+H74+H75+H76+H77+H78+H79+H80+H81+H82+H83+H84+H85+H86+H87+H88+H89+H90+H91)/(C70+C71+C72+C73+C74+C75+C76+C77+C78+C79+C80+C81+C82+C83+C84+C85+C86+C87+C88+C89+C90+C91+G70+G71+G72+G73+G74+G75+G76+G77+G78+G79+G80+G81+G82+G83+G84+G85+G86+G87+G88+G89+G90+G91)) -> 9.2823062 | Q91: =SUM((L69+L70+L71+L72+L73+L74+L75+L76+L77+L78+L79+L80+L81+L82+L83+L84+L85+L86+L87+L88+L89+L90+L91)/(K69+K70+K71+K72+K73+K74+K75+K76+K77+K78+K79+K80+K81+K82+K83+K84+K85+K86+K87+K88+K89+K90+K91)) -> 9.2417325
K92: =SUM(C92+G92) -> 0 | L92: =SUM(D92+H92) -> 0 | M92: =SUM(D92/C92) -> #DIV/0! | N92: =SUM(H92/G92) -> #DIV/0! | O92: =SUM(L92/K92) -> #DIV/0! | P92: =SUM((D70+D71+D72+D73+D74+D75+D76+D77+D78+D79+D80+D81+D82+D83+D84+D85+D86+D87+D88+D89+D90+D91+D92+H70+H71+H72+H73+H74+H75+H76+H77+H78+H79+H80+H81+H82+H83+H84+H85+H86+H87+H88+H89+H90+H91+H92)/(C70+C71+C72+C73+C74+C75+C76+C77+C78+C79+C80+C81+C82+C83+C84+C85+C86+C87+C88+C89+C90+C91+C92+G70+G71+G72+G73+G74+G75+G76+G77+G78+G79+G80+G81+G82+G83+G84+G85+G86+G87+G88+G89+G90+G91+G92)) -> 9.2823062 | Q92: =SUM((L69+L70+L71+L72+L73+L74+L75+L76+L77+L78+L79+L80+L81+L82+L83+L84+L85+L86+L87+L88+L89+L90+L91+L92)/(K69+K70+K71+K72+K73+K74+K75+K76+K77+K78+K79+K80+K81+K82+K83+K84+K85+K86+K87+K88+K89+K90+K91+K92)) -> 9.2417325
K93: =SUM(C93+G93) -> 0 | L93: =SUM(D93+H93) -> 0 | M93: =SUM(D93/C93) -> #DIV/0! | N93: =SUM(H93/G93) -> #DIV/0! | O93: =SUM(L93/K93) -> #DIV/0! | P93: =SUM((D70+D71+D72+D73+D74+D75+D76+D77+D78+D79+D80+D81+D82+D83+D84+D85+D86+D87+D88+D89+D90+D91+D92+D93+H70+H71+H72+H73+H74+H75+H76+H77+H78+H79+H80+H81+H82+H83+H84+H85+H86+H87+H88+H89+H90+H91+H92+H93)/(C70+C71+C72+C73+C74+C75+C76+C77+C78+C79+C80+C81+C82+C83+C84+C85+C86+C87+C88+C89+C90+C91+C92+C93+G70+G71+G72+G73+G74+G75+G76+G77+G78+G79+G80+G81+G82+G83+G84+G85+G86+G87+G88+G89+G90+G91+G92+G93)) -> 9.2823062 | Q93: =SUM((L69+L70+L71+L72+L73+L74+L75+L76+L77+L78+L79+L80+L81+L82+L83+L84+L85+L86+L87+L88+L89+L90+L91+L92+L93)/(K69+K70+K71+K72+K73+K74+K75+K76+K77+K78+K79+K80+K81+K82+K83+K84+K85+K86+K87+K88+K89+K90+K91+K92+K93)) -> 9.2417325
K94: =SUM(C94+G94) -> 0 | L94: =SUM(D94+H94) -> 0 | M94: =SUM(D94/C94) -> #DIV/0! | N94: =SUM(H94/G94) -> #DIV/0! | O94: =SUM(L94/K94) -> #DIV/0! | P94: =SUM((D70+D71+D72+D73+D74+D75+D76+D77+D78+D79+D80+D81+D82+D83+D84+D85+D86+D87+D88+D89+D90+D91+D92+D93+D94+H70+H71+H72+H73+H74+H75+H76+H77+H78+H79+H80+H81+H82+H83+H84+H85+H86+H87+H88+H89+H90+H91+H92+H93+H94)/(C70+C71+C72+C73+C74+C75+C76+C77+C78+C79+C80+C81+C82+C83+C84+C85+C86+C87+C88+C89+C90+C91+C92+C93+C94+G70+G71+G72+G73+G74+G75+G76+G77+G78+G79+G80+G81+G82+G83+G84+G85+G86+G87+G88+G89+G90+G91+G92+G93+G94)) -> 9.2823062 | Q94: =SUM((L69+L70+L71+L72+L73+L74+L75+L76+L77+L78+L79+L80+L81+L82+L83+L84+L85+L86+L87+L88+L89+L90+L91+L92+L93+L94)/(K69+K70+K71+K72+K73+K74+K75+K76+K77+K78+K79+K80+K81+K82+K83+K84+K85+K86+K87+K88+K89+K90+K91+K92+K93+K94)) -> 9.2417325
