Workbook

Sheet Beer Tankers
A1: NAME | B1: DATE | C1: 501 DARTS THROWN | D1: 501 POINTS | E1: WIN? | F1: LOSS? | G1: 301 DARTS THROWN | H1: 301 POINTS | I1: WIN? | J1: LOSS? | K1: TOTAL DARTS THROWN | L1: TOTAL POINTS | M1: 501 AVERAGE | N1: 301 AVERAGE | O1: MATCH AVERAGE | P1: WEEKLY AVERAGE | Q1: RAW HANDICAP
A2: Mike Loyd
B3: Beginning Avg | C3: =SUM(D3/11.31) -> 44.297082 | D3: 501 | K3: =C3 -> 44.297082 | L3: =SUM(D3+H3) -> 501 | M3: =SUM(D3/C3) -> 11.31 | N3: =SUM(H3/G3) -> #DIV/0! | O3: =SUM(L3/K3) -> 11.31 | P3: =SUM((D3+H3)/(C3+G3)) -> 11.31 | Q3: =SUM(L3/K3) -> 11.31
B4: 46282 | K4: =SUM(C4+G4) -> 0 | L4: =SUM(D4+H4) -> 0 | M4: =SUM(D4/C4) -> #DIV/0! | N4: =SUM(H4/G4) -> #DIV/0! | O4: =SUM(L4/K4) -> #DIV/0! | P4: =SUM((D4+H4)/(C4+G4)) -> #DIV/0! | Q4: =SUM((L3+L4)/(K3+K4)) -> 11.31
B5: =SUM(B4+7) -> 46289 | C5: 42 | D5: 521 | E5: X | G5: 27 | H5: 12 | J5: X | K5: =SUM(C5+G5) -> 69 | L5: =SUM(D5+H5) -> 533 | M5: =SUM(D5/C5) -> 12.404762 | N5: =SUM(H5/G5) -> 0.44444444 | O5: =SUM(L5/K5) -> 7.7246377 | P5: =SUM((D4+D5+H4+H5)/(C4+C5+G4+G5)) -> 7.7246377 | Q5: =SUM((L3+L4+L5)/(K3+K4+K5)) -> 9.1264486
B6: =SUM(B5+7) -> 46296 | C6: 40 | D6: 501 | E6: X | G6: 29 | H6: 337 | I6: X | K6: =SUM(C6+G6) -> 69 | L6: =SUM(D6+H6) -> 838 | M6: =SUM(D6/C6) -> 12.525 | N6: =SUM(H6/G6) -> 11.62069 | O6: =SUM(L6/K6) -> 12.144928 | P6: =SUM((D4+D5+D6+H4+H5+H6)/(C4+C5+C6+G4+G5+G6)) -> 9.9347826 | Q6: =SUM((L3+L4+L5+L6)/(K3+K4+K5+K6)) -> 10.268952
B7: =SUM(B6+7) -> 46303 | C7: 27 | D7: 279 | F7: X | G7: 29 | H7: 349 | I7: X | K7: =SUM(C7+G7) -> 56 | L7: =SUM(D7+H7) -> 628 | M7: =SUM(D7/C7) -> 10.333333 | N7: =SUM(H7/G7) -> 12.034483 | O7: =SUM(L7/K7) -> 11.214286 | P7: =SUM((D4+D5+D6+D7+H4+H5+H6+H7)/(C4+C5+C6+C7+G4+G5+G6+G7)) -> 10.304124 | Q7: =SUM((L3+L4+L5+L6+L7)/(K3+K4+K5+K6+K7)) -> 10.491106
B8: =SUM(B7+7) -> 46310 | C8: 53 | D8: 501 | E8: X | G8: 31 | H8: 301 | I8: X | K8: =SUM(C8+G8) -> 84 | L8: =SUM(D8+H8) -> 802 | M8: =SUM(D8/C8) -> 9.4528302 | N8: =SUM(H8/G8) -> 9.7096774 | O8: =SUM(L8/K8) -> 9.547619 | P8: =SUM((D4+D5+D6+D7+D8+H4+H5+H6+H7+H8)/(C4+C5+C6+C7+C8+G4+G5+G6+G7+G8)) -> 10.07554 | Q8: =SUM((L3+L4+L5+L6+L7+L8)/(K3+K4+K5+K6+K7+K8)) -> 10.245206
B9: =SUM(B8+7) -> 46317 | C9: 24 | D9: 386 | F9: X | G9: 38 | H9: 301 | I9: X | K9: =SUM(C9+G9) -> 62 | L9: =SUM(D9+H9) -> 687 | M9: =SUM(D9/C9) -> 16.083333 | N9: =SUM(H9/G9) -> 7.9210526 | O9: =SUM(L9/K9) -> 11.080645 | P9: =SUM((D4+D5+D6+D7+D8+D9+H4+H5+H6+H7+H8+H9)/(C4+C5+C6+C7+C8+C9+G4+G5+G6+G7+G8+G9)) -> 10.258824 | Q9: =SUM((L3+L4+L5+L6+L7+L8+L9)/(K3+K4+K5+K6+K7+K8+K9)) -> 10.37999
B10: =SUM(B9+7) -> 46324 | K10: =SUM(C10+G10) -> 0 | L10: =SUM(D10+H10) -> 0 | M10: =SUM(D10/C10) -> #DIV/0! | N10: =SUM(H10/G10) -> #DIV/0! | O10: =SUM(L10/K10) -> #DIV/0! | P10: =SUM((D4+D5+D6+D7+D8+D9+D10+H4+H5+H6+H7+H8+H9+H10)/(C4+C5+C6+C7+C8+C9+C10+G4+G5+G6+G7+G8+G9+G10)) -> 10.258824 | Q10: =SUM((L3+L4+L5+L6+L7+L8+L9+L10)/(K3+K4+K5+K6+K7+K8+K9+K10)) -> 10.37999
B11: =SUM(B10+7) -> 46331 | K11: =SUM(C11+G11) -> 0 | L11: =SUM(D11+H11) -> 0 | M11: =SUM(D11/C11) -> #DIV/0! | N11: =SUM(H11/G11) -> #DIV/0! | O11: =SUM(L11/K11) -> #DIV/0! | P11: =SUM((D4+D5+D6+D7+D8+D9+D10+D11+H4+H5+H6+H7+H8+H9+H10+H11)/(C4+C5+C6+C7+C8+C9+C10+C11+G4+G5+G6+G7+G8+G9+G10+G11)) -> 10.258824 | Q11: =SUM((L3+L4+L5+L6+L7+L8+L9+L10+L11)/(K3+K4+K5+K6+K7+K8+K9+K10+K11)) -> 10.37999
B12: =SUM(B11+7) -> 46338 | K12: =SUM(C12+G12) -> 0 | L12: =SUM(D12+H12) -> 0 | M12: =SUM(D12/C12) -> #DIV/0! | N12: =SUM(H12/G12) -> #DIV/0! | O12: =SUM(L12/K12) -> #DIV/0! | P12: =SUM((D4+D5+D6+D7+D8+D9+D10+D11+D12+H4+H5+H6+H7+H8+H9+H10+H11+H12)/(C4+C5+C6+C7+C8+C9+C10+C11+C12+G4+G5+G6+G7+G8+G9+G10+G11+G12)) -> 10.258824 | Q12: =SUM((L3+L4+L5+L6+L7+L8+L9+L10+L11+L12)/(K3+K4+K5+K6+K7+K8+K9+K10+K11+K12)) -> 10.37999
B13: =SUM(B12+7) -> 46345 | K13: =SUM(C13+G13) -> 0 | L13: =SUM(D13+H13) -> 0 | M13: =SUM(D13/C13) -> #DIV/0! | N13: =SUM(H13/G13) -> #DIV/0! | O13: =SUM(L13/K13) -> #DIV/0! | P13: =SUM((D4+D5+D6+D7+D8+D9+D10+D11+D12+D13+H4+H5+H6+H7+H8+H9+H10+H11+H12+H13)/(C4+C5+C6+C7+C8+C9+C10+C11+C12+C13+G4+G5+G6+G7+G8+G9+G10+G11+G12+G13)) -> 10.258824 | Q13: =SUM((L3+L4+L5+L6+L7+L8+L9+L10+L11+L12+L13)/(K3+K4+K5+K6+K7+K8+K9+K10+K11+K12+K13)) -> 10.37999
B14: =SUM(B13+7) -> 46352 | K14: =SUM(C14+G14) -> 0 | L14: =SUM(D14+H14) -> 0 | M14: =SUM(D14/C14) -> #DIV/0! | N14: =SUM(H14/G14) -> #DIV/0! | O14: =SUM(L14/K14) -> #DIV/0! | P14: =SUM((D4+D5+D6+D7+D8+D9+D10+D11+D12+D13+D14+H4+H5+H6+H7+H8+H9+H10+H11+H12+H13+H14)/(C4+C5+C6+C7+C8+C9+C10+C11+C12+C13+C14+G4+G5+G6+G7+G8+G9+G10+G11+G12+G13+G14)) -> 10.258824 | Q14: =SUM((L3+L4+L5+L6+L7+L8+L9+L10+L11+L12+L13+L14)/(K3+K4+K5+K6+K7+K8+K9+K10+K11+K12+K13+K14)) -> 10.37999
B15: =SUM(B14+7) -> 46359 | K15: =SUM(C15+G15) -> 0 | L15: =SUM(D15+H15) -> 0 | M15: =SUM(D15/C15) -> #DIV/0! | N15: =SUM(H15/G15) -> #DIV/0! | O15: =SUM(L15/K15) -> #DIV/0! | P15: =SUM((D4+D5+D6+D7+D8+D9+D10+D11+D12+D13+D14+D15+H4+H5+H6+H7+H8+H9+H10+H11+H12+H13+H14+H15)/(C4+C5+C6+C7+C8+C9+C10+C11+C12+C13+C14+C15+G4+G5+G6+G7+G8+G9+G10+G11+G12+G13+G14+G15)) -> 10.258824 | Q15: =SUM((L3+L4+L5+L6+L7+L8+L9+L10+L11+L12+L13+L14+L15)/(K3+K4+K5+K6+K7+K8+K9+K10+K11+K12+K13+K14+K15)) -> 10.37999
B16: =SUM(B15+7) -> 46366 | K16: =SUM(C16+G16) -> 0 | L16: =SUM(D16+H16) -> 0 | M16: =SUM(D16/C16) -> #DIV/0! | N16: =SUM(H16/G16) -> #DIV/0! | O16: =SUM(L16/K16) -> #DIV/0! | P16: =SUM((D4+D5+D6+D7+D8+D9+D10+D11+D12+D13+D14+D15+D16+H4+H5+H6+H7+H8+H9+H10+H11+H12+H13+H14+H15+H16)/(C4+C5+C6+C7+C8+C9+C10+C11+C12+C13+C14+C15+C16+G4+G5+G6+G7+G8+G9+G10+G11+G12+G13+G14+G15+G16)) -> 10.258824 | Q16: =SUM((L3+L4+L5+L6+L7+L8+L9+L10+L11+L12+L13+L14+L15+L16)/(K3+K4+K5+K6+K7+K8+K9+K10+K11+K12+K13+K14+K15+K16)) -> 10.37999
B17: =SUM(B16+7) -> 46373 | K17: =SUM(C17+G17) -> 0 | L17: =SUM(D17+H17) -> 0 | M17: =SUM(D17/C17) -> #DIV/0! | N17: =SUM(H17/G17) -> #DIV/0! | O17: =SUM(L17/K17) -> #DIV/0! | P17: =SUM((D4+D5+D6+D7+D8+D9+D10+D11+D12+D13+D14+D15+D16+D17+H4+H5+H6+H7+H8+H9+H10+H11+H12+H13+H14+H15+H16+H17)/(C4+C5+C6+C7+C8+C9+C10+C11+C12+C13+C14+C15+C16+C17+G4+G5+G6+G7+G8+G9+G10+G11+G12+G13+G14+G15+G16+G17)) -> 10.258824 | Q17: =SUM((L3+L4+L5+L6+L7+L8+L9+L10+L11+L12+L13+L14+L15+L16+L17)/(K3+K4+K5+K6+K7+K8+K9+K10+K11+K12+K13+K14+K15+K16+K17)) -> 10.37999
B18: =SUM(B17+7) -> 46380 | K18: =SUM(C18+G18) -> 0 | L18: =SUM(D18+H18) -> 0 | M18: =SUM(D18/C18) -> #DIV/0! | N18: =SUM(H18/G18) -> #DIV/0! | O18: =SUM(L18/K18) -> #DIV/0! | P18: =SUM((D4+D5+D6+D7+D8+D9+D10+D11+D12+D13+D14+D15+D16+D17+D18+H4+H5+H6+H7+H8+H9+H10+H11+H12+H13+H14+H15+H16+H17+H18)/(C4+C5+C6+C7+C8+C9+C10+C11+C12+C13+C14+C15+C16+C17+C18+G4+G5+G6+G7+G8+G9+G10+G11+G12+G13+G14+G15+G16+G17+G18)) -> 10.258824 | Q18: =SUM((L3+L4+L5+L6+L7+L8+L9+L10+L11+L12+L13+L14+L15+L16+L17+L18)/(K3+K4+K5+K6+K7+K8+K9+K10+K11+K12+K13+K14+K15+K16+K17+K18)) -> 10.37999
B19: =SUM(B18+7) -> 46387 | K19: =SUM(C19+G19) -> 0 | L19: =SUM(D19+H19) -> 0 | M19: =SUM(D19/C19) -> #DIV/0! | N19: =SUM(H19/G19) -> #DIV/0! | O19: =SUM(L19/K19) -> #DIV/0! | P19: =SUM((D4+D5+D6+D7+D8+D9+D10+D11+D12+D13+D14+D15+D16+D17+D18+D19+H4+H5+H6+H7+H8+H9+H10+H11+H12+H13+H14+H15+H16+H17+H18+H19)/(C4+C5+C6+C7+C8+C9+C10+C11+C12+C13+C14+C15+C16+C17+C18+C19+G4+G5+G6+G7+G8+G9+G10+G11+G12+G13+G14+G15+G16+G17+G18+G19)) -> 10.258824 | Q19: =SUM((L3+L4+L5+L6+L7+L8+L9+L10+L11+L12+L13+L14+L15+L16+L17+L18+L19)/(K3+K4+K5+K6+K7+K8+K9+K10+K11+K12+K13+K14+K15+K16+K17+K18+K19)) -> 10.37999
B20: =SUM(B19+7) -> 46394 | K20: =SUM(C20+G20) -> 0 | L20: =SUM(D20+H20) -> 0 | M20: =SUM(D20/C20) -> #DIV/0! | N20: =SUM(H20/G20) -> #DIV/0! | O20: =SUM(L20/K20) -> #DIV/0! | P20: =SUM((D4+D5+D6+D7+D8+D9+D10+D11+D12+D13+D14+D15+D16+D17+D18+D19+D20+H4+H5+H6+H7+H8+H9+H10+H11+H12+H13+H14+H15+H16+H17+H18+H19+H20)/(C4+C5+C6+C7+C8+C9+C10+C11+C12+C13+C14+C15+C16+C17+C18+C19+C20+G4+G5+G6+G7+G8+G9+G10+G11+G12+G13+G14+G15+G16+G17+G18+G19+G20)) -> 10.258824 | Q20: =SUM((L3+L4+L5+L6+L7+L8+L9+L10+L11+L12+L13+L14+L15+L16+L17+L18+L19+L20)/(K3+K4+K5+K6+K7+K8+K9+K10+K11+K12+K13+K14+K15+K16+K17+K18+K19+K20)) -> 10.37999
B21: =SUM(B20+7) -> 46401 | K21: =SUM(C21+G21) -> 0 | L21: =SUM(D21+H21) -> 0 | M21: =SUM(D21/C21) -> #DIV/0! | N21: =SUM(H21/G21) -> #DIV/0! | O21: =SUM(L21/K21) -> #DIV/0! | P21: =SUM((D4+D5+D6+D7+D8+D9+D10+D11+D12+D13+D14+D15+D16+D17+D18+D19+D20+D21+H4+H5+H6+H7+H8+H9+H10+H11+H12+H13+H14+H15+H16+H17+H18+H19+H20+H21)/(C4+C5+C6+C7+C8+C9+C10+C11+C12+C13+C14+C15+C16+C17+C18+C19+C20+C21+G4+G5+G6+G7+G8+G9+G10+G11+G12+G13+G14+G15+G16+G17+G18+G19+G20+G21)) -> 10.258824 | Q21: =SUM((L3+L4+L5+L6+L7+L8+L9+L10+L11+L12+L13+L14+L15+L16+L17+L18+L19+L20+L21)/(K3+K4+K5+K6+K7+K8+K9+K10+K11+K12+K13+K14+K15+K16+K17+K18+K19+K20+K21)) -> 10.37999
B22: =SUM(B21+7) -> 46408 | K22: =SUM(C22+G22) -> 0 | L22: =SUM(D22+H22) -> 0 | M22: =SUM(D22/C22) -> #DIV/0! | N22: =SUM(H22/G22) -> #DIV/0! | O22: =SUM(L22/K22) -> #DIV/0! | P22: =SUM((D4+D5+D6+D7+D8+D9+D10+D11+D12+D13+D14+D15+D16+D17+D18+D19+D20+D21+D22+H4+H5+H6+H7+H8+H9+H10+H11+H12+H13+H14+H15+H16+H17+H18+H19+H20+H21+H22)/(C4+C5+C6+C7+C8+C9+C10+C11+C12+C13+C14+C15+C16+C17+C18+C19+C20+C21+C22+G4+G5+G6+G7+G8+G9+G10+G11+G12+G13+G14+G15+G16+G17+G18+G19+G20+G21+G22)) -> 10.258824 | Q22: =SUM((L3+L4+L5+L6+L7+L8+L9+L10+L11+L12+L13+L14+L15+L16+L17+L18+L19+L20+L21+L22)/(K3+K4+K5+K6+K7+K8+K9+K10+K11+K12+K13+K14+K15+K16+K17+K18+K19+K20+K21+K22)) -> 10.37999
B23: =SUM(B22+7) -> 46415 | K23: =SUM(C23+G23) -> 0 | L23: =SUM(D23+H23) -> 0 | M23: =SUM(D23/C23) -> #DIV/0! | N23: =SUM(H23/G23) -> #DIV/0! | O23: =SUM(L23/K23) -> #DIV/0! | P23: =SUM((D4+D5+D6+D7+D8+D9+D10+D11+D12+D13+D14+D15+D16+D17+D18+D19+D20+D21+D22+D23+H4+H5+H6+H7+H8+H9+H10+H11+H12+H13+H14+H15+H16+H17+H18+H19+H20+H21+H22+H23)/(C4+C5+C6+C7+C8+C9+C10+C11+C12+C13+C14+C15+C16+C17+C18+C19+C20+C21+C22+C23+G4+G5+G6+G7+G8+G9+G10+G11+G12+G13+G14+G15+G16+G17+G18+G19+G20+G21+G22+G23)) -> 10.258824 | Q23: =SUM((L3+L4+L5+L6+L7+L8+L9+L10+L11+L12+L13+L14+L15+L16+L17+L18+L19+L20+L21+L22+L23)/(K3+K4+K5+K6+K7+K8+K9+K10+K11+K12+K13+K14+K15+K16+K17+K18+K19+K20+K21+K22+K23)) -> 10.37999
K24: =SUM(C24+G24) -> 0 | L24: =SUM(D24+H24) -> 0 | M24: =SUM(D24/C24) -> #DIV/0! | N24: =SUM(H24/G24) -> #DIV/0! | O24: =SUM(L24/K24) -> #DIV/0! | P24: =SUM((D4+D5+D6+D7+D8+D9+D10+D11+D12+D13+D14+D15+D16+D17+D18+D19+D20+D21+D22+D23+D24+H4+H5+H6+H7+H8+H9+H10+H11+H12+H13+H14+H15+H16+H17+H18+H19+H20+H21+H22+H23+H24)/(C4+C5+C6+C7+C8+C9+C10+C11+C12+C13+C14+C15+C16+C17+C18+C19+C20+C21+C22+C23+C24+G4+G5+G6+G7+G8+G9+G10+G11+G12+G13+G14+G15+G16+G17+G18+G19+G20+G21+G22+G23+G24)) -> 10.258824 | Q24: =SUM((L3+L4+L5+L6+L7+L8+L9+L10+L11+L12+L13+L14+L15+L16+L17+L18+L19+L20+L21+L22+L23+L24)/(K3+K4+K5+K6+K7+K8+K9+K10+K11+K12+K13+K14+K15+K16+K17+K18+K19+K20+K21+K22+K23+K24)) -> 10.37999
K25: =SUM(C25+G25) -> 0 | L25: =SUM(D25+H25) -> 0 | M25: =SUM(D25/C25) -> #DIV/0! | N25: =SUM(H25/G25) -> #DIV/0! | O25: =SUM(L25/K25) -> #DIV/0! | P25: =SUM((D4+D5+D6+D7+D8+D9+D10+D11+D12+D13+D14+D15+D16+D17+D18+D19+D20+D21+D22+D23+D24+D25+H4+H5+H6+H7+H8+H9+H10+H11+H12+H13+H14+H15+H16+H17+H18+H19+H20+H21+H22+H23+H24+H25)/(C4+C5+C6+C7+C8+C9+C10+C11+C12+C13+C14+C15+C16+C17+C18+C19+C20+C21+C22+C23+C24+C25+G4+G5+G6+G7+G8+G9+G10+G11+G12+G13+G14+G15+G16+G17+G18+G19+G20+G21+G22+G23+G24+G25)) -> 10.258824 | Q25: =SUM((L3+L4+L5+L6+L7+L8+L9+L10+L11+L12+L13+L14+L15+L16+L17+L18+L19+L20+L21+L22+L23+L24+L25)/(K3+K4+K5+K6+K7+K8+K9+K10+K11+K12+K13+K14+K15+K16+K17+K18+K19+K20+K21+K22+K23+K24+K25)) -> 10.37999
K26: =SUM(C26+G26) -> 0 | L26: =SUM(D26+H26) -> 0 | M26: =SUM(D26/C26) -> #DIV/0! | N26: =SUM(H26/G26) -> #DIV/0! | O26: =SUM(L26/K26) -> #DIV/0! | P26: =SUM((D4+D5+D6+D7+D8+D9+D10+D11+D12+D13+D14+D15+D16+D17+D18+D19+D20+D21+D22+D23+D24+D25+D26+H4+H5+H6+H7+H8+H9+H10+H11+H12+H13+H14+H15+H16+H17+H18+H19+H20+H21+H22+H23+H24+H25+H26)/(C4+C5+C6+C7+C8+C9+C10+C11+C12+C13+C14+C15+C16+C17+C18+C19+C20+C21+C22+C23+C24+C25+C26+G4+G5+G6+G7+G8+G9+G10+G11+G12+G13+G14+G15+G16+G17+G18+G19+G20+G21+G22+G23+G24+G25+G26)) -> 10.258824 | Q26: =SUM((L3+L4+L5+L6+L7+L8+L9+L10+L11+L12+L13+L14+L15+L16+L17+L18+L19+L20+L21+L22+L23+L24+L25+L26)/(K3+K4+K5+K6+K7+K8+K9+K10+K11+K12+K13+K14+K15+K16+K17+K18+K19+K20+K21+K22+K23+K24+K25+K26)) -> 10.37999
K27: =SUM(C27+G27) -> 0 | L27: =SUM(D27+H27) -> 0 | M27: =SUM(D27/C27) -> #DIV/0! | N27: =SUM(H27/G27) -> #DIV/0! | O27: =SUM(L27/K27) -> #DIV/0! | P27: =SUM((D4+D5+D6+D7+D8+D9+D10+D11+D12+D13+D14+D15+D16+D17+D18+D19+D20+D21+D22+D23+D24+D25+D26+D27+H4+H5+H6+H7+H8+H9+H10+H11+H12+H13+H14+H15+H16+H17+H18+H19+H20+H21+H22+H23+H24+H25+H26+H27)/(C4+C5+C6+C7+C8+C9+C10+C11+C12+C13+C14+C15+C16+C17+C18+C19+C20+C21+C22+C23+C24+C25+C26+C27+G4+G5+G6+G7+G8+G9+G10+G11+G12+G13+G14+G15+G16+G17+G18+G19+G20+G21+G22+G23+G24+G25+G26+G27)) -> 10.258824 | Q27: =SUM((L3+L4+L5+L6+L7+L8+L9+L10+L11+L12+L13+L14+L15+L16+L17+L18+L19+L20+L21+L22+L23+L24+L25+L26+L27)/(K3+K4+K5+K6+K7+K8+K9+K10+K11+K12+K13+K14+K15+K16+K17+K18+K19+K20+K21+K22+K23+K24+K25+K26+K27)) -> 10.37999
K28: =SUM(C28+G28) -> 0 | L28: =SUM(D28+H28) -> 0 | M28: =SUM(D28/C28) -> #DIV/0! | N28: =SUM(H28/G28) -> #DIV/0! | O28: =SUM(L28/K28) -> #DIV/0! | P28: =SUM((D4+D5+D6+D7+D8+D9+D10+D11+D12+D13+D14+D15+D16+D17+D18+D19+D20+D21+D22+D23+D24+D25+D26+D27+D28+H4+H5+H6+H7+H8+H9+H10+H11+H12+H13+H14+H15+H16+H17+H18+H19+H20+H21+H22+H23+H24+H25+H26+H27+H28)/(C4+C5+C6+C7+C8+C9+C10+C11+C12+C13+C14+C15+C16+C17+C18+C19+C20+C21+C22+C23+C24+C25+C26+C27+C28+G4+G5+G6+G7+G8+G9+G10+G11+G12+G13+G14+G15+G16+G17+G18+G19+G20+G21+G22+G23+G24+G25+G26+G27+G28)) -> 10.258824 | Q28: =SUM((L3+L4+L5+L6+L7+L8+L9+L10+L11+L12+L13+L14+L15+L16+L17+L18+L19+L20+L21+L22+L23+L24+L25+L26+L27+L28)/(K3+K4+K5+K6+K7+K8+K9+K10+K11+K12+K13+K14+K15+K16+K17+K18+K19+K20+K21+K22+K23+K24+K25+K26+K27+K28)) -> 10.37999
K29: =SUM(C29+G29) -> 0 | L29: =SUM(D29+H29) -> 0 | M29: =SUM(D29/C29) -> #DIV/0! | N29: =SUM(H29/G29) -> #DIV/0! | O29: =SUM(L29/K29) -> #DIV/0! | P29: =SUM((D4+D5+D6+D7+D8+D9+D10+D11+D12+D13+D14+D15+D16+D17+D18+D19+D20+D21+D22+D23+D24+D25+D26+D27+D28+D29+H4+H5+H6+H7+H8+H9+H10+H11+H12+H13+H14+H15+H16+H17+H18+H19+H20+H21+H22+H23+H24+H25+H26+H27+H28+H29)/(C4+C5+C6+C7+C8+C9+C10+C11+C12+C13+C14+C15+C16+C17+C18+C19+C20+C21+C22+C23+C24+C25+C26+C27+C28+C29+G4+G5+G6+G7+G8+G9+G10+G11+G12+G13+G14+G15+G16+G17+G18+G19+G20+G21+G22+G23+G24+G25+G26+G27+G28+G29)) -> 10.258824 | Q29: =SUM((L3+L4+L5+L6+L7+L8+L9+L10+L11+L12+L13+L14+L15+L16+L17+L18+L19+L20+L21+L22+L23+L24+L25+L26+L27+L28+L29)/(K3+K4+K5+K6+K7+K8+K9+K10+K11+K12+K13+K14+K15+K16+K17+K18+K19+K20+K21+K22+K23+K24+K25+K26+K27+K28+K29)) -> 10.37999
K30: =SUM(C30+G30) -> 0 | L30: =SUM(D30+H30) -> 0 | M30: =SUM(D30/C30) -> #DIV/0! | N30: =SUM(H30/G30) -> #DIV/0! | O30: =SUM(L30/K30) -> #DIV/0! | P30: =SUM((D4+D5+D6+D7+D8+D9+D10+D11+D12+D13+D14+D15+D16+D17+D18+D19+D20+D21+D22+D23+D24+D25+D26+D27+D28+D29+D30+H4+H5+H6+H7+H8+H9+H10+H11+H12+H13+H14+H15+H16+H17+H18+H19+H20+H21+H22+H23+H24+H25+H26+H27+H28+H29+H30)/(C4+C5+C6+C7+C8+C9+C10+C11+C12+C13+C14+C15+C16+C17+C18+C19+C20+C21+C22+C23+C24+C25+C26+C27+C28+C29+C30+G4+G5+G6+G7+G8+G9+G10+G11+G12+G13+G14+G15+G16+G17+G18+G19+G20+G21+G22+G23+G24+G25+G26+G27+G28+G29+G30)) -> 10.258824 | Q30: =SUM((L3+L4+L5+L6+L7+L8+L9+L10+L11+L12+L13+L14+L15+L16+L17+L18+L19+L20+L21+L22+L23+L24+L25+L26+L27+L28+L29+L30)/(K3+K4+K5+K6+K7+K8+K9+K10+K11+K12+K13+K14+K15+K16+K17+K18+K19+K20+K21+K22+K23+K24+K25+K26+K27+K28+K29+K30)) -> 10.37999
A33: LEAGUE AVERAGE | C33: =Q30 -> 10.37999 | E33: =COUNTA(E4:E30) -> 3 | F33: =COUNTA(F4:F30) -> 2 | I33: =COUNTA(I4:I30) -> 4 | J33: =COUNTA(J4:J30) -> 1 | K33: =SUM(K3:K30) -> 384.29708 | L33: =SUM(L3:L30) -> 3989
A35: Jessica Burwell
B36: Beginning Avg | C36: =SUM(D36/8) -> 62.625 | D36: 501 | K36: =C36 -> 62.625 | L36: =SUM(D36+H36) -> 501 | M36: =SUM(D36/C36) -> 8 | N36: =SUM(H36/G36) -> #DIV/0! | O36: =SUM(L36/K36) -> 8 | P36: =SUM((D36+H36)/(C36+G36)) -> 8 | Q36: =SUM(L36/K36) -> 8
B37: 46282 | K37: =SUM(C37+G37) -> 0 | L37: =SUM(D37+H37) -> 0 | M37: =SUM(D37/C37) -> #DIV/0! | N37: =SUM(H37/G37) -> #DIV/0! | O37: =SUM(L37/K37) -> #DIV/0! | P37: =SUM((D37+H37)/(C37+G37)) -> #DIV/0! | Q37: =SUM((L36+L37)/(K36+K37)) -> 8
B38: =SUM(B37+7) -> 46289 | C38: 72 | D38: 501 | E38: X | G38: 24 | H38: 222 | J38: X | K38: =SUM(C38+G38) -> 96 | L38: =SUM(D38+H38) -> 723 | M38: =SUM(D38/C38) -> 6.9583333 | N38: =SUM(H38/G38) -> 9.25 | O38: =SUM(L38/K38) -> 7.53125 | P38: =SUM((D37+D38+H37+H38)/(C37+C38+G37+G38)) -> 7.53125 | Q38: =SUM((L36+L37+L38)/(K36+K37+K38)) -> 7.7163121
B39: =SUM(B38+7) -> 46296 | C39: 66 | D39: 499 | F39: X | G39: 34 | H39: 301 | I39: X | K39: =SUM(C39+G39) -> 100 | L39: =SUM(D39+H39) -> 800 | M39: =SUM(D39/C39) -> 7.5606061 | N39: =SUM(H39/G39) -> 8.8529412 | O39: =SUM(L39/K39) -> 8 | P39: =SUM((D37+D38+D39+H37+H38+H39)/(C37+C38+C39+G37+G38+G39)) -> 7.7704082 | Q39: =SUM((L36+L37+L38+L39)/(K36+K37+K38+K39)) -> 7.8260029
B40: =SUM(B39+7) -> 46303 | C40: 42 | D40: 411 | F40: X | G40: 57 | H40: 299 | J40: X | K40: =SUM(C40+G40) -> 99 | L40: =SUM(D40+H40) -> 710 | M40: =SUM(D40/C40) -> 9.7857143 | N40: =SUM(H40/G40) -> 5.245614 | O40: =SUM(L40/K40) -> 7.1717172 | P40: =SUM((D37+D38+D39+D40+H37+H38+H39+H40)/(C37+C38+C39+C40+G37+G38+G39+G40)) -> 7.5694915 | Q40: =SUM((L36+L37+L38+L39+L40)/(K36+K37+K38+K39+K40)) -> 7.6448794
B41: =SUM(B40+7) -> 46310 | C41: 81 | D41: 497 | F41: X | G41: 66 | H41: 298 | J41: X | K41: =SUM(C41+G41) -> 147 | L41: =SUM(D41+H41) -> 795 | M41: =SUM(D41/C41) -> 6.1358025 | N41: =SUM(H41/G41) -> 4.5151515 | O41: =SUM(L41/K41) -> 5.4081633 | P41: =SUM((D37+D38+D39+D40+D41+H37+H38+H39+H40+H41)/(C37+C38+C39+C40+C41+G37+G38+G39+G40+G41)) -> 6.8506787 | Q41: =SUM((L36+L37+L38+L39+L40+L41)/(K36+K37+K38+K39+K40+K41)) -> 6.9933119
B42: =SUM(B41+7) -> 46317 | K42: =SUM(C42+G42) -> 0 | L42: =SUM(D42+H42) -> 0 | M42: =SUM(D42/C42) -> #DIV/0! | N42: =SUM(H42/G42) -> #DIV/0! | O42: =SUM(L42/K42) -> #DIV/0! | P42: =SUM((D37+D38+D39+D40+D41+D42+H37+H38+H39+H40+H41+H42)/(C37+C38+C39+C40+C41+C42+G37+G38+G39+G40+G41+G42)) -> 6.8506787 | Q42: =SUM((L36+L37+L38+L39+L40+L41+L42)/(K36+K37+K38+K39+K40+K41+K42)) -> 6.9933119
B43: =SUM(B42+7) -> 46324 | K43: =SUM(C43+G43) -> 0 | L43: =SUM(D43+H43) -> 0 | M43: =SUM(D43/C43) -> #DIV/0! | N43: =SUM(H43/G43) -> #DIV/0! | O43: =SUM(L43/K43) -> #DIV/0! | P43: =SUM((D37+D38+D39+D40+D41+D42+D43+H37+H38+H39+H40+H41+H42+H43)/(C37+C38+C39+C40+C41+C42+C43+G37+G38+G39+G40+G41+G42+G43)) -> 6.8506787 | Q43: =SUM((L36+L37+L38+L39+L40+L41+L42+L43)/(K36+K37+K38+K39+K40+K41+K42+K43)) -> 6.9933119
...

Sheet Blind Luck
A1: NAME | B1: DATE | C1: 501 DARTS THROWN | D1: 501 POINTS | E1: WIN? | F1: LOSS? | G1: 301 DARTS THROWN | H1: 301 POINTS | I1: WIN? | J1: LOSS? | K1: TOTAL DARTS THROWN | L1: TOTAL POINTS | M1: 501 AVERAGE | N1: 301 AVERAGE | O1: MATCH AVERAGE | P1: WEEKLY AVERAGE | Q1: RAW HANDICAP
A2: Devan Smith
B3: Beginning Avg | C3: =SUM(D3/11.15) -> 44.932735 | D3: 501 | K3: =C3 -> 44.932735 | L3: 501 | M3: =SUM(D3/C3) -> 11.15 | N3: =SUM(H3/G3) -> #DIV/0! | O3: =SUM(L3/K3) -> 11.15 | P3: =SUM((D3+H3)/(C3+G3)) -> 11.15 | Q3: =SUM(L3/K3) -> 11.15
B4: 46282 | C4: 42 | D4: 506 | F4: X | G4: 39 | H4: 357 | J4: X | K4: =SUM(C4+G4) -> 81 | L4: =SUM(D4+H4) -> 863 | M4: =SUM(D4/C4) -> 12.047619 | N4: =SUM(H4/G4) -> 9.1538462 | O4: =SUM(L4/K4) -> 10.654321 | P4: =SUM((D4+H4)/(C4+G4)) -> 10.654321 | Q4: =SUM((L3+L4)/(K3+K4)) -> 10.831179
B5: =SUM(B4+7) -> 46289 | C5: 30 | D5: 322 | F5: X | G5: 22 | H5: 301 | I5: X | K5: =SUM(C5+G5) -> 52 | L5: =SUM(D5+H5) -> 623 | M5: =SUM(D5/C5) -> 10.733333 | N5: =SUM(H5/G5) -> 13.681818 | O5: =SUM(L5/K5) -> 11.980769 | P5: =SUM((D4+D5+H4+H5)/(C4+C5+G4+G5)) -> 11.172932 | Q5: =SUM((L3+L4+L5)/(K3+K4+K5)) -> 11.167141
B6: =SUM(B5+7) -> 46296 | C6: 30 | D6: 481 | F6: X | G6: 24 | H6: 297 | J6: X | K6: =SUM(C6+G6) -> 54 | L6: =SUM(D6+H6) -> 778 | M6: =SUM(D6/C6) -> 16.033333 | N6: =SUM(H6/G6) -> 12.375 | O6: =SUM(L6/K6) -> 14.407407 | P6: =SUM((D4+D5+D6+H4+H5+H6)/(C4+C5+C6+G4+G5+G6)) -> 12.106952 | Q6: =SUM((L3+L4+L5+L6)/(K3+K4+K5+K6)) -> 11.92156
B7: =SUM(B6+7) -> 46303 | C7: 42 | D7: 501 | E7: X | G7: 31 | H7: 349 | I7: X | K7: =SUM(C7+G7) -> 73 | L7: =SUM(D7+H7) -> 850 | M7: =SUM(D7/C7) -> 11.928571 | N7: =SUM(H7/G7) -> 11.258065 | O7: =SUM(L7/K7) -> 11.643836 | P7: =SUM((D4+D5+D6+D7+H4+H5+H6+H7)/(C4+C5+C6+C7+G4+G5+G6+G7)) -> 11.976923 | Q7: =SUM((L3+L4+L5+L6+L7)/(K3+K4+K5+K6+K7)) -> 11.855074
B8: =SUM(B7+7) -> 46310 | C8: 27 | D8: 381 | F8: X | G8: 18 | H8: 333 | J8: X | K8: =SUM(C8+G8) -> 45 | L8: =SUM(D8+H8) -> 714 | M8: =SUM(D8/C8) -> 14.111111 | N8: =SUM(H8/G8) -> 18.5 | O8: =SUM(L8/K8) -> 15.866667 | P8: =SUM((D4+D5+D6+D7+D8+H4+H5+H6+H7+H8)/(C4+C5+C6+C7+C8+G4+G5+G6+G7+G8)) -> 12.55082 | Q8: =SUM((L3+L4+L5+L6+L7+L8)/(K3+K4+K5+K6+K7+K8)) -> 12.370949
B9: =SUM(B8+7) -> 46317 | C9: 43 | D9: 561 | E9: X | G9: 21 | H9: 263 | J9: X | K9: =SUM(C9+G9) -> 64 | L9: =SUM(D9+H9) -> 824 | M9: =SUM(D9/C9) -> 13.046512 | N9: =SUM(H9/G9) -> 12.52381 | O9: =SUM(L9/K9) -> 12.875 | P9: =SUM((D4+D5+D6+D7+D8+D9+H4+H5+H6+H7+H8+H9)/(C4+C5+C6+C7+C8+C9+G4+G5+G6+G7+G8+G9)) -> 12.607046 | Q9: =SUM((L3+L4+L5+L6+L7+L8+L9)/(K3+K4+K5+K6+K7+K8+K9)) -> 12.448883
B10: =SUM(B9+7) -> 46324 | K10: =SUM(C10+G10) -> 0 | L10: =SUM(D10+H10) -> 0 | M10: =SUM(D10/C10) -> #DIV/0! | N10: =SUM(H10/G10) -> #DIV/0! | O10: =SUM(L10/K10) -> #DIV/0! | P10: =SUM((D4+D5+D6+D7+D8+D9+D10+H4+H5+H6+H7+H8+H9+H10)/(C4+C5+C6+C7+C8+C9+C10+G4+G5+G6+G7+G8+G9+G10)) -> 12.607046 | Q10: =SUM((L3+L4+L5+L6+L7+L8+L9+L10)/(K3+K4+K5+K6+K7+K8+K9+K10)) -> 12.448883
B11: =SUM(B10+7) -> 46331 | K11: =SUM(C11+G11) -> 0 | L11: =SUM(D11+H11) -> 0 | M11: =SUM(D11/C11) -> #DIV/0! | N11: =SUM(H11/G11) -> #DIV/0! | O11: =SUM(L11/K11) -> #DIV/0! | P11: =SUM((D4+D5+D6+D7+D8+D9+D10+D11+H4+H5+H6+H7+H8+H9+H10+H11)/(C4+C5+C6+C7+C8+C9+C10+C11+G4+G5+G6+G7+G8+G9+G10+G11)) -> 12.607046 | Q11: =SUM((L3+L4+L5+L6+L7+L8+L9+L10+L11)/(K3+K4+K5+K6+K7+K8+K9+K10+K11)) -> 12.448883
B12: =SUM(B11+7) -> 46338 | K12: =SUM(C12+G12) -> 0 | L12: =SUM(D12+H12) -> 0 | M12: =SUM(D12/C12) -> #DIV/0! | N12: =SUM(H12/G12) -> #DIV/0! | O12: =SUM(L12/K12) -> #DIV/0! | P12: =SUM((D4+D5+D6+D7+D8+D9+D10+D11+D12+H4+H5+H6+H7+H8+H9+H10+H11+H12)/(C4+C5+C6+C7+C8+C9+C10+C11+C12+G4+G5+G6+G7+G8+G9+G10+G11+G12)) -> 12.607046 | Q12: =SUM((L3+L4+L5+L6+L7+L8+L9+L10+L11+L12)/(K3+K4+K5+K6+K7+K8+K9+K10+K11+K12)) -> 12.448883
B13: =SUM(B12+7) -> 46345 | K13: =SUM(C13+G13) -> 0 | L13: =SUM(D13+H13) -> 0 | M13: =SUM(D13/C13) -> #DIV/0! | N13: =SUM(H13/G13) -> #DIV/0! | O13: =SUM(L13/K13) -> #DIV/0! | P13: =SUM((D4+D5+D6+D7+D8+D9+D10+D11+D12+D13+H4+H5+H6+H7+H8+H9+H10+H11+H12+H13)/(C4+C5+C6+C7+C8+C9+C10+C11+C12+C13+G4+G5+G6+G7+G8+G9+G10+G11+G12+G13)) -> 12.607046 | Q13: =SUM((L3+L4+L5+L6+L7+L8+L9+L10+L11+L12+L13)/(K3+K4+K5+K6+K7+K8+K9+K10+K11+K12+K13)) -> 12.448883
B14: =SUM(B13+7) -> 46352 | K14: =SUM(C14+G14) -> 0 | L14: =SUM(D14+H14) -> 0 | M14: =SUM(D14/C14) -> #DIV/0! | N14: =SUM(H14/G14) -> #DIV/0! | O14: =SUM(L14/K14) -> #DIV/0! | P14: =SUM((D4+D5+D6+D7+D8+D9+D10+D11+D12+D13+D14+H4+H5+H6+H7+H8+H9+H10+H11+H12+H13+H14)/(C4+C5+C6+C7+C8+C9+C10+C11+C12+C13+C14+G4+G5+G6+G7+G8+G9+G10+G11+G12+G13+G14)) -> 12.607046 | Q14: =SUM((L3+L4+L5+L6+L7+L8+L9+L10+L11+L12+L13+L14)/(K3+K4+K5+K6+K7+K8+K9+K10+K11+K12+K13+K14)) -> 12.448883
B15: =SUM(B14+7) -> 46359 | K15: =SUM(C15+G15) -> 0 | L15: =SUM(D15+H15) -> 0 | M15: =SUM(D15/C15) -> #DIV/0! | N15: =SUM(H15/G15) -> #DIV/0! | O15: =SUM(L15/K15) -> #DIV/0! | P15: =SUM((D4+D5+D6+D7+D8+D9+D10+D11+D12+D13+D14+D15+H4+H5+H6+H7+H8+H9+H10+H11+H12+H13+H14+H15)/(C4+C5+C6+C7+C8+C9+C10+C11+C12+C13+C14+C15+G4+G5+G6+G7+G8+G9+G10+G11+G12+G13+G14+G15)) -> 12.607046 | Q15: =SUM((L3+L4+L5+L6+L7+L8+L9+L10+L11+L12+L13+L14+L15)/(K3+K4+K5+K6+K7+K8+K9+K10+K11+K12+K13+K14+K15)) -> 12.448883
B16: =SUM(B15+7) -> 46366 | K16: =SUM(C16+G16) -> 0 | L16: =SUM(D16+H16) -> 0 | M16: =SUM(D16/C16) -> #DIV/0! | N16: =SUM(H16/G16) -> #DIV/0! | O16: =SUM(L16/K16) -> #DIV/0! | P16: =SUM((D4+D5+D6+D7+D8+D9+D10+D11+D12+D13+D14+D15+D16+H4+H5+H6+H7+H8+H9+H10+H11+H12+H13+H14+H15+H16)/(C4+C5+C6+C7+C8+C9+C10+C11+C12+C13+C14+C15+C16+G4+G5+G6+G7+G8+G9+G10+G11+G12+G13+G14+G15+G16)) -> 12.607046 | Q16: =SUM((L3+L4+L5+L6+L7+L8+L9+L10+L11+L12+L13+L14+L15+L16)/(K3+K4+K5+K6+K7+K8+K9+K10+K11+K12+K13+K14+K15+K16)) -> 12.448883
B17: =SUM(B16+7) -> 46373 | K17: =SUM(C17+G17) -> 0 | L17: =SUM(D17+H17) -> 0 | M17: =SUM(D17/C17) -> #DIV/0! | N17: =SUM(H17/G17) -> #DIV/0! | O17: =SUM(L17/K17) -> #DIV/0! | P17: =SUM((D4+D5+D6+D7+D8+D9+D10+D11+D12+D13+D14+D15+D16+D17+H4+H5+H6+H7+H8+H9+H10+H11+H12+H13+H14+H15+H16+H17)/(C4+C5+C6+C7+C8+C9+C10+C11+C12+C13+C14+C15+C16+C17+G4+G5+G6+G7+G8+G9+G10+G11+G12+G13+G14+G15+G16+G17)) -> 12.607046 | Q17: =SUM((L3+L4+L5+L6+L7+L8+L9+L10+L11+L12+L13+L14+L15+L16+L17)/(K3+K4+K5+K6+K7+K8+K9+K10+K11+K12+K13+K14+K15+K16+K17)) -> 12.448883
B18: =SUM(B17+7) -> 46380 | K18: =SUM(C18+G18) -> 0 | L18: =SUM(D18+H18) -> 0 | M18: =SUM(D18/C18) -> #DIV/0! | N18: =SUM(H18/G18) -> #DIV/0! | O18: =SUM(L18/K18) -> #DIV/0! | P18: =SUM((D4+D5+D6+D7+D8+D9+D10+D11+D12+D13+D14+D15+D16+D17+D18+H4+H5+H6+H7+H8+H9+H10+H11+H12+H13+H14+H15+H16+H17+H18)/(C4+C5+C6+C7+C8+C9+C10+C11+C12+C13+C14+C15+C16+C17+C18+G4+G5+G6+G7+G8+G9+G10+G11+G12+G13+G14+G15+G16+G17+G18)) -> 12.607046 | Q18: =SUM((L3+L4+L5+L6+L7+L8+L9+L10+L11+L12+L13+L14+L15+L16+L17+L18)/(K3+K4+K5+K6+K7+K8+K9+K10+K11+K12+K13+K14+K15+K16+K17+K18)) -> 12.448883
B19: =SUM(B18+7) -> 46387 | K19: =SUM(C19+G19) -> 0 | L19: =SUM(D19+H19) -> 0 | M19: =SUM(D19/C19) -> #DIV/0! | N19: =SUM(H19/G19) -> #DIV/0! | O19: =SUM(L19/K19) -> #DIV/0! | P19: =SUM((D4+D5+D6+D7+D8+D9+D10+D11+D12+D13+D14+D15+D16+D17+D18+D19+H4+H5+H6+H7+H8+H9+H10+H11+H12+H13+H14+H15+H16+H17+H18+H19)/(C4+C5+C6+C7+C8+C9+C10+C11+C12+C13+C14+C15+C16+C17+C18+C19+G4+G5+G6+G7+G8+G9+G10+G11+G12+G13+G14+G15+G16+G17+G18+G19)) -> 12.607046 | Q19: =SUM((L3+L4+L5+L6+L7+L8+L9+L10+L11+L12+L13+L14+L15+L16+L17+L18+L19)/(K3+K4+K5+K6+K7+K8+K9+K10+K11+K12+K13+K14+K15+K16+K17+K18+K19)) -> 12.448883
B20: =SUM(B19+7) -> 46394 | K20: =SUM(C20+G20) -> 0 | L20: =SUM(D20+H20) -> 0 | M20: =SUM(D20/C20) -> #DIV/0! | N20: =SUM(H20/G20) -> #DIV/0! | O20: =SUM(L20/K20) -> #DIV/0! | P20: =SUM((D4+D5+D6+D7+D8+D9+D10+D11+D12+D13+D14+D15+D16+D17+D18+D19+D20+H4+H5+H6+H7+H8+H9+H10+H11+H12+H13+H14+H15+H16+H17+H18+H19+H20)/(C4+C5+C6+C7+C8+C9+C10+C11+C12+C13+C14+C15+C16+C17+C18+C19+C20+G4+G5+G6+G7+G8+G9+G10+G11+G12+G13+G14+G15+G16+G17+G18+G19+G20)) -> 12.607046 | Q20: =SUM((L3+L4+L5+L6+L7+L8+L9+L10+L11+L12+L13+L14+L15+L16+L17+L18+L19+L20)/(K3+K4+K5+K6+K7+K8+K9+K10+K11+K12+K13+K14+K15+K16+K17+K18+K19+K20)) -> 12.448883
B21: =SUM(B20+7) -> 46401 | K21: =SUM(C21+G21) -> 0 | L21: =SUM(D21+H21) -> 0 | M21: =SUM(D21/C21) -> #DIV/0! | N21: =SUM(H21/G21) -> #DIV/0! | O21: =SUM(L21/K21) -> #DIV/0! | P21: =SUM((D4+D5+D6+D7+D8+D9+D10+D11+D12+D13+D14+D15+D16+D17+D18+D19+D20+D21+H4+H5+H6+H7+H8+H9+H10+H11+H12+H13+H14+H15+H16+H17+H18+H19+H20+H21)/(C4+C5+C6+C7+C8+C9+C10+C11+C12+C13+C14+C15+C16+C17+C18+C19+C20+C21+G4+G5+G6+G7+G8+G9+G10+G11+G12+G13+G14+G15+G16+G17+G18+G19+G20+G21)) -> 12.607046 | Q21: =SUM((L3+L4+L5+L6+L7+L8+L9+L10+L11+L12+L13+L14+L15+L16+L17+L18+L19+L20+L21)/(K3+K4+K5+K6+K7+K8+K9+K10+K11+K12+K13+K14+K15+K16+K17+K18+K19+K20+K21)) -> 12.448883
B22: =SUM(B21+7) -> 46408 | K22: =SUM(C22+G22) -> 0 | L22: =SUM(D22+H22) -> 0 | M22: =SUM(D22/C22) -> #DIV/0! | N22: =SUM(H22/G22) -> #DIV/0! | O22: =SUM(L22/K22) -> #DIV/0! | P22: =SUM((D4+D5+D6+D7+D8+D9+D10+D11+D12+D13+D14+D15+D16+D17+D18+D19+D20+D21+D22+H4+H5+H6+H7+H8+H9+H10+H11+H12+H13+H14+H15+H16+H17+H18+H19+H20+H21+H22)/(C4+C5+C6+C7+C8+C9+C10+C11+C12+C13+C14+C15+C16+C17+C18+C19+C20+C21+C22+G4+G5+G6+G7+G8+G9+G10+G11+G12+G13+G14+G15+G16+G17+G18+G19+G20+G21+G22)) -> 12.607046 | Q22: =SUM((L3+L4+L5+L6+L7+L8+L9+L10+L11+L12+L13+L14+L15+L16+L17+L18+L19+L20+L21+L22)/(K3+K4+K5+K6+K7+K8+K9+K10+K11+K12+K13+K14+K15+K16+K17+K18+K19+K20+K21+K22)) -> 12.448883
B23: =SUM(B22+7) -> 46415 | K23: =SUM(C23+G23) -> 0 | L23: =SUM(D23+H23) -> 0 | M23: =SUM(D23/C23) -> #DIV/0! | N23: =SUM(H23/G23) -> #DIV/0! | O23: =SUM(L23/K23) -> #DIV/0! | P23: =SUM((D4+D5+D6+D7+D8+D9+D10+D11+D12+D13+D14+D15+D16+D17+D18+D19+D20+D21+D22+D23+H4+H5+H6+H7+H8+H9+H10+H11+H12+H13+H14+H15+H16+H17+H18+H19+H20+H21+H22+H23)/(C4+C5+C6+C7+C8+C9+C10+C11+C12+C13+C14+C15+C16+C17+C18+C19+C20+C21+C22+C23+G4+G5+G6+G7+G8+G9+G10+G11+G12+G13+G14+G15+G16+G17+G18+G19+G20+G21+G22+G23)) -> 12.607046 | Q23: =SUM((L3+L4+L5+L6+L7+L8+L9+L10+L11+L12+L13+L14+L15+L16+L17+L18+L19+L20+L21+L22+L23)/(K3+K4+K5+K6+K7+K8+K9+K10+K11+K12+K13+K14+K15+K16+K17+K18+K19+K20+K21+K22+K23)) -> 12.448883
K24: =SUM(C24+G24) -> 0 | L24: =SUM(D24+H24) -> 0 | M24: =SUM(D24/C24) -> #DIV/0! | N24: =SUM(H24/G24) -> #DIV/0! | O24: =SUM(L24/K24) -> #DIV/0! | P24: =SUM((D4+D5+D6+D7+D8+D9+D10+D11+D12+D13+D14+D15+D16+D17+D18+D19+D20+D21+D22+D23+D24+H4+H5+H6+H7+H8+H9+H10+H11+H12+H13+H14+H15+H16+H17+H18+H19+H20+H21+H22+H23+H24)/(C4+C5+C6+C7+C8+C9+C10+C11+C12+C13+C14+C15+C16+C17+C18+C19+C20+C21+C22+C23+C24+G4+G5+G6+G7+G8+G9+G10+G11+G12+G13+G14+G15+G16+G17+G18+G19+G20+G21+G22+G23+G24)) -> 12.607046 | Q24: =SUM((L3+L4+L5+L6+L7+L8+L9+L10+L11+L12+L13+L14+L15+L16+L17+L18+L19+L20+L21+L22+L23+L24)/(K3+K4+K5+K6+K7+K8+K9+K10+K11+K12+K13+K14+K15+K16+K17+K18+K19+K20+K21+K22+K23+K24)) -> 12.448883
K25: =SUM(C25+G25) -> 0 | L25: =SUM(D25+H25) -> 0 | M25: =SUM(D25/C25) -> #DIV/0! | N25: =SUM(H25/G25) -> #DIV/0! | O25: =SUM(L25/K25) -> #DIV/0! | P25: =SUM((D4+D5+D6+D7+D8+D9+D10+D11+D12+D13+D14+D15+D16+D17+D18+D19+D20+D21+D22+D23+D24+D25+H4+H5+H6+H7+H8+H9+H10+H11+H12+H13+H14+H15+H16+H17+H18+H19+H20+H21+H22+H23+H24+H25)/(C4+C5+C6+C7+C8+C9+C10+C11+C12+C13+C14+C15+C16+C17+C18+C19+C20+C21+C22+C23+C24+C25+G4+G5+G6+G7+G8+G9+G10+G11+G12+G13+G14+G15+G16+G17+G18+G19+G20+G21+G22+G23+G24+G25)) -> 12.607046 | Q25: =SUM((L3+L4+L5+L6+L7+L8+L9+L10+L11+L12+L13+L14+L15+L16+L17+L18+L19+L20+L21+L22+L23+L24+L25)/(K3+K4+K5+K6+K7+K8+K9+K10+K11+K12+K13+K14+K15+K16+K17+K18+K19+K20+K21+K22+K23+K24+K25)) -> 12.448883
K26: =SUM(C26+G26) -> 0 | L26: =SUM(D26+H26) -> 0 | M26: =SUM(D26/C26) -> #DIV/0! | N26: =SUM(H26/G26) -> #DIV/0! | O26: =SUM(L26/K26) -> #DIV/0! | P26: =SUM((D4+D5+D6+D7+D8+D9+D10+D11+D12+D13+D14+D15+D16+D17+D18+D19+D20+D21+D22+D23+D24+D25+D26+H4+H5+H6+H7+H8+H9+H10+H11+H12+H13+H14+H15+H16+H17+H18+H19+H20+H21+H22+H23+H24+H25+H26)/(C4+C5+C6+C7+C8+C9+C10+C11+C12+C13+C14+C15+C16+C17+C18+C19+C20+C21+C22+C23+C24+C25+C26+G4+G5+G6+G7+G8+G9+G10+G11+G12+G13+G14+G15+G16+G17+G18+G19+G20+G21+G22+G23+G24+G25+G26)) -> 12.607046 | Q26: =SUM((L3+L4+L5+L6+L7+L8+L9+L10+L11+L12+L13+L14+L15+L16+L17+L18+L19+L20+L21+L22+L23+L24+L25+L26)/(K3+K4+K5+K6+K7+K8+K9+K10+K11+K12+K13+K14+K15+K16+K17+K18+K19+K20+K21+K22+K23+K24+K25+K26)) -> 12.448883
K27: =SUM(C27+G27) -> 0 | L27: =SUM(D27+H27) -> 0 | M27: =SUM(D27/C27) -> #DIV/0! | N27: =SUM(H27/G27) -> #DIV/0! | O27: =SUM(L27/K27) -> #DIV/0! | P27: =SUM((D4+D5+D6+D7+D8+D9+D10+D11+D12+D13+D14+D15+D16+D17+D18+D19+D20+D21+D22+D23+D24+D25+D26+D27+H4+H5+H6+H7+H8+H9+H10+H11+H12+H13+H14+H15+H16+H17+H18+H19+H20+H21+H22+H23+H24+H25+H26+H27)/(C4+C5+C6+C7+C8+C9+C10+C11+C12+C13+C14+C15+C16+C17+C18+C19+C20+C21+C22+C23+C24+C25+C26+C27+G4+G5+G6+G7+G8+G9+G10+G11+G12+G13+G14+G15+G16+G17+G18+G19+G20+G21+G22+G23+G24+G25+G26+G27)) -> 12.607046 | Q27: =SUM((L3+L4+L5+L6+L7+L8+L9+L10+L11+L12+L13+L14+L15+L16+L17+L18+L19+L20+L21+L22+L23+L24+L25+L26+L27)/(K3+K4+K5+K6+K7+K8+K9+K10+K11+K12+K13+K14+K15+K16+K17+K18+K19+K20+K21+K22+K23+K24+K25+K26+K27)) -> 12.448883
K28: =SUM(C28+G28) -> 0 | L28: =SUM(D28+H28) -> 0 | M28: =SUM(D28/C28) -> #DIV/0! | N28: =SUM(H28/G28) -> #DIV/0! | O28: =SUM(L28/K28) -> #DIV/0! | P28: =SUM((D4+D5+D6+D7+D8+D9+D10+D11+D12+D13+D14+D15+D16+D17+D18+D19+D20+D21+D22+D23+D24+D25+D26+D27+D28+H4+H5+H6+H7+H8+H9+H10+H11+H12+H13+H14+H15+H16+H17+H18+H19+H20+H21+H22+H23+H24+H25+H26+H27+H28)/(C4+C5+C6+C7+C8+C9+C10+C11+C12+C13+C14+C15+C16+C17+C18+C19+C20+C21+C22+C23+C24+C25+C26+C27+C28+G4+G5+G6+G7+G8+G9+G10+G11+G12+G13+G14+G15+G16+G17+G18+G19+G20+G21+G22+G23+G24+G25+G26+G27+G28)) -> 12.607046 | Q28: =SUM((L3+L4+L5+L6+L7+L8+L9+L10+L11+L12+L13+L14+L15+L16+L17+L18+L19+L20+L21+L22+L23+L24+L25+L26+L27+L28)/(K3+K4+K5+K6+K7+K8+K9+K10+K11+K12+K13+K14+K15+K16+K17+K18+K19+K20+K21+K22+K23+K24+K25+K26+K27+K28)) -> 12.448883
K29: =SUM(C29+G29) -> 0 | L29: =SUM(D29+H29) -> 0 | M29: =SUM(D29/C29) -> #DIV/0! | N29: =SUM(H29/G29) -> #DIV/0! | O29: =SUM(L29/K29) -> #DIV/0! | P29: =SUM((D4+D5+D6+D7+D8+D9+D10+D11+D12+D13+D14+D15+D16+D17+D18+D19+D20+D21+D22+D23+D24+D25+D26+D27+D28+D29+H4+H5+H6+H7+H8+H9+H10+H11+H12+H13+H14+H15+H16+H17+H18+H19+H20+H21+H22+H23+H24+H25+H26+H27+H28+H29)/(C4+C5+C6+C7+C8+C9+C10+C11+C12+C13+C14+C15+C16+C17+C18+C19+C20+C21+C22+C23+C24+C25+C26+C27+C28+C29+G4+G5+G6+G7+G8+G9+G10+G11+G12+G13+G14+G15+G16+G17+G18+G19+G20+G21+G22+G23+G24+G25+G26+G27+G28+G29)) -> 12.607046 | Q29: =SUM((L3+L4+L5+L6+L7+L8+L9+L10+L11+L12+L13+L14+L15+L16+L17+L18+L19+L20+L21+L22+L23+L24+L25+L26+L27+L28+L29)/(K3+K4+K5+K6+K7+K8+K9+K10+K11+K12+K13+K14+K15+K16+K17+K18+K19+K20+K21+K22+K23+K24+K25+K26+K27+K28+K29)) -> 12.448883
K30: =SUM(C30+G30) -> 0 | L30: =SUM(D30+H30) -> 0 | M30: =SUM(D30/C30) -> #DIV/0! | N30: =SUM(H30/G30) -> #DIV/0! | O30: =SUM(L30/K30) -> #DIV/0! | P30: =SUM((D4+D5+D6+D7+D8+D9+D10+D11+D12+D13+D14+D15+D16+D17+D18+D19+D20+D21+D22+D23+D24+D25+D26+D27+D28+D29+D30+H4+H5+H6+H7+H8+H9+H10+H11+H12+H13+H14+H15+H16+H17+H18+H19+H20+H21+H22+H23+H24+H25+H26+H27+H28+H29+H30)/(C4+C5+C6+C7+C8+C9+C10+C11+C12+C13+C14+C15+C16+C17+C18+C19+C20+C21+C22+C23+C24+C25+C26+C27+C28+C29+C30+G4+G5+G6+G7+G8+G9+G10+G11+G12+G13+G14+G15+G16+G17+G18+G19+G20+G21+G22+G23+G24+G25+G26+G27+G28+G29+G30)) -> 12.607046 | Q30: =SUM((L3+L4+L5+L6+L7+L8+L9+L10+L11+L12+L13+L14+L15+L16+L17+L18+L19+L20+L21+L22+L23+L24+L25+L26+L27+L28+L29+L30)/(K3+K4+K5+K6+K7+K8+K9+K10+K11+K12+K13+K14+K15+K16+K17+K18+K19+K20+K21+K22+K23+K24+K25+K26+K27+K28+K29+K30)) -> 12.448883
A33: LEAGUE AVERAGE | C33: =Q30 -> 12.448883 | E33: =COUNTA(E4:E30) -> 2 | F33: =COUNTA(F4:F30) -> 4 | I33: =COUNTA(I4:I30) -> 2 | J33: =COUNTA(J4:J30) -> 4 | K33: =SUM(K3:K30) -> 413.93274 | L33: =SUM(L3:L30) -> 5153
A35: Chris Roberts
B36: Beginning Avg | C36: =SUM(D36/8.75) -> 57.257143 | D36: 501 | K36: =C36 -> 57.257143 | L36: 501 | M36: =SUM(D36/C36) -> 8.75 | N36: =SUM(H36/G36) -> #DIV/0! | O36: =SUM(L36/K36) -> 8.75 | P36: =SUM((D36+H36)/(C36+G36)) -> 8.75 | Q36: =SUM(L36/K36) -> 8.75
B37: 46282 | C37: 47 | D37: 501 | E37: X | G37: 27 | H37: 283 | J37: X | K37: =SUM(C37+G37) -> 74 | L37: =SUM(D37+H37) -> 784 | M37: =SUM(D37/C37) -> 10.659574 | N37: =SUM(H37/G37) -> 10.481481 | O37: =SUM(L37/K37) -> 10.594595 | P37: =SUM((D37+H37)/(C37+G37)) -> 10.594595 | Q37: =SUM((L36+L37)/(K36+K37)) -> 9.7899434
B38: =SUM(B37+7) -> 46289 | C38: 48 | D38: 495 | F38: X | G38: 51 | H38: 297 | J38: X | K38: =SUM(C38+G38) -> 99 | L38: =SUM(D38+H38) -> 792 | M38: =SUM(D38/C38) -> 10.3125 | N38: =SUM(H38/G38) -> 5.8235294 | O38: =SUM(L38/K38) -> 8 | P38: =SUM((D37+D38+H37+H38)/(C37+C38+G37+G38)) -> 9.1098266 | Q38: =SUM((L36+L37+L38)/(K36+K37+K38)) -> 9.0203499
B39: =SUM(B38+7) -> 46296 | C39: 45 | D39: 491 | F39: X | G39: 36 | H39: 333 | J39: X | K39: =SUM(C39+G39) -> 81 | L39: =SUM(D39+H39) -> 824 | M39: =SUM(D39/C39) -> 10.911111 | N39: =SUM(H39/G39) -> 9.25 | O39: =SUM(L39/K39) -> 10.17284 | P39: =SUM((D37+D38+D39+H37+H38+H39)/(C37+C38+C39+G37+G38+G39)) -> 9.4488189 | Q39: =SUM((L36+L37+L38+L39)/(K36+K37+K38+K39)) -> 9.320268
B40: =SUM(B39+7) -> 46303 | C40: 54 | D40: 559 | F40: X | G40: 27 | H40: 301 | I40: X | K40: =SUM(C40+G40) -> 81 | L40: =SUM(D40+H40) -> 860 | M40: =SUM(D40/C40) -> 10.351852 | N40: =SUM(H40/G40) -> 11.148148 | O40: =SUM(L40/K40) -> 10.617284 | P40: =SUM((D37+D38+D39+D40+H37+H38+H39+H40)/(C37+C38+C39+C40+G37+G38+G39+G40)) -> 9.7313433 | Q40: =SUM((L36+L37+L38+L39+L40)/(K36+K37+K38+K39+K40)) -> 9.5880982
B41: =SUM(B40+7) -> 46310 | C41: 44 | D41: 501 | E41: X | G41: 27 | H41: 294 | J41: X | K41: =SUM(C41+G41) -> 71 | L41: =SUM(D41+H41) -> 795 | M41: =SUM(D41/C41) -> 11.386364 | N41: =SUM(H41/G41) -> 10.888889 | O41: =SUM(L41/K41) -> 11.197183 | P41: =SUM((D37+D38+D39+D40+D41+H37+H38+H39+H40+H41)/(C37+C38+C39+C40+C41+G37+G38+G39+G40+G41)) -> 9.9876847 | Q41: =SUM((L36+L37+L38+L39+L40+L41)/(K36+K37+K38+K39+K40+K41)) -> 9.8347107
B42: =SUM(B41+7) -> 46317 | C42: 43 | D42: 501 | E42: X | G42: 36 | H42: 297 | J42: X | K42: =SUM(C42+G42) -> 79 | L42: =SUM(D42+H42) -> 798 | M42: =SUM(D42/C42) -> 11.651163 | N42: =SUM(H42/G42) -> 8.25 | O42: =SUM(L42/K42) -> 10.101266 | P42: =SUM((D37+D38+D39+D40+D41+D42+H37+H38+H39+H40+H41+H42)/(C37+C38+C39+C40+C41+C42+G37+G38+G39+G40+G41+G42)) -> 10.006186 | Q42: =SUM((L36+L37+L38+L39+L40+L41+L42)/(K36+K37+K38+K39+K40+K41+K42)) -> 9.8735444
B43: =SUM(B42+7) -> 46324 | K43: =SUM(C43+G43) -> 0 | L43: =SUM(D43+H43) -> 0 | M43: =SUM(D43/C43) -> #DIV/0! | N43: =SUM(H43/G43) -> #DIV/0! | O43: =SUM(L43/K43) -> #DIV/0! | P43: =SUM((D37+D38+D39+D40+D41+D42+D43+H37+H38+H39+H40+H41+H42+H43)/(C37+C38+C39+C40+C41+C42+C43+G37+G38+G39+G40+G41+G42+G43)) -> 10.006186 | Q43: =SUM((L36+L37+L38+L39+L40+L41+L42+L43)/(K36+K37+K38+K39+K40+K41+K42+K43)) -> 9.8735444
...

Sheet Dart Panthers
A1: NAME | B1: DATE | C1: 501 DARTS THROWN | D1: 501 POINTS | E1: WIN? | F1: LOSS? | G1: 301 DARTS THROWN | H1: 301 POINTS | I1: WIN? | J1: LOSS? | K1: TOTAL DARTS THROWN | L1: TOTAL POINTS | M1: 501 AVERAGE | N1: 301 AVERAGE | O1: MATCH AVERAGE | P1: WEEKLY AVERAGE | Q1: RAW HANDICAP
A2: Dietrich Johnson
B3: Beginning Avg | C3: =SUM(D3/12.18) -> 41.133005 | D3: 501 | K3: =C3 -> 41.133005 | L3: 501 | M3: =SUM(D3/C3) -> 12.18 | N3: =SUM(H3/G3) -> #DIV/0! | O3: =SUM(L3/K3) -> 12.18 | P3: =SUM((D3+H3)/(C3+G3)) -> 12.18 | Q3: =SUM(L3/K3) -> 12.18
B4: 46282 | C4: 33 | D4: 415 | F4: X | G4: 37 | H4: 301 | I4: X | K4: =SUM(C4+G4) -> 70 | L4: =SUM(D4+H4) -> 716 | M4: =SUM(D4/C4) -> 12.575758 | N4: =SUM(H4/G4) -> 8.1351351 | O4: =SUM(L4/K4) -> 10.228571 | P4: =SUM((D4+H4)/(C4+G4)) -> 10.228571 | Q4: =SUM((L3+L4)/(K3+K4)) -> 10.950842
B5: =SUM(B4+7) -> 46289 | C5: 42 | D5: 497 | F5: X | G5: 30 | H5: 325 | I5: X | K5: =SUM(C5+G5) -> 72 | L5: =SUM(D5+H5) -> 822 | M5: =SUM(D5/C5) -> 11.833333 | N5: =SUM(H5/G5) -> 10.833333 | O5: =SUM(L5/K5) -> 11.416667 | P5: =SUM((D4+D5+H4+H5)/(C4+C5+G4+G5)) -> 10.830986 | Q5: =SUM((L3+L4+L5)/(K3+K4+K5)) -> 11.133984
B6: =SUM(B5+7) -> 46296 | K6: =SUM(C6+G6) -> 0 | L6: =SUM(D6+H6) -> 0 | M6: =SUM(D6/C6) -> #DIV/0! | N6: =SUM(H6/G6) -> #DIV/0! | O6: =SUM(L6/K6) -> #DIV/0! | P6: =SUM((D4+D5+D6+H4+H5+H6)/(C4+C5+C6+G4+G5+G6)) -> 10.830986 | Q6: =SUM((L3+L4+L5+L6)/(K3+K4+K5+K6)) -> 11.133984
B7: =SUM(B6+7) -> 46303 | K7: =SUM(C7+G7) -> 0 | L7: =SUM(D7+H7) -> 0 | M7: =SUM(D7/C7) -> #DIV/0! | N7: =SUM(H7/G7) -> #DIV/0! | O7: =SUM(L7/K7) -> #DIV/0! | P7: =SUM((D4+D5+D6+D7+H4+H5+H6+H7)/(C4+C5+C6+C7+G4+G5+G6+G7)) -> 10.830986 | Q7: =SUM((L3+L4+L5+L6+L7)/(K3+K4+K5+K6+K7)) -> 11.133984
B8: =SUM(B7+7) -> 46310 | C8: 30 | D8: 565 | F8: X | G8: 19 | H8: 301 | I8: X | K8: =SUM(C8+G8) -> 49 | L8: =SUM(D8+H8) -> 866 | M8: =SUM(D8/C8) -> 18.833333 | N8: =SUM(H8/G8) -> 15.842105 | O8: =SUM(L8/K8) -> 17.673469 | P8: =SUM((D4+D5+D6+D7+D8+H4+H5+H6+H7+H8)/(C4+C5+C6+C7+C8+G4+G5+G6+G7+G8)) -> 12.586387 | Q8: =SUM((L3+L4+L5+L6+L7+L8)/(K3+K4+K5+K6+K7+K8)) -> 12.514377
B9: =SUM(B8+7) -> 46317 | C9: 45 | D9: 501 | E9: X | G9: 27 | H9: 349 | J9: X | K9: =SUM(C9+G9) -> 72 | L9: =SUM(D9+H9) -> 850 | M9: =SUM(D9/C9) -> 11.133333 | N9: =SUM(H9/G9) -> 12.925926 | O9: =SUM(L9/K9) -> 11.805556 | P9: =SUM((D4+D5+D6+D7+D8+D9+H4+H5+H6+H7+H8+H9)/(C4+C5+C6+C7+C8+C9+G4+G5+G6+G7+G8+G9)) -> 12.372624 | Q9: =SUM((L3+L4+L5+L6+L7+L8+L9)/(K3+K4+K5+K6+K7+K8+K9)) -> 12.346572
B10: =SUM(B9+7) -> 46324 | K10: =SUM(C10+G10) -> 0 | L10: =SUM(D10+H10) -> 0 | M10: =SUM(D10/C10) -> #DIV/0! | N10: =SUM(H10/G10) -> #DIV/0! | O10: =SUM(L10/K10) -> #DIV/0! | P10: =SUM((D4+D5+D6+D7+D8+D9+D10+H4+H5+H6+H7+H8+H9+H10)/(C4+C5+C6+C7+C8+C9+C10+G4+G5+G6+G7+G8+G9+G10)) -> 12.372624 | Q10: =SUM((L3+L4+L5+L6+L7+L8+L9+L10)/(K3+K4+K5+K6+K7+K8+K9+K10)) -> 12.346572
B11: =SUM(B10+7) -> 46331 | K11: =SUM(C11+G11) -> 0 | L11: =SUM(D11+H11) -> 0 | M11: =SUM(D11/C11) -> #DIV/0! | N11: =SUM(H11/G11) -> #DIV/0! | O11: =SUM(L11/K11) -> #DIV/0! | P11: =SUM((D4+D5+D6+D7+D8+D9+D10+D11+H4+H5+H6+H7+H8+H9+H10+H11)/(C4+C5+C6+C7+C8+C9+C10+C11+G4+G5+G6+G7+G8+G9+G10+G11)) -> 12.372624 | Q11: =SUM((L3+L4+L5+L6+L7+L8+L9+L10+L11)/(K3+K4+K5+K6+K7+K8+K9+K10+K11)) -> 12.346572
B12: =SUM(B11+7) -> 46338 | K12: =SUM(C12+G12) -> 0 | L12: =SUM(D12+H12) -> 0 | M12: =SUM(D12/C12) -> #DIV/0! | N12: =SUM(H12/G12) -> #DIV/0! | O12: =SUM(L12/K12) -> #DIV/0! | P12: =SUM((D4+D5+D6+D7+D8+D9+D10+D11+D12+H4+H5+H6+H7+H8+H9+H10+H11+H12)/(C4+C5+C6+C7+C8+C9+C10+C11+C12+G4+G5+G6+G7+G8+G9+G10+G11+G12)) -> 12.372624 | Q12: =SUM((L3+L4+L5+L6+L7+L8+L9+L10+L11+L12)/(K3+K4+K5+K6+K7+K8+K9+K10+K11+K12)) -> 12.346572
B13: =SUM(B12+7) -> 46345 | K13: =SUM(C13+G13) -> 0 | L13: =SUM(D13+H13) -> 0 | M13: =SUM(D13/C13) -> #DIV/0! | N13: =SUM(H13/G13) -> #DIV/0! | O13: =SUM(L13/K13) -> #DIV/0! | P13: =SUM((D4+D5+D6+D7+D8+D9+D10+D11+D12+D13+H4+H5+H6+H7+H8+H9+H10+H11+H12+H13)/(C4+C5+C6+C7+C8+C9+C10+C11+C12+C13+G4+G5+G6+G7+G8+G9+G10+G11+G12+G13)) -> 12.372624 | Q13: =SUM((L3+L4+L5+L6+L7+L8+L9+L10+L11+L12+L13)/(K3+K4+K5+K6+K7+K8+K9+K10+K11+K12+K13)) -> 12.346572
B14: =SUM(B13+7) -> 46352 | K14: =SUM(C14+G14) -> 0 | L14: =SUM(D14+H14) -> 0 | M14: =SUM(D14/C14) -> #DIV/0! | N14: =SUM(H14/G14) -> #DIV/0! | O14: =SUM(L14/K14) -> #DIV/0! | P14: =SUM((D4+D5+D6+D7+D8+D9+D10+D11+D12+D13+D14+H4+H5+H6+H7+H8+H9+H10+H11+H12+H13+H14)/(C4+C5+C6+C7+C8+C9+C10+C11+C12+C13+C14+G4+G5+G6+G7+G8+G9+G10+G11+G12+G13+G14)) -> 12.372624 | Q14: =SUM((L3+L4+L5+L6+L7+L8+L9+L10+L11+L12+L13+L14)/(K3+K4+K5+K6+K7+K8+K9+K10+K11+K12+K13+K14)) -> 12.346572
B15: =SUM(B14+7) -> 46359 | K15: =SUM(C15+G15) -> 0 | L15: =SUM(D15+H15) -> 0 | M15: =SUM(D15/C15) -> #DIV/0! | N15: =SUM(H15/G15) -> #DIV/0! | O15: =SUM(L15/K15) -> #DIV/0! | P15: =SUM((D4+D5+D6+D7+D8+D9+D10+D11+D12+D13+D14+D15+H4+H5+H6+H7+H8+H9+H10+H11+H12+H13+H14+H15)/(C4+C5+C6+C7+C8+C9+C10+C11+C12+C13+C14+C15+G4+G5+G6+G7+G8+G9+G10+G11+G12+G13+G14+G15)) -> 12.372624 | Q15: =SUM((L3+L4+L5+L6+L7+L8+L9+L10+L11+L12+L13+L14+L15)/(K3+K4+K5+K6+K7+K8+K9+K10+K11+K12+K13+K14+K15)) -> 12.346572
B16: =SUM(B15+7) -> 46366 | K16: =SUM(C16+G16) -> 0 | L16: =SUM(D16+H16) -> 0 | M16: =SUM(D16/C16) -> #DIV/0! | N16: =SUM(H16/G16) -> #DIV/0! | O16: =SUM(L16/K16) -> #DIV/0! | P16: =SUM((D4+D5+D6+D7+D8+D9+D10+D11+D12+D13+D14+D15+D16+H4+H5+H6+H7+H8+H9+H10+H11+H12+H13+H14+H15+H16)/(C4+C5+C6+C7+C8+C9+C10+C11+C12+C13+C14+C15+C16+G4+G5+G6+G7+G8+G9+G10+G11+G12+G13+G14+G15+G16)) -> 12.372624 | Q16: =SUM((L3+L4+L5+L6+L7+L8+L9+L10+L11+L12+L13+L14+L15+L16)/(K3+K4+K5+K6+K7+K8+K9+K10+K11+K12+K13+K14+K15+K16)) -> 12.346572
B17: =SUM(B16+7) -> 46373 | K17: =SUM(C17+G17) -> 0 | L17: =SUM(D17+H17) -> 0 | M17: =SUM(D17/C17) -> #DIV/0! | N17: =SUM(H17/G17) -> #DIV/0! | O17: =SUM(L17/K17) -> #DIV/0! | P17: =SUM((D4+D5+D6+D7+D8+D9+D10+D11+D12+D13+D14+D15+D16+D17+H4+H5+H6+H7+H8+H9+H10+H11+H12+H13+H14+H15+H16+H17)/(C4+C5+C6+C7+C8+C9+C10+C11+C12+C13+C14+C15+C16+C17+G4+G5+G6+G7+G8+G9+G10+G11+G12+G13+G14+G15+G16+G17)) -> 12.372624 | Q17: =SUM((L3+L4+L5+L6+L7+L8+L9+L10+L11+L12+L13+L14+L15+L16+L17)/(K3+K4+K5+K6+K7+K8+K9+K10+K11+K12+K13+K14+K15+K16+K17)) -> 12.346572
B18: =SUM(B17+7) -> 46380 | K18: =SUM(C18+G18) -> 0 | L18: =SUM(D18+H18) -> 0 | M18: =SUM(D18/C18) -> #DIV/0! | N18: =SUM(H18/G18) -> #DIV/0! | O18: =SUM(L18/K18) -> #DIV/0! | P18: =SUM((D4+D5+D6+D7+D8+D9+D10+D11+D12+D13+D14+D15+D16+D17+D18+H4+H5+H6+H7+H8+H9+H10+H11+H12+H13+H14+H15+H16+H17+H18)/(C4+C5+C6+C7+C8+C9+C10+C11+C12+C13+C14+C15+C16+C17+C18+G4+G5+G6+G7+G8+G9+G10+G11+G12+G13+G14+G15+G16+G17+G18)) -> 12.372624 | Q18: =SUM((L3+L4+L5+L6+L7+L8+L9+L10+L11+L12+L13+L14+L15+L16+L17+L18)/(K3+K4+K5+K6+K7+K8+K9+K10+K11+K12+K13+K14+K15+K16+K17+K18)) -> 12.346572
B19: =SUM(B18+7) -> 46387 | K19: =SUM(C19+G19) -> 0 | L19: =SUM(D19+H19) -> 0 | M19: =SUM(D19/C19) -> #DIV/0! | N19: =SUM(H19/G19) -> #DIV/0! | O19: =SUM(L19/K19) -> #DIV/0! | P19: =SUM((D4+D5+D6+D7+D8+D9+D10+D11+D12+D13+D14+D15+D16+D17+D18+D19+H4+H5+H6+H7+H8+H9+H10+H11+H12+H13+H14+H15+H16+H17+H18+H19)/(C4+C5+C6+C7+C8+C9+C10+C11+C12+C13+C14+C15+C16+C17+C18+C19+G4+G5+G6+G7+G8+G9+G10+G11+G12+G13+G14+G15+G16+G17+G18+G19)) -> 12.372624 | Q19: =SUM((L3+L4+L5+L6+L7+L8+L9+L10+L11+L12+L13+L14+L15+L16+L17+L18+L19)/(K3+K4+K5+K6+K7+K8+K9+K10+K11+K12+K13+K14+K15+K16+K17+K18+K19)) -> 12.346572
B20: =SUM(B19+7) -> 46394 | K20: =SUM(C20+G20) -> 0 | L20: =SUM(D20+H20) -> 0 | M20: =SUM(D20/C20) -> #DIV/0! | N20: =SUM(H20/G20) -> #DIV/0! | O20: =SUM(L20/K20) -> #DIV/0! | P20: =SUM((D4+D5+D6+D7+D8+D9+D10+D11+D12+D13+D14+D15+D16+D17+D18+D19+D20+H4+H5+H6+H7+H8+H9+H10+H11+H12+H13+H14+H15+H16+H17+H18+H19+H20)/(C4+C5+C6+C7+C8+C9+C10+C11+C12+C13+C14+C15+C16+C17+C18+C19+C20+G4+G5+G6+G7+G8+G9+G10+G11+G12+G13+G14+G15+G16+G17+G18+G19+G20)) -> 12.372624 | Q20: =SUM((L3+L4+L5+L6+L7+L8+L9+L10+L11+L12+L13+L14+L15+L16+L17+L18+L19+L20)/(K3+K4+K5+K6+K7+K8+K9+K10+K11+K12+K13+K14+K15+K16+K17+K18+K19+K20)) -> 12.346572
B21: =SUM(B20+7) -> 46401 | K21: =SUM(C21+G21) -> 0 | L21: =SUM(D21+H21) -> 0 | M21: =SUM(D21/C21) -> #DIV/0! | N21: =SUM(H21/G21) -> #DIV/0! | O21: =SUM(L21/K21) -> #DIV/0! | P21: =SUM((D4+D5+D6+D7+D8+D9+D10+D11+D12+D13+D14+D15+D16+D17+D18+D19+D20+D21+H4+H5+H6+H7+H8+H9+H10+H11+H12+H13+H14+H15+H16+H17+H18+H19+H20+H21)/(C4+C5+C6+C7+C8+C9+C10+C11+C12+C13+C14+C15+C16+C17+C18+C19+C20+C21+G4+G5+G6+G7+G8+G9+G10+G11+G12+G13+G14+G15+G16+G17+G18+G19+G20+G21)) -> 12.372624 | Q21: =SUM((L3+L4+L5+L6+L7+L8+L9+L10+L11+L12+L13+L14+L15+L16+L17+L18+L19+L20+L21)/(K3+K4+K5+K6+K7+K8+K9+K10+K11+K12+K13+K14+K15+K16+K17+K18+K19+K20+K21)) -> 12.346572
B22: =SUM(B21+7) -> 46408 | K22: =SUM(C22+G22) -> 0 | L22: =SUM(D22+H22) -> 0 | M22: =SUM(D22/C22) -> #DIV/0! | N22: =SUM(H22/G22) -> #DIV/0! | O22: =SUM(L22/K22) -> #DIV/0! | P22: =SUM((D4+D5+D6+D7+D8+D9+D10+D11+D12+D13+D14+D15+D16+D17+D18+D19+D20+D21+D22+H4+H5+H6+H7+H8+H9+H10+H11+H12+H13+H14+H15+H16+H17+H18+H19+H20+H21+H22)/(C4+C5+C6+C7+C8+C9+C10+C11+C12+C13+C14+C15+C16+C17+C18+C19+C20+C21+C22+G4+G5+G6+G7+G8+G9+G10+G11+G12+G13+G14+G15+G16+G17+G18+G19+G20+G21+G22)) -> 12.372624 | Q22: =SUM((L3+L4+L5+L6+L7+L8+L9+L10+L11+L12+L13+L14+L15+L16+L17+L18+L19+L20+L21+L22)/(K3+K4+K5+K6+K7+K8+K9+K10+K11+K12+K13+K14+K15+K16+K17+K18+K19+K20+K21+K22)) -> 12.346572
B23: =SUM(B22+7) -> 46415 | K23: =SUM(C23+G23) -> 0 | L23: =SUM(D23+H23) -> 0 | M23: =SUM(D23/C23) -> #DIV/0! | N23: =SUM(H23/G23) -> #DIV/0! | O23: =SUM(L23/K23) -> #DIV/0! | P23: =SUM((D4+D5+D6+D7+D8+D9+D10+D11+D12+D13+D14+D15+D16+D17+D18+D19+D20+D21+D22+D23+H4+H5+H6+H7+H8+H9+H10+H11+H12+H13+H14+H15+H16+H17+H18+H19+H20+H21+H22+H23)/(C4+C5+C6+C7+C8+C9+C10+C11+C12+C13+C14+C15+C16+C17+C18+C19+C20+C21+C22+C23+G4+G5+G6+G7+G8+G9+G10+G11+G12+G13+G14+G15+G16+G17+G18+G19+G20+G21+G22+G23)) -> 12.372624 | Q23: =SUM((L3+L4+L5+L6+L7+L8+L9+L10+L11+L12+L13+L14+L15+L16+L17+L18+L19+L20+L21+L22+L23)/(K3+K4+K5+K6+K7+K8+K9+K10+K11+K12+K13+K14+K15+K16+K17+K18+K19+K20+K21+K22+K23)) -> 12.346572
K24: =SUM(C24+G24) -> 0 | L24: =SUM(D24+H24) -> 0 | M24: =SUM(D24/C24) -> #DIV/0! | N24: =SUM(H24/G24) -> #DIV/0! | O24: =SUM(L24/K24) -> #DIV/0! | P24: =SUM((D4+D5+D6+D7+D8+D9+D10+D11+D12+D13+D14+D15+D16+D17+D18+D19+D20+D21+D22+D23+D24+H4+H5+H6+H7+H8+H9+H10+H11+H12+H13+H14+H15+H16+H17+H18+H19+H20+H21+H22+H23+H24)/(C4+C5+C6+C7+C8+C9+C10+C11+C12+C13+C14+C15+C16+C17+C18+C19+C20+C21+C22+C23+C24+G4+G5+G6+G7+G8+G9+G10+G11+G12+G13+G14+G15+G16+G17+G18+G19+G20+G21+G22+G23+G24)) -> 12.372624 | Q24: =SUM((L3+L4+L5+L6+L7+L8+L9+L10+L11+L12+L13+L14+L15+L16+L17+L18+L19+L20+L21+L22+L23+L24)/(K3+K4+K5+K6+K7+K8+K9+K10+K11+K12+K13+K14+K15+K16+K17+K18+K19+K20+K21+K22+K23+K24)) -> 12.346572
K25: =SUM(C25+G25) -> 0 | L25: =SUM(D25+H25) -> 0 | M25: =SUM(D25/C25) -> #DIV/0! | N25: =SUM(H25/G25) -> #DIV/0! | O25: =SUM(L25/K25) -> #DIV/0! | P25: =SUM((D4+D5+D6+D7+D8+D9+D10+D11+D12+D13+D14+D15+D16+D17+D18+D19+D20+D21+D22+D23+D24+D25+H4+H5+H6+H7+H8+H9+H10+H11+H12+H13+H14+H15+H16+H17+H18+H19+H20+H21+H22+H23+H24+H25)/(C4+C5+C6+C7+C8+C9+C10+C11+C12+C13+C14+C15+C16+C17+C18+C19+C20+C21+C22+C23+C24+C25+G4+G5+G6+G7+G8+G9+G10+G11+G12+G13+G14+G15+G16+G17+G18+G19+G20+G21+G22+G23+G24+G25)) -> 12.372624 | Q25: =SUM((L3+L4+L5+L6+L7+L8+L9+L10+L11+L12+L13+L14+L15+L16+L17+L18+L19+L20+L21+L22+L23+L24+L25)/(K3+K4+K5+K6+K7+K8+K9+K10+K11+K12+K13+K14+K15+K16+K17+K18+K19+K20+K21+K22+K23+K24+K25)) -> 12.346572
K26: =SUM(C26+G26) -> 0 | L26: =SUM(D26+H26) -> 0 | M26: =SUM(D26/C26) -> #DIV/0! | N26: =SUM(H26/G26) -> #DIV/0! | O26: =SUM(L26/K26) -> #DIV/0! | P26: =SUM((D4+D5+D6+D7+D8+D9+D10+D11+D12+D13+D14+D15+D16+D17+D18+D19+D20+D21+D22+D23+D24+D25+D26+H4+H5+H6+H7+H8+H9+H10+H11+H12+H13+H14+H15+H16+H17+H18+H19+H20+H21+H22+H23+H24+H25+H26)/(C4+C5+C6+C7+C8+C9+C10+C11+C12+C13+C14+C15+C16+C17+C18+C19+C20+C21+C22+C23+C24+C25+C26+G4+G5+G6+G7+G8+G9+G10+G11+G12+G13+G14+G15+G16+G17+G18+G19+G20+G21+G22+G23+G24+G25+G26)) -> 12.372624 | Q26: =SUM((L3+L4+L5+L6+L7+L8+L9+L10+L11+L12+L13+L14+L15+L16+L17+L18+L19+L20+L21+L22+L23+L24+L25+L26)/(K3+K4+K5+K6+K7+K8+K9+K10+K11+K12+K13+K14+K15+K16+K17+K18+K19+K20+K21+K22+K23+K24+K25+K26)) -> 12.346572
K27: =SUM(C27+G27) -> 0 | L27: =SUM(D27+H27) -> 0 | M27: =SUM(D27/C27) -> #DIV/0! | N27: =SUM(H27/G27) -> #DIV/0! | O27: =SUM(L27/K27) -> #DIV/0! | P27: =SUM((D4+D5+D6+D7+D8+D9+D10+D11+D12+D13+D14+D15+D16+D17+D18+D19+D20+D21+D22+D23+D24+D25+D26+D27+H4+H5+H6+H7+H8+H9+H10+H11+H12+H13+H14+H15+H16+H17+H18+H19+H20+H21+H22+H23+H24+H25+H26+H27)/(C4+C5+C6+C7+C8+C9+C10+C11+C12+C13+C14+C15+C16+C17+C18+C19+C20+C21+C22+C23+C24+C25+C26+C27+G4+G5+G6+G7+G8+G9+G10+G11+G12+G13+G14+G15+G16+G17+G18+G19+G20+G21+G22+G23+G24+G25+G26+G27)) -> 12.372624 | Q27: =SUM((L3+L4+L5+L6+L7+L8+L9+L10+L11+L12+L13+L14+L15+L16+L17+L18+L19+L20+L21+L22+L23+L24+L25+L26+L27)/(K3+K4+K5+K6+K7+K8+K9+K10+K11+K12+K13+K14+K15+K16+K17+K18+K19+K20+K21+K22+K23+K24+K25+K26+K27)) -> 12.346572
K28: =SUM(C28+G28) -> 0 | L28: =SUM(D28+H28) -> 0 | M28: =SUM(D28/C28) -> #DIV/0! | N28: =SUM(H28/G28) -> #DIV/0! | O28: =SUM(L28/K28) -> #DIV/0! | P28: =SUM((D4+D5+D6+D7+D8+D9+D10+D11+D12+D13+D14+D15+D16+D17+D18+D19+D20+D21+D22+D23+D24+D25+D26+D27+D28+H4+H5+H6+H7+H8+H9+H10+H11+H12+H13+H14+H15+H16+H17+H18+H19+H20+H21+H22+H23+H24+H25+H26+H27+H28)/(C4+C5+C6+C7+C8+C9+C10+C11+C12+C13+C14+C15+C16+C17+C18+C19+C20+C21+C22+C23+C24+C25+C26+C27+C28+G4+G5+G6+G7+G8+G9+G10+G11+G12+G13+G14+G15+G16+G17+G18+G19+G20+G21+G22+G23+G24+G25+G26+G27+G28)) -> 12.372624 | Q28: =SUM((L3+L4+L5+L6+L7+L8+L9+L10+L11+L12+L13+L14+L15+L16+L17+L18+L19+L20+L21+L22+L23+L24+L25+L26+L27+L28)/(K3+K4+K5+K6+K7+K8+K9+K10+K11+K12+K13+K14+K15+K16+K17+K18+K19+K20+K21+K22+K23+K24+K25+K26+K27+K28)) -> 12.346572
K29: =SUM(C29+G29) -> 0 | L29: =SUM(D29+H29) -> 0 | M29: =SUM(D29/C29) -> #DIV/0! | N29: =SUM(H29/G29) -> #DIV/0! | O29: =SUM(L29/K29) -> #DIV/0! | P29: =SUM((D4+D5+D6+D7+D8+D9+D10+D11+D12+D13+D14+D15+D16+D17+D18+D19+D20+D21+D22+D23+D24+D25+D26+D27+D28+D29+H4+H5+H6+H7+H8+H9+H10+H11+H12+H13+H14+H15+H16+H17+H18+H19+H20+H21+H22+H23+H24+H25+H26+H27+H28+H29)/(C4+C5+C6+C7+C8+C9+C10+C11+C12+C13+C14+C15+C16+C17+C18+C19+C20+C21+C22+C23+C24+C25+C26+C27+C28+C29+G4+G5+G6+G7+G8+G9+G10+G11+G12+G13+G14+G15+G16+G17+G18+G19+G20+G21+G22+G23+G24+G25+G26+G27+G28+G29)) -> 12.372624 | Q29: =SUM((L3+L4+L5+L6+L7+L8+L9+L10+L11+L12+L13+L14+L15+L16+L17+L18+L19+L20+L21+L22+L23+L24+L25+L26+L27+L28+L29)/(K3+K4+K5+K6+K7+K8+K9+K10+K11+K12+K13+K14+K15+K16+K17+K18+K19+K20+K21+K22+K23+K24+K25+K26+K27+K28+K29)) -> 12.346572
K30: =SUM(C30+G30) -> 0 | L30: =SUM(D30+H30) -> 0 | M30: =SUM(D30/C30) -> #DIV/0! | N30: =SUM(H30/G30) -> #DIV/0! | O30: =SUM(L30/K30) -> #DIV/0! | P30: =SUM((D4+D5+D6+D7+D8+D9+D10+D11+D12+D13+D14+D15+D16+D17+D18+D19+D20+D21+D22+D23+D24+D25+D26+D27+D28+D29+D30+H4+H5+H6+H7+H8+H9+H10+H11+H12+H13+H14+H15+H16+H17+H18+H19+H20+H21+H22+H23+H24+H25+H26+H27+H28+H29+H30)/(C4+C5+C6+C7+C8+C9+C10+C11+C12+C13+C14+C15+C16+C17+C18+C19+C20+C21+C22+C23+C24+C25+C26+C27+C28+C29+C30+G4+G5+G6+G7+G8+G9+G10+G11+G12+G13+G14+G15+G16+G17+G18+G19+G20+G21+G22+G23+G24+G25+G26+G27+G28+G29+G30)) -> 12.372624 | Q30: =SUM((L3+L4+L5+L6+L7+L8+L9+L10+L11+L12+L13+L14+L15+L16+L17+L18+L19+L20+L21+L22+L23+L24+L25+L26+L27+L28+L29+L30)/(K3+K4+K5+K6+K7+K8+K9+K10+K11+K12+K13+K14+K15+K16+K17+K18+K19+K20+K21+K22+K23+K24+K25+K26+K27+K28+K29+K30)) -> 12.346572
A33: LEAGUE AVERAGE | C33: =Q30 -> 12.346572 | E33: =COUNTA(E4:E30) -> 1 | F33: =COUNTA(F4:F30) -> 3 | I33: =COUNTA(I4:I30) -> 3 | J33: =COUNTA(J4:J30) -> 1 | K33: =SUM(K3:K30) -> 304.133 | L33: =SUM(L3:L30) -> 3755
A35: Kyle Smith
B36: Beginning Avg | C36: =SUM(D36/9.42) -> 53.184713 | D36: 501 | K36: =C36 -> 53.184713 | L36: 501 | M36: =SUM(D36/C36) -> 9.42 | N36: =SUM(H36/G36) -> #DIV/0! | O36: =SUM(L36/K36) -> 9.42 | P36: =SUM((D36+H36)/(C36+G36)) -> 9.42 | Q36: =SUM(L36/K36) -> 9.42
B37: 46282 | C37: 65 | D37: 501 | E37: X | G37: 33 | H37: 301 | I37: X | K37: =SUM(C37+G37) -> 98 | L37: =SUM(D37+H37) -> 802 | M37: =SUM(D37/C37) -> 7.7076923 | N37: =SUM(H37/G37) -> 9.1212121 | O37: =SUM(L37/K37) -> 8.1836735 | P37: =SUM((D37+H37)/(C37+G37)) -> 8.1836735 | Q37: =SUM((L36+L37)/(K36+K37)) -> 8.6185962
B38: =SUM(B37+7) -> 46289 | C38: 39 | D38: 440 | F38: X | G38: 45 | H38: 318 | J38: X | K38: =SUM(C38+G38) -> 84 | L38: =SUM(D38+H38) -> 758 | M38: =SUM(D38/C38) -> 11.282051 | N38: =SUM(H38/G38) -> 7.0666667 | O38: =SUM(L38/K38) -> 9.0238095 | P38: =SUM((D37+D38+H37+H38)/(C37+C38+G37+G38)) -> 8.5714286 | Q38: =SUM((L36+L37+L38)/(K36+K37+K38)) -> 8.7633247
B39: =SUM(B38+7) -> 46296 | C39: 43 | D39: 501 | E39: X | G39: 18 | H39: 271 | J39: X | K39: =SUM(C39+G39) -> 61 | L39: =SUM(D39+H39) -> 772 | M39: =SUM(D39/C39) -> 11.651163 | N39: =SUM(H39/G39) -> 15.055556 | O39: =SUM(L39/K39) -> 12.655738 | P39: =SUM((D37+D38+D39+H37+H38+H39)/(C37+C38+C39+G37+G38+G39)) -> 9.5967078 | Q39: =SUM((L36+L37+L38+L39)/(K36+K37+K38+K39)) -> 9.5649771
B40: =SUM(B39+7) -> 46303 | C40: 33 | D40: 492 | F40: X | G40: 30 | H40: 293 | J40: X | K40: =SUM(C40+G40) -> 63 | L40: =SUM(D40+H40) -> 785 | M40: =SUM(D40/C40) -> 14.909091 | N40: =SUM(H40/G40) -> 9.7666667 | O40: =SUM(L40/K40) -> 12.460317 | P40: =SUM((D37+D38+D39+D40+H37+H38+H39+H40)/(C37+C38+C39+C40+G37+G38+G39+G40)) -> 10.186275 | Q40: =SUM((L36+L37+L38+L39+L40)/(K36+K37+K38+K39+K40)) -> 10.072812
B41: =SUM(B40+7) -> 46310 | C41: 36 | D41: 501 | E41: X | G41: 21 | H41: 291 | J41: X | K41: =SUM(C41+G41) -> 57 | L41: =SUM(D41+H41) -> 792 | M41: =SUM(D41/C41) -> 13.916667 | N41: =SUM(H41/G41) -> 13.857143 | O41: =SUM(L41/K41) -> 13.894737 | P41: =SUM((D37+D38+D39+D40+D41+H37+H38+H39+H40+H41)/(C37+C38+C39+C40+C41+G37+G38+G39+G40+G41)) -> 10.768595 | Q41: =SUM((L36+L37+L38+L39+L40+L41)/(K36+K37+K38+K39+K40+K41)) -> 10.596257
B42: =SUM(B41+7) -> 46317 | C42: 42 | D42: 572 | F42: X | G42: 31 | H42: 337 | I42: X | K42: =SUM(C42+G42) -> 73 | L42: =SUM(D42+H42) -> 909 | M42: =SUM(D42/C42) -> 13.619048 | N42: =SUM(H42/G42) -> 10.870968 | O42: =SUM(L42/K42) -> 12.452055 | P42: =SUM((D37+D38+D39+D40+D41+D42+H37+H38+H39+H40+H41+H42)/(C37+C38+C39+C40+C41+C42+G37+G38+G39+G40+G41+G42)) -> 11.050459 | Q42: =SUM((L36+L37+L38+L39+L40+L41+L42)/(K36+K37+K38+K39+K40+K41+K42)) -> 10.873193
B43: =SUM(B42+7) -> 46324 | K43: =SUM(C43+G43) -> 0 | L43: =SUM(D43+H43) -> 0 | M43: =SUM(D43/C43) -> #DIV/0! | N43: =SUM(H43/G43) -> #DIV/0! | O43: =SUM(L43/K43) -> #DIV/0! | P43: =SUM((D37+D38+D39+D40+D41+D42+D43+H37+H38+H39+H40+H41+H42+H43)/(C37+C38+C39+C40+C41+C42+C43+G37+G38+G39+G40+G41+G42+G43)) -> 11.050459 | Q43: =SUM((L36+L37+L38+L39+L40+L41+L42+L43)/(K36+K37+K38+K39+K40+K41+K42+K43)) -> 10.873193
...

Sheet Dartin and Boozin
A1: NAME | B1: DATE | C1: 501 DARTS THROWN | D1: 501 POINTS | E1: WIN? | F1: LOSS? | G1: 301 DARTS THROWN | H1: 301 POINTS | I1: WIN? | J1: LOSS? | K1: TOTAL DARTS THROWN | L1: TOTAL POINTS | M1: 501 AVERAGE | N1: 301 AVERAGE | O1: MATCH AVERAGE | P1: WEEKLY AVERAGE | Q1: RAW HANDICAP
A2: Brittney Pratt
B3: Beginning Avg | C3: =SUM(D3/10.57) -> 47.398297 | D3: 501 | K3: =C3 -> 47.398297 | L3: 501 | M3: =SUM(D3/C3) -> 10.57 | N3: =SUM(H3/G3) -> #DIV/0! | O3: =SUM(L3/K3) -> 10.57 | P3: =SUM((D3+H3)/(C3+G3)) -> 10.57 | Q3: =SUM(L3/K3) -> 10.57
B4: 46282 | C4: 40 | D4: 501 | E4: X | G4: 45 | H4: 297 | J4: X | K4: =SUM(C4+G4) -> 85 | L4: =SUM(D4+H4) -> 798 | M4: =SUM(D4/C4) -> 12.525 | N4: =SUM(H4/G4) -> 6.6 | O4: =SUM(L4/K4) -> 9.3882353 | P4: =SUM((D4+H4)/(C4+G4)) -> 9.3882353 | Q4: =SUM((L3+L4)/(K3+K4)) -> 9.8113044
B5: =SUM(B4+7) -> 46289 | C5: 33 | D5: 442 | F5: X | G5: 48 | H5: 299 | J5: X | K5: =SUM(C5+G5) -> 81 | L5: =SUM(D5+H5) -> 741 | M5: =SUM(D5/C5) -> 13.393939 | N5: =SUM(H5/G5) -> 6.2291667 | O5: =SUM(L5/K5) -> 9.1481481 | P5: =SUM((D4+D5+H4+H5)/(C4+C5+G4+G5)) -> 9.2710843 | Q5: =SUM((L3+L4+L5)/(K3+K4+K5)) -> 9.5595889
B6: =SUM(B5+7) -> 46296 | C6: 54 | D6: 501 | E6: X | G6: 51 | H6: 305 | J6: X | K6: =SUM(C6+G6) -> 105 | L6: =SUM(D6+H6) -> 806 | M6: =SUM(D6/C6) -> 9.2777778 | N6: =SUM(H6/G6) -> 5.9803922 | O6: =SUM(L6/K6) -> 7.6761905 | P6: =SUM((D4+D5+D6+H4+H5+H6)/(C4+C5+C6+G4+G5+G6)) -> 8.6531365 | Q6: =SUM((L3+L4+L5+L6)/(K3+K4+K5+K6)) -> 8.93849
B7: =SUM(B6+7) -> 46303 | C7: 30 | D7: 501 | E7: X | G7: 36 | H7: 301 | I7: X | K7: =SUM(C7+G7) -> 66 | L7: =SUM(D7+H7) -> 802 | M7: =SUM(D7/C7) -> 16.7 | N7: =SUM(H7/G7) -> 8.3611111 | O7: =SUM(L7/K7) -> 12.151515 | P7: =SUM((D4+D5+D6+D7+H4+H5+H6+H7)/(C4+C5+C6+C7+G4+G5+G6+G7)) -> 9.3382789 | Q7: =SUM((L3+L4+L5+L6+L7)/(K3+K4+K5+K6+K7)) -> 9.4901565
B8: =SUM(B7+7) -> 46310 | C8: 33 | D8: 501 | E8: X | G8: 19 | H8: 301 | I8: X | K8: =SUM(C8+G8) -> 52 | L8: =SUM(D8+H8) -> 802 | M8: =SUM(D8/C8) -> 15.181818 | N8: =SUM(H8/G8) -> 15.842105 | O8: =SUM(L8/K8) -> 15.423077 | P8: =SUM((D4+D5+D6+D7+D8+H4+H5+H6+H7+H8)/(C4+C5+C6+C7+C8+G4+G5+G6+G7+G8)) -> 10.151671 | Q8: =SUM((L3+L4+L5+L6+L7+L8)/(K3+K4+K5+K6+K7+K8)) -> 10.197107
B9: =SUM(B8+7) -> 46317 | C9: 42 | D9: 581 | E9: X | G9: 22 | H9: 301 | I9: X | K9: =SUM(C9+G9) -> 64 | L9: =SUM(D9+H9) -> 882 | M9: =SUM(D9/C9) -> 13.833333 | N9: =SUM(H9/G9) -> 13.681818 | O9: =SUM(L9/K9) -> 13.78125 | P9: =SUM((D4+D5+D6+D7+D8+D9+H4+H5+H6+H7+H8+H9)/(C4+C5+C6+C7+C8+C9+G4+G5+G6+G7+G8+G9)) -> 10.664459 | Q9: =SUM((L3+L4+L5+L6+L7+L8+L9)/(K3+K4+K5+K6+K7+K8+K9)) -> 10.655512
B10: =SUM(B9+7) -> 46324 | K10: =SUM(C10+G10) -> 0 | L10: =SUM(D10+H10) -> 0 | M10: =SUM(D10/C10) -> #DIV/0! | N10: =SUM(H10/G10) -> #DIV/0! | O10: =SUM(L10/K10) -> #DIV/0! | P10: =SUM((D4+D5+D6+D7+D8+D9+D10+H4+H5+H6+H7+H8+H9+H10)/(C4+C5+C6+C7+C8+C9+C10+G4+G5+G6+G7+G8+G9+G10)) -> 10.664459 | Q10: =SUM((L3+L4+L5+L6+L7+L8+L9+L10)/(K3+K4+K5+K6+K7+K8+K9+K10)) -> 10.655512
B11: =SUM(B10+7) -> 46331 | K11: =SUM(C11+G11) -> 0 | L11: =SUM(D11+H11) -> 0 | M11: =SUM(D11/C11) -> #DIV/0! | N11: =SUM(H11/G11) -> #DIV/0! | O11: =SUM(L11/K11) -> #DIV/0! | P11: =SUM((D4+D5+D6+D7+D8+D9+D10+D11+H4+H5+H6+H7+H8+H9+H10+H11)/(C4+C5+C6+C7+C8+C9+C10+C11+G4+G5+G6+G7+G8+G9+G10+G11)) -> 10.664459 | Q11: =SUM((L3+L4+L5+L6+L7+L8+L9+L10+L11)/(K3+K4+K5+K6+K7+K8+K9+K10+K11)) -> 10.655512
B12: =SUM(B11+7) -> 46338 | K12: =SUM(C12+G12) -> 0 | L12: =SUM(D12+H12) -> 0 | M12: =SUM(D12/C12) -> #DIV/0! | N12: =SUM(H12/G12) -> #DIV/0! | O12: =SUM(L12/K12) -> #DIV/0! | P12: =SUM((D4+D5+D6+D7+D8+D9+D10+D11+D12+H4+H5+H6+H7+H8+H9+H10+H11+H12)/(C4+C5+C6+C7+C8+C9+C10+C11+C12+G4+G5+G6+G7+G8+G9+G10+G11+G12)) -> 10.664459 | Q12: =SUM((L3+L4+L5+L6+L7+L8+L9+L10+L11+L12)/(K3+K4+K5+K6+K7+K8+K9+K10+K11+K12)) -> 10.655512
B13: =SUM(B12+7) -> 46345 | K13: =SUM(C13+G13) -> 0 | L13: =SUM(D13+H13) -> 0 | M13: =SUM(D13/C13) -> #DIV/0! | N13: =SUM(H13/G13) -> #DIV/0! | O13: =SUM(L13/K13) -> #DIV/0! | P13: =SUM((D4+D5+D6+D7+D8+D9+D10+D11+D12+D13+H4+H5+H6+H7+H8+H9+H10+H11+H12+H13)/(C4+C5+C6+C7+C8+C9+C10+C11+C12+C13+G4+G5+G6+G7+G8+G9+G10+G11+G12+G13)) -> 10.664459 | Q13: =SUM((L3+L4+L5+L6+L7+L8+L9+L10+L11+L12+L13)/(K3+K4+K5+K6+K7+K8+K9+K10+K11+K12+K13)) -> 10.655512
B14: =SUM(B13+7) -> 46352 | K14: =SUM(C14+G14) -> 0 | L14: =SUM(D14+H14) -> 0 | M14: =SUM(D14/C14) -> #DIV/0! | N14: =SUM(H14/G14) -> #DIV/0! | O14: =SUM(L14/K14) -> #DIV/0! | P14: =SUM((D4+D5+D6+D7+D8+D9+D10+D11+D12+D13+D14+H4+H5+H6+H7+H8+H9+H10+H11+H12+H13+H14)/(C4+C5+C6+C7+C8+C9+C10+C11+C12+C13+C14+G4+G5+G6+G7+G8+G9+G10+G11+G12+G13+G14)) -> 10.664459 | Q14: =SUM((L3+L4+L5+L6+L7+L8+L9+L10+L11+L12+L13+L14)/(K3+K4+K5+K6+K7+K8+K9+K10+K11+K12+K13+K14)) -> 10.655512
